BEGIN:VCALENDAR
VERSION:2.0
PRODID:-//Visit Oxford MS - ECPv6.7.0//NONSGML v1.0//EN
CALSCALE:GREGORIAN
METHOD:PUBLISH
X-ORIGINAL-URL:http://visitoxfordms.com.cft1.a2hosted.com
X-WR-CALDESC:Events for Visit Oxford MS
REFRESH-INTERVAL;VALUE=DURATION:PT1H
X-Robots-Tag:noindex
X-PUBLISHED-TTL:PT1H
BEGIN:VTIMEZONE
TZID:America/Chicago
BEGIN:DAYLIGHT
TZOFFSETFROM:-0600
TZOFFSETTO:-0500
TZNAME:CDT
DTSTART:20240310T080000
END:DAYLIGHT
BEGIN:STANDARD
TZOFFSETFROM:-0500
TZOFFSETTO:-0600
TZNAME:CST
DTSTART:20241103T070000
END:STANDARD
END:VTIMEZONE
BEGIN:VEVENT
DTSTART;TZID=America/Chicago:20240106T140000
DTEND;TZID=America/Chicago:20240106T153000
DTSTAMP:20260425T093907
CREATED:20240102T215403Z
LAST-MODIFIED:20240102T215403Z
UID:10000316-1704549600-1704555000@visitoxfordms.com.cft1.a2hosted.com
SUMMARY:Theatre Oxford presents The Exonerated
DESCRIPTION:Winner of the 2003 Drama Desk\, Outer Critic’s\, and Lucille Lortel Awards\, as well as on the National Association of Criminal Defense Lawyers’ Champion of Justice Award: The Exoneratedshares six true stories of survivors of death row culled from interviews\, letters\, transcripts\, case files\, and public records. Please join us for a Q & A with Tucker Carrington\, J.D.\, founder of the Mississippi Innocence Project after the 2 PM showing. The show is appropriate for adult audiences.
URL:http://visitoxfordms.com.cft1.a2hosted.com/event/theatre-oxford-presents-the-exonerated/
LOCATION:The Powerhouse\, Oxford\, MS\, 38655
CATEGORIES:Film,Performing Arts
GEO:34.3664951;-89.5192484
END:VEVENT
END:VCALENDAR