BEGIN:VCALENDAR
VERSION:2.0
PRODID:-//Visit Oxford MS - ECPv6.7.0//NONSGML v1.0//EN
CALSCALE:GREGORIAN
METHOD:PUBLISH
X-ORIGINAL-URL:http://visitoxfordms.com.cft1.a2hosted.com
X-WR-CALDESC:Events for Visit Oxford MS
REFRESH-INTERVAL;VALUE=DURATION:PT1H
X-Robots-Tag:noindex
X-PUBLISHED-TTL:PT1H
BEGIN:VTIMEZONE
TZID:America/Chicago
BEGIN:DAYLIGHT
TZOFFSETFROM:-0600
TZOFFSETTO:-0500
TZNAME:CDT
DTSTART:20240310T080000
END:DAYLIGHT
BEGIN:STANDARD
TZOFFSETFROM:-0500
TZOFFSETTO:-0600
TZNAME:CST
DTSTART:20241103T070000
END:STANDARD
END:VTIMEZONE
BEGIN:VEVENT
DTSTART;TZID=America/Chicago:20241211T190000
DTEND;TZID=America/Chicago:20241211T190000
DTSTAMP:20260422T132916
CREATED:20241203T201628Z
LAST-MODIFIED:20241203T201900Z
UID:10000621-1733943600-1733943600@visitoxfordms.com.cft1.a2hosted.com
SUMMARY:Oxford Film Festival Hosts Free Screening of Alumni Film ‘Seeing Is Believing’
DESCRIPTION:
URL:http://visitoxfordms.com.cft1.a2hosted.com/event/oxford-film-festival-hosts-free-screening-of-alumni-film-seeing-is-believing/
LOCATION:Malco Oxford Commons\, 206 Commonwealth Blvd.\, Oxford\, MS\, 38655
CATEGORIES:Film,Free
ATTACH;FMTTYPE=image/png:http://visit-oxford.s3.amazonaws.com/wp-content/uploads/2024/12/03141309/Screenshot-2024-12-03-at-11.12.12%E2%80%AFAM.png
GEO:34.3732138;-89.4957299
X-APPLE-STRUCTURED-LOCATION;VALUE=URI;X-ADDRESS=Malco Oxford Commons 206 Commonwealth Blvd. Oxford MS 38655;X-APPLE-RADIUS=500;X-TITLE=206 Commonwealth Blvd.:geo:-89.4957299,34.3732138
END:VEVENT
END:VCALENDAR