BEGIN:VCALENDAR
VERSION:2.0
PRODID:-//Visit Oxford MS - ECPv6.7.0//NONSGML v1.0//EN
CALSCALE:GREGORIAN
METHOD:PUBLISH
X-ORIGINAL-URL:http://visitoxfordms.com.cft1.a2hosted.com
X-WR-CALDESC:Events for Visit Oxford MS
REFRESH-INTERVAL;VALUE=DURATION:PT1H
X-Robots-Tag:noindex
X-PUBLISHED-TTL:PT1H
BEGIN:VTIMEZONE
TZID:America/Chicago
BEGIN:DAYLIGHT
TZOFFSETFROM:-0600
TZOFFSETTO:-0500
TZNAME:CDT
DTSTART:20240310T080000
END:DAYLIGHT
BEGIN:STANDARD
TZOFFSETFROM:-0500
TZOFFSETTO:-0600
TZNAME:CST
DTSTART:20241103T070000
END:STANDARD
END:VTIMEZONE
BEGIN:VEVENT
DTSTART;VALUE=DATE:20240810
DTEND;VALUE=DATE:20240812
DTSTAMP:20260422T074920
CREATED:20240808T192610Z
LAST-MODIFIED:20240808T192610Z
UID:10000250-1723291200-1723377599@visitoxfordms.com.cft1.a2hosted.com
SUMMARY:National Bowling Day
DESCRIPTION:
URL:http://visitoxfordms.com.cft1.a2hosted.com/event/national-bowling-day/
LOCATION:Premier Lanes Entertainment Oxford\, 204 Commonwealth Blvd\, Oxford\, MS\, 38655\, United States
CATEGORIES:Family Friendly,Recreation
ATTACH;FMTTYPE=image/jpeg:http://visit-oxford.s3.amazonaws.com/wp-content/uploads/2024/08/08142401/a05b5d74-28a1-4c72-8921-26cf4afabaa7.jpg
GEO:34.3732138;-89.4957299
X-APPLE-STRUCTURED-LOCATION;VALUE=URI;X-ADDRESS=Premier Lanes Entertainment Oxford 204 Commonwealth Blvd Oxford MS 38655 United States;X-APPLE-RADIUS=500;X-TITLE=204 Commonwealth Blvd:geo:-89.4957299,34.3732138
END:VEVENT
BEGIN:VEVENT
DTSTART;TZID=America/Chicago:20240824T180000
DTEND;TZID=America/Chicago:20240824T180000
DTSTAMP:20260422T074920
CREATED:20240731T162922Z
LAST-MODIFIED:20240731T162922Z
UID:10000204-1724522400-1724522400@visitoxfordms.com.cft1.a2hosted.com
SUMMARY:August Boxing
DESCRIPTION:
URL:http://visitoxfordms.com.cft1.a2hosted.com/event/august-boxing/
LOCATION:The Lyric\, 1006 Van Buren \, Oxford\, MS\, 38655\, United States
CATEGORIES:Recreation
ATTACH;FMTTYPE=image/webp:http://visit-oxford.s3.amazonaws.com/wp-content/uploads/2024/07/31112727/eyJidWNrZXQiOiJwcm9kLXNpaC5zZWV0aWNrZXRzdXNhLnVzIiwia2V5IjoiZjFlOTYxMDEtYzkzZi00OWU1LWE1OWMtOWMyOTQ1OTU0NDRkIiwiZWRpdHMiOnt9fQ.webp
GEO:34.3662931;-89.5209192
X-APPLE-STRUCTURED-LOCATION;VALUE=URI;X-ADDRESS=The Lyric 1006 Van Buren  Oxford MS 38655 United States;X-APPLE-RADIUS=500;X-TITLE=1006 Van Buren:geo:-89.5209192,34.3662931
END:VEVENT
END:VCALENDAR