BEGIN:VCALENDAR
VERSION:2.0
PRODID:-//Visit Oxford MS - ECPv6.7.0//NONSGML v1.0//EN
CALSCALE:GREGORIAN
METHOD:PUBLISH
X-WR-CALNAME:Visit Oxford MS
X-ORIGINAL-URL:http://visitoxfordms.com.cft1.a2hosted.com
X-WR-CALDESC:Events for Visit Oxford MS
REFRESH-INTERVAL;VALUE=DURATION:PT1H
X-Robots-Tag:noindex
X-PUBLISHED-TTL:PT1H
BEGIN:VTIMEZONE
TZID:America/Chicago
BEGIN:DAYLIGHT
TZOFFSETFROM:-0600
TZOFFSETTO:-0500
TZNAME:CDT
DTSTART:20250309T080000
END:DAYLIGHT
BEGIN:STANDARD
TZOFFSETFROM:-0500
TZOFFSETTO:-0600
TZNAME:CST
DTSTART:20251102T070000
END:STANDARD
END:VTIMEZONE
BEGIN:VEVENT
DTSTART;VALUE=DATE:20250307
DTEND;VALUE=DATE:20250311
DTSTAMP:20260420T071004
CREATED:20250204T215905Z
LAST-MODIFIED:20250204T215915Z
UID:10000787-1741348800-1741607999@visitoxfordms.com.cft1.a2hosted.com
SUMMARY:2025 Warming Up Pickleball Tournament
DESCRIPTION:
URL:http://visitoxfordms.com.cft1.a2hosted.com/event/2025-warming-up-pickleball-tournament/
LOCATION:Oxford Activity Center\, 400 Price Street\, Oxford\, MS\, 38655
CATEGORIES:Recreation,Sports
ATTACH;FMTTYPE=image/png:http://visit-oxford.s3.amazonaws.com/wp-content/uploads/2025/02/04155711/Screenshot-2025-02-04-at-3.56.27%E2%80%AFPM.png
GEO:34.3749628;-89.5263919
X-APPLE-STRUCTURED-LOCATION;VALUE=URI;X-ADDRESS=Oxford Activity Center 400 Price Street Oxford MS 38655;X-APPLE-RADIUS=500;X-TITLE=400 Price Street:geo:-89.5263919,34.3749628
END:VEVENT
BEGIN:VEVENT
DTSTART;TZID=America/Chicago:20250321T190000
DTEND;TZID=America/Chicago:20250321T210000
DTSTAMP:20260420T071004
CREATED:20250307T165149Z
LAST-MODIFIED:20250307T165157Z
UID:10000826-1742583600-1742590800@visitoxfordms.com.cft1.a2hosted.com
SUMMARY:Big Top Tease on Tour
DESCRIPTION:
URL:http://visitoxfordms.com.cft1.a2hosted.com/event/big-top-tease-on-tour/
LOCATION:The Powerhouse\, Oxford\, MS\, 38655
CATEGORIES:Performing Arts,Recreation
ATTACH;FMTTYPE=image/png:http://visit-oxford.s3.amazonaws.com/wp-content/uploads/2025/03/07104904/Screenshot-2025-03-07-at-10.45.45%E2%80%AFAM.png
GEO:34.3664951;-89.5192484
END:VEVENT
BEGIN:VEVENT
DTSTART;TZID=America/Chicago:20250329T080000
DTEND;TZID=America/Chicago:20250329T100000
DTSTAMP:20260420T071004
CREATED:20250317T145227Z
LAST-MODIFIED:20250317T145232Z
UID:10000842-1743235200-1743242400@visitoxfordms.com.cft1.a2hosted.com
SUMMARY:CASA Superhero Run
DESCRIPTION:
URL:http://visitoxfordms.com.cft1.a2hosted.com/event/casa-superhero-run/
LOCATION:Avent Park\, Oxford\, MS\, 38655\, United States
CATEGORIES:Family Friendly,Outdoor,Recreation
ATTACH;FMTTYPE=image/png:http://visit-oxford.s3.amazonaws.com/wp-content/uploads/2025/03/17093743/Screenshot-2025-03-17-at-9.37.09%E2%80%AFAM.png
GEO:34.3664951;-89.5192484
END:VEVENT
END:VCALENDAR