BEGIN:VCALENDAR
VERSION:2.0
PRODID:-//Visit Oxford MS - ECPv6.7.0//NONSGML v1.0//EN
CALSCALE:GREGORIAN
METHOD:PUBLISH
X-ORIGINAL-URL:http://visitoxfordms.com.cft1.a2hosted.com
X-WR-CALDESC:Events for Visit Oxford MS
REFRESH-INTERVAL;VALUE=DURATION:PT1H
X-Robots-Tag:noindex
X-PUBLISHED-TTL:PT1H
BEGIN:VTIMEZONE
TZID:America/Chicago
BEGIN:DAYLIGHT
TZOFFSETFROM:-0600
TZOFFSETTO:-0500
TZNAME:CDT
DTSTART:20250309T080000
END:DAYLIGHT
BEGIN:STANDARD
TZOFFSETFROM:-0500
TZOFFSETTO:-0600
TZNAME:CST
DTSTART:20251102T070000
END:STANDARD
END:VTIMEZONE
BEGIN:VEVENT
DTSTART;TZID=America/Chicago:20250614T160000
DTEND;TZID=America/Chicago:20250614T160000
DTSTAMP:20260420T025922
CREATED:20250415T204114Z
LAST-MODIFIED:20250415T204124Z
UID:10000892-1749916800-1749916800@visitoxfordms.com.cft1.a2hosted.com
SUMMARY:Oxford's 2025 Juneteenth Festival
DESCRIPTION:
URL:http://visitoxfordms.com.cft1.a2hosted.com/event/oxfords-2025-juneteenth-festival/
LOCATION:Oxford Intermediate School\, 501 Dr. Martin Luther King Jr. Dr.\, Oxford\, MS
CATEGORIES:Family Friendly,Historic,Outdoor,Recreation
ATTACH;FMTTYPE=image/png:http://visit-oxford.s3.amazonaws.com/wp-content/uploads/2025/04/15145837/Screenshot-2025-04-15-at-2.54.54%E2%80%AFPM.png
GEO:34.3664951;-89.5192484
X-APPLE-STRUCTURED-LOCATION;VALUE=URI;X-ADDRESS=Oxford Intermediate School 501 Dr. Martin Luther King Jr. Dr. Oxford MS;X-APPLE-RADIUS=500;X-TITLE=501 Dr. Martin Luther King Jr. Dr.:geo:-89.5192484,34.3664951
END:VEVENT
BEGIN:VEVENT
DTSTART;TZID=America/Chicago:20250626T090000
DTEND;TZID=America/Chicago:20250627T160000
DTSTAMP:20260420T025922
CREATED:20250505T212825Z
LAST-MODIFIED:20250505T212825Z
UID:10000924-1750928400-1751040000@visitoxfordms.com.cft1.a2hosted.com
SUMMARY:T25 Basketball Camp
DESCRIPTION:
URL:http://visitoxfordms.com.cft1.a2hosted.com/event/t25-basketball-camp/
LOCATION:Oxford Activity Center\, 400 Price Street\, Oxford\, MS\, 38655
CATEGORIES:Recreation,Sports
ATTACH;FMTTYPE=image/png:http://visit-oxford.s3.amazonaws.com/wp-content/uploads/2025/05/05162715/Screenshot-2025-05-05-at-4.26.42%E2%80%AFPM.png
GEO:34.3749628;-89.5263919
X-APPLE-STRUCTURED-LOCATION;VALUE=URI;X-ADDRESS=Oxford Activity Center 400 Price Street Oxford MS 38655;X-APPLE-RADIUS=500;X-TITLE=400 Price Street:geo:-89.5263919,34.3749628
END:VEVENT
END:VCALENDAR