BEGIN:VCALENDAR
VERSION:2.0
PRODID:-//Visit Oxford MS - ECPv6.7.0//NONSGML v1.0//EN
CALSCALE:GREGORIAN
METHOD:PUBLISH
X-ORIGINAL-URL:http://visitoxfordms.com.cft1.a2hosted.com
X-WR-CALDESC:Events for Visit Oxford MS
REFRESH-INTERVAL;VALUE=DURATION:PT1H
X-Robots-Tag:noindex
X-PUBLISHED-TTL:PT1H
BEGIN:VTIMEZONE
TZID:America/Chicago
BEGIN:DAYLIGHT
TZOFFSETFROM:-0600
TZOFFSETTO:-0500
TZNAME:CDT
DTSTART:20250309T080000
END:DAYLIGHT
BEGIN:STANDARD
TZOFFSETFROM:-0500
TZOFFSETTO:-0600
TZNAME:CST
DTSTART:20251102T070000
END:STANDARD
END:VTIMEZONE
BEGIN:VEVENT
DTSTART;VALUE=DATE:20250222
DTEND;VALUE=DATE:20250224
DTSTAMP:20260420T105957
CREATED:20250203T193118Z
LAST-MODIFIED:20250203T194112Z
UID:10000784-1740225600-1740311999@visitoxfordms.com.cft1.a2hosted.com
SUMMARY:Circle & Square Bock Party
DESCRIPTION:
URL:http://visitoxfordms.com.cft1.a2hosted.com/event/circle-square-bock-party/
LOCATION:Circle and Square Brewing Company\, Depot Street\, Oxford\, Mississippi\, 38655\, United States
CATEGORIES:Recreation
ATTACH;FMTTYPE=image/png:http://visit-oxford.s3.amazonaws.com/wp-content/uploads/2025/02/03132623/Screenshot-2025-02-03-at-1.25.45%E2%80%AFPM.png
GEO:34.3680427;-89.5277429
X-APPLE-STRUCTURED-LOCATION;VALUE=URI;X-ADDRESS=Circle and Square Brewing Company Depot Street Oxford Mississippi 38655 United States;X-APPLE-RADIUS=500;X-TITLE=Depot Street:geo:-89.5277429,34.3680427
END:VEVENT
END:VCALENDAR