BEGIN:VCALENDAR
VERSION:2.0
PRODID:-//Visit Oxford MS - ECPv6.7.0//NONSGML v1.0//EN
CALSCALE:GREGORIAN
METHOD:PUBLISH
X-WR-CALNAME:Visit Oxford MS
X-ORIGINAL-URL:http://visitoxfordms.com.cft1.a2hosted.com
X-WR-CALDESC:Events for Visit Oxford MS
REFRESH-INTERVAL;VALUE=DURATION:PT1H
X-Robots-Tag:noindex
X-PUBLISHED-TTL:PT1H
BEGIN:VTIMEZONE
TZID:America/Chicago
BEGIN:DAYLIGHT
TZOFFSETFROM:-0600
TZOFFSETTO:-0500
TZNAME:CDT
DTSTART:20250309T080000
END:DAYLIGHT
BEGIN:STANDARD
TZOFFSETFROM:-0500
TZOFFSETTO:-0600
TZNAME:CST
DTSTART:20251102T070000
END:STANDARD
END:VTIMEZONE
BEGIN:VEVENT
DTSTART;VALUE=DATE:20250510
DTEND;VALUE=DATE:20250512
DTSTAMP:20260419T144857
CREATED:20250505T153929Z
LAST-MODIFIED:20250505T153929Z
UID:10000921-1746878400-1746964799@visitoxfordms.com.cft1.a2hosted.com
SUMMARY:Gia Welch & JD Westmoreland at The Coop
DESCRIPTION:
URL:http://visitoxfordms.com.cft1.a2hosted.com/event/gia-welch-jd-westmoreland-at-the-coop/
LOCATION:The Coop @ The Graduate Hotel\, North Lamar Boulevard\, Oxford\, Mississippi\, 38655\, United States
CATEGORIES:Music
ATTACH;FMTTYPE=image/jpeg:http://visit-oxford.s3.amazonaws.com/wp-content/uploads/2025/05/05103915/JD-Westmoreland.jpg
GEO:34.368733;-89.5178968
X-APPLE-STRUCTURED-LOCATION;VALUE=URI;X-ADDRESS=The Coop @ The Graduate Hotel North Lamar Boulevard Oxford Mississippi 38655 United States;X-APPLE-RADIUS=500;X-TITLE=North Lamar Boulevard:geo:-89.5178968,34.368733
END:VEVENT
BEGIN:VEVENT
DTSTART;VALUE=DATE:20250509
DTEND;VALUE=DATE:20250511
DTSTAMP:20260419T144857
CREATED:20250505T153713Z
LAST-MODIFIED:20250505T153737Z
UID:10000920-1746792000-1746878399@visitoxfordms.com.cft1.a2hosted.com
SUMMARY:Alexis Jade at The Coop
DESCRIPTION:
URL:http://visitoxfordms.com.cft1.a2hosted.com/event/alexis-jade-at-the-coop/
LOCATION:The Coop @ The Graduate Hotel\, North Lamar Boulevard\, Oxford\, Mississippi\, 38655\, United States
ATTACH;FMTTYPE=image/jpeg:http://visit-oxford.s3.amazonaws.com/wp-content/uploads/2025/05/05103701/Alexis-Jade.jpg
GEO:34.368733;-89.5178968
X-APPLE-STRUCTURED-LOCATION;VALUE=URI;X-ADDRESS=The Coop @ The Graduate Hotel North Lamar Boulevard Oxford Mississippi 38655 United States;X-APPLE-RADIUS=500;X-TITLE=North Lamar Boulevard:geo:-89.5178968,34.368733
END:VEVENT
BEGIN:VEVENT
DTSTART;TZID=America/Chicago:20250508T180000
DTEND;TZID=America/Chicago:20250508T210000
DTSTAMP:20260419T144857
CREATED:20250505T151503Z
LAST-MODIFIED:20250505T151503Z
UID:10000917-1746727200-1746738000@visitoxfordms.com.cft1.a2hosted.com
SUMMARY:Karaoke Night at The Jefferson
DESCRIPTION: BIG NEWS! Our First-Ever Karaoke Night at The Jefferson! Get ready to grab the mic and show off your singing skills! Join us on May 8th from 6-9 PM for an unforgettable Karaoke Night!  8 mics available – bring your friends & take the stage! $5 per person at the door OR bring a group of 5+ and pay just $20 total! Cash bar Food trucks Family-friendly fun!We can’t wait to hear some amazing local talent! Whether you’re a shower singer or a rockstar\, this night is for YOU!Tag your crew and come belt it out with us! If we see you tag some friends\, share the post or hang a flyer\, you will be entered to win a free drink from the bar!
URL:http://visitoxfordms.com.cft1.a2hosted.com/event/karaoke-night-at-the-jefferson/
LOCATION:The Jefferson\, 365 Highway 6 East\, Oxford\, MS\, 38655\, United States
ATTACH;FMTTYPE=image/jpeg:http://visit-oxford.s3.amazonaws.com/wp-content/uploads/2025/05/05101446/IMG_5642.jpg
GEO:34.3488249;-89.4481635
X-APPLE-STRUCTURED-LOCATION;VALUE=URI;X-ADDRESS=The Jefferson 365 Highway 6 East Oxford MS 38655 United States;X-APPLE-RADIUS=500;X-TITLE=365 Highway 6 East:geo:-89.4481635,34.3488249
END:VEVENT
BEGIN:VEVENT
DTSTART;VALUE=DATE:20250507
DTEND;VALUE=DATE:20250512
DTSTAMP:20260419T144857
CREATED:20250110T145630Z
LAST-MODIFIED:20250110T145630Z
UID:10000765-1746619200-1746964799@visitoxfordms.com.cft1.a2hosted.com
SUMMARY:Ole Miss Commencement 2025
DESCRIPTION:2025 Commencement Dates Are Live! \n 
URL:http://visitoxfordms.com.cft1.a2hosted.com/event/ole-miss-commencement-2025/
CATEGORIES:Family Friendly
ATTACH;FMTTYPE=image/png:http://visit-oxford.s3.amazonaws.com/wp-content/uploads/2025/01/10085607/Screenshot-2025-01-10-at-8.55.46%E2%80%AFAM.png
END:VEVENT
BEGIN:VEVENT
DTSTART;TZID=America/Chicago:20250506T180000
DTEND;TZID=America/Chicago:20250506T180000
DTSTAMP:20260419T144857
CREATED:20250505T152134Z
LAST-MODIFIED:20250505T152155Z
UID:10000918-1746554400-1746554400@visitoxfordms.com.cft1.a2hosted.com
SUMMARY:Screening of Overlooked
DESCRIPTION:May 6th\nSeating starts at 5:30 pm\nScreening begins a 6 pm\nThe Powerhouse  \nReserve your seat here! The screening is free to attend\, but please let us know you’re coming! \nOverlooked shines a light on the nuanced struggles of autistic women in a neurotypical world. This short documentary consists of interviews with three autistic women as they reflect on their journeys to receiving an autism diagnosis and its impact on their lives. Diagnosed during different stages of life\, these women’s personal accounts reveal an overwhelming lack of resources for autistic people\, especially for women\, people of color\, and members of the LGBTQIA+ community. This documentary gives a voice to the underdiagnosed and underrepresented community of autistic women. \nCatering provided by My Michelle’s\, and there will be a Q&A with the filmmakers after the screening. \nBy proceeding with a ticket purchase\, you acknowledge that it is your personal responsibility to make sure the event aligns with your comfort levels and expectations. Ticket purchasers should independently research and assess the event’s content to determine its suitability for their personal preferences and sensitivities before making a purchase.
URL:http://visitoxfordms.com.cft1.a2hosted.com/event/screening-of-overlooked/
LOCATION:The Powerhouse\, Oxford\, MS\, 38655
ATTACH;FMTTYPE=image/png:http://visit-oxford.s3.amazonaws.com/wp-content/uploads/2025/05/05102116/untitled_design_60.png
GEO:34.3664951;-89.5192484
END:VEVENT
BEGIN:VEVENT
DTSTART;TZID=America/Chicago:20250506T173000
DTEND;TZID=America/Chicago:20250506T180000
DTSTAMP:20260419T144857
CREATED:20250505T151147Z
LAST-MODIFIED:20250505T151147Z
UID:10000916-1746552600-1746554400@visitoxfordms.com.cft1.a2hosted.com
SUMMARY:Release day party: Freida McFadden's The Tenant
DESCRIPTION:Bestselling author Freida McFadden delivers a dark thriller about a rental gone wrong. Because sometimes you don’t need to look far to find danger. Sometimes\, danger lives right at home. \nCalling all Freida Readahs! Join Square Books for a special release day event for The Tenant\, the latest mind-bending thriller from the author of the Housemaid series and many others. \nPLEASE NOTE: This is not an author event\, and Freida McFadden will not be present. \nBuy a copy of The Tenant at any time during the release day (or pick up a pre-order) to receive special The Tenant swag (limited to the first 50 customers) – and be entered into a draw to receive an extra special grand prize! The prize drawing will be held at 5.30pm at the main store\, and you must be present to receive the prize.
URL:http://visitoxfordms.com.cft1.a2hosted.com/event/release-day-party-freida-mcfaddens-the-tenant/
LOCATION:Square Books\, 160 Courthouse Square\, Oxford\, MS\, 38655\, United States
CATEGORIES:Literature
ATTACH;FMTTYPE=image/jpeg:http://visit-oxford.s3.amazonaws.com/wp-content/uploads/2025/05/05101105/IMG_5641.jpg
GEO:34.3662215;-89.5192713
X-APPLE-STRUCTURED-LOCATION;VALUE=URI;X-ADDRESS=Square Books 160 Courthouse Square Oxford MS 38655 United States;X-APPLE-RADIUS=500;X-TITLE=160 Courthouse Square:geo:-89.5192713,34.3662215
END:VEVENT
BEGIN:VEVENT
DTSTART;TZID=America/Chicago:20250506T170000
DTEND;TZID=America/Chicago:20250506T190000
DTSTAMP:20260419T144857
CREATED:20250505T212313Z
LAST-MODIFIED:20250505T212313Z
UID:10000923-1746550800-1746558000@visitoxfordms.com.cft1.a2hosted.com
SUMMARY:Mom & Me Movie Night
DESCRIPTION:
URL:http://visitoxfordms.com.cft1.a2hosted.com/event/mom-me-movie-night/
LOCATION:Coach Howell Center\, Price Street\, Oxford\, MS\, 38655\, United States
CATEGORIES:Family Friendly,Recreation
ATTACH;FMTTYPE=image/png:http://visit-oxford.s3.amazonaws.com/wp-content/uploads/2025/05/05161733/Screenshot-2025-05-05-at-4.16.11%E2%80%AFPM.png
GEO:34.3756671;-89.5260626
X-APPLE-STRUCTURED-LOCATION;VALUE=URI;X-ADDRESS=Coach Howell Center Price Street Oxford MS 38655 United States;X-APPLE-RADIUS=500;X-TITLE=Price Street:geo:-89.5260626,34.3756671
END:VEVENT
BEGIN:VEVENT
DTSTART;TZID=America/Chicago:20250505T180000
DTEND;TZID=America/Chicago:20250505T200000
DTSTAMP:20260419T144857
CREATED:20250505T150629Z
LAST-MODIFIED:20250505T150637Z
UID:10000914-1746468000-1746475200@visitoxfordms.com.cft1.a2hosted.com
SUMMARY:Mahjong Mondays
DESCRIPTION:
URL:http://visitoxfordms.com.cft1.a2hosted.com/event/mahjong-mondays/
LOCATION:The Growler\, 265 N Lamar Suite Y\, Oxford\, MS\, 38655
ATTACH;FMTTYPE=image/jpeg:http://visit-oxford.s3.amazonaws.com/wp-content/uploads/2025/05/05100448/majong-mondays.jpg
GEO:34.367737;-89.5189427
X-APPLE-STRUCTURED-LOCATION;VALUE=URI;X-ADDRESS=The Growler 265 N Lamar Suite Y Oxford MS 38655;X-APPLE-RADIUS=500;X-TITLE=265 N Lamar Suite Y:geo:-89.5189427,34.367737
END:VEVENT
BEGIN:VEVENT
DTSTART;VALUE=DATE:20250505
DTEND;VALUE=DATE:20250507
DTSTAMP:20260419T144857
CREATED:20250505T150944Z
LAST-MODIFIED:20250505T153823Z
UID:10000915-1746446400-1746532799@visitoxfordms.com.cft1.a2hosted.com
SUMMARY:Disco De Mayo
DESCRIPTION:
URL:http://visitoxfordms.com.cft1.a2hosted.com/event/disco-de-mayo/
ATTACH;FMTTYPE=image/jpeg:http://visit-oxford.s3.amazonaws.com/wp-content/uploads/2025/05/05100929/IMG_5640.jpg
END:VEVENT
BEGIN:VEVENT
DTSTART;TZID=America/Chicago:20250504T150000
DTEND;TZID=America/Chicago:20250504T170000
DTSTAMP:20260419T144857
CREATED:20250107T180830Z
LAST-MODIFIED:20250402T221056Z
UID:10000694-1746370800-1746378000@visitoxfordms.com.cft1.a2hosted.com
SUMMARY:Oxford Civic Chorus
DESCRIPTION:Free Admission!
URL:http://visitoxfordms.com.cft1.a2hosted.com/event/oxford-civic-chorus-2/
LOCATION:All Saints Episcopal Church\, West Jefferson Street\, Tupelo\, Mississippi\, 38804\, United States
CATEGORIES:Music
ATTACH;FMTTYPE=image/png:http://visit-oxford.s3.amazonaws.com/wp-content/uploads/2025/01/02170805/Screenshot-2025-04-02-at-5.04.21%E2%80%AFPM.png
GEO:34.2593823;-88.7120567
X-APPLE-STRUCTURED-LOCATION;VALUE=URI;X-ADDRESS=All Saints Episcopal Church West Jefferson Street Tupelo Mississippi 38804 United States;X-APPLE-RADIUS=500;X-TITLE=West Jefferson Street:geo:-88.7120567,34.2593823
END:VEVENT
BEGIN:VEVENT
DTSTART;TZID=America/Chicago:20250504T140000
DTEND;TZID=America/Chicago:20250504T160000
DTSTAMP:20260419T144857
CREATED:20250422T193922Z
LAST-MODIFIED:20250423T215600Z
UID:10000906-1746367200-1746374400@visitoxfordms.com.cft1.a2hosted.com
SUMMARY:Cedar Oaks MayFest
DESCRIPTION:Live Music by Greg Johnson and Shaundi Wall \nRain or Shine!
URL:http://visitoxfordms.com.cft1.a2hosted.com/event/cedar-oaks-mayfest/
LOCATION:Cedar Oaks\, 601 Murray Dr.\, Oxford\, MS\, 38655\, United States
CATEGORIES:Free
GEO:34.3777211;-89.5009969
X-APPLE-STRUCTURED-LOCATION;VALUE=URI;X-ADDRESS=Cedar Oaks 601 Murray Dr. Oxford MS 38655 United States;X-APPLE-RADIUS=500;X-TITLE=601 Murray Dr.:geo:-89.5009969,34.3777211
END:VEVENT
BEGIN:VEVENT
DTSTART;TZID=America/Chicago:20250503T210000
DTEND;TZID=America/Chicago:20250503T230000
DTSTAMP:20260419T144857
CREATED:20250428T150053Z
LAST-MODIFIED:20250428T150058Z
UID:10000910-1746306000-1746313200@visitoxfordms.com.cft1.a2hosted.com
SUMMARY:Logan Crosby
DESCRIPTION:
URL:http://visitoxfordms.com.cft1.a2hosted.com/event/logan-crosby/
LOCATION:Proud Larry’s\, Oxford\, MS\, MS\, United States
ATTACH;FMTTYPE=image/png:http://visit-oxford.s3.amazonaws.com/wp-content/uploads/2025/04/28095951/Screenshot-2025-04-28-at-9.58.41-AM.png
GEO:34.3664951;-89.5192484
END:VEVENT
BEGIN:VEVENT
DTSTART;TZID=America/Chicago:20250503T150000
DTEND;TZID=America/Chicago:20250503T170000
DTSTAMP:20260419T144857
CREATED:20250107T180410Z
LAST-MODIFIED:20250402T220839Z
UID:10000693-1746284400-1746291600@visitoxfordms.com.cft1.a2hosted.com
SUMMARY:Oxford Civic Chorus
DESCRIPTION:Free Admission!
URL:http://visitoxfordms.com.cft1.a2hosted.com/event/oxford-civic-chorus/
LOCATION:David H. Nutt Auditorium\, Oxford\, MS\, 38655
ATTACH;FMTTYPE=image/png:http://visit-oxford.s3.amazonaws.com/wp-content/uploads/2025/01/02170805/Screenshot-2025-04-02-at-5.04.21%E2%80%AFPM.png
GEO:34.3664951;-89.5192484
END:VEVENT
BEGIN:VEVENT
DTSTART;TZID=America/Chicago:20250503T090000
DTEND;TZID=America/Chicago:20250504T000000
DTSTAMP:20260419T144857
CREATED:20250404T143826Z
LAST-MODIFIED:20250404T143831Z
UID:10000879-1746262800-1746316800@visitoxfordms.com.cft1.a2hosted.com
SUMMARY:Paddles in the Park
DESCRIPTION:
URL:http://visitoxfordms.com.cft1.a2hosted.com/event/paddles-in-the-park/
LOCATION:Avent Park\, Oxford\, MS\, 38655\, United States
CATEGORIES:Recreation,Sports
ATTACH;FMTTYPE=image/png:http://visit-oxford.s3.amazonaws.com/wp-content/uploads/2025/04/04093639/Screenshot-2025-04-04-at-9.35.11%E2%80%AFAM.png
GEO:34.3664951;-89.5192484
END:VEVENT
BEGIN:VEVENT
DTSTART;TZID=America/Chicago:20250503T090000
DTEND;TZID=America/Chicago:20250503T120000
DTSTAMP:20260419T144857
CREATED:20250423T151426Z
LAST-MODIFIED:20250423T151503Z
UID:10000907-1746262800-1746273600@visitoxfordms.com.cft1.a2hosted.com
SUMMARY:Truckapalooza
DESCRIPTION:
URL:http://visitoxfordms.com.cft1.a2hosted.com/event/truckapalooza-2/
LOCATION:Oxford Conference Center\, 102 Ed Perry Blvd\, Oxford\, MS\, 38655\, United States
CATEGORIES:Family Friendly,Fundraiser,Outdoor
ATTACH;FMTTYPE=image/jpeg:http://visit-oxford.s3.amazonaws.com/wp-content/uploads/2025/04/23100958/473780525_18480903451059714_7848685446683340112_n.jpg
GEO:34.3715376;-89.499527
X-APPLE-STRUCTURED-LOCATION;VALUE=URI;X-ADDRESS=Oxford Conference Center 102 Ed Perry Blvd Oxford MS 38655 United States;X-APPLE-RADIUS=500;X-TITLE=102 Ed Perry Blvd:geo:-89.499527,34.3715376
END:VEVENT
BEGIN:VEVENT
DTSTART;TZID=America/Chicago:20250502T190000
DTEND;TZID=America/Chicago:20250502T220000
DTSTAMP:20260419T144857
CREATED:20250325T161922Z
LAST-MODIFIED:20250325T161922Z
UID:10000857-1746212400-1746223200@visitoxfordms.com.cft1.a2hosted.com
SUMMARY:Saint John's Drawdown
DESCRIPTION:
URL:http://visitoxfordms.com.cft1.a2hosted.com/event/saint-johns-drawdown/
LOCATION:Oxford Conference Center\, 102 Ed Perry Blvd\, Oxford\, MS\, 38655\, United States
ATTACH;FMTTYPE=image/jpeg:http://visit-oxford.s3.amazonaws.com/wp-content/uploads/2025/03/25111654/484828413_961993269412790_7588422251189830985_n.png.jpeg
GEO:34.3715376;-89.499527
X-APPLE-STRUCTURED-LOCATION;VALUE=URI;X-ADDRESS=Oxford Conference Center 102 Ed Perry Blvd Oxford MS 38655 United States;X-APPLE-RADIUS=500;X-TITLE=102 Ed Perry Blvd:geo:-89.499527,34.3715376
END:VEVENT
BEGIN:VEVENT
DTSTART;TZID=America/Chicago:20250502T180000
DTEND;TZID=America/Chicago:20250502T203000
DTSTAMP:20260419T144857
CREATED:20250328T145513Z
LAST-MODIFIED:20250328T145513Z
UID:10000864-1746208800-1746217800@visitoxfordms.com.cft1.a2hosted.com
SUMMARY:Southern Culture Spring Documentary Showcase
DESCRIPTION:
URL:http://visitoxfordms.com.cft1.a2hosted.com/event/southern-culture-spring-documentary-showcase/
LOCATION:Barnard Observatory\, University of Mississippi\, Oxford\, MS\, 38655\, United States
CATEGORIES:Film,Free,Southern Studies
ATTACH;FMTTYPE=image/png:http://visit-oxford.s3.amazonaws.com/wp-content/uploads/2025/03/28095338/Showcase-Banner-SP25.png
GEO:34.3681689;-89.5370043
X-APPLE-STRUCTURED-LOCATION;VALUE=URI;X-ADDRESS=Barnard Observatory University of Mississippi Oxford MS 38655 United States;X-APPLE-RADIUS=500;X-TITLE=University of Mississippi:geo:-89.5370043,34.3681689
END:VEVENT
BEGIN:VEVENT
DTSTART;TZID=America/Chicago:20250501T193000
DTEND;TZID=America/Chicago:20250501T193000
DTSTAMP:20260419T144857
CREATED:20250411T205057Z
LAST-MODIFIED:20250428T181348Z
UID:10000888-1746127800-1746127800@visitoxfordms.com.cft1.a2hosted.com
SUMMARY:UM Music & Ole Miss Band present Wind Ensemble & Campus Band Spring Concert
DESCRIPTION:
URL:http://visitoxfordms.com.cft1.a2hosted.com/event/wind-ensemble-spring-concert-2/
LOCATION:Gertrude Castellow Ford Center for the Performing Arts\, 351 University Ave.\, Oxford\, MS\, 38655\, United States
CATEGORIES:Music,Performing Arts
ATTACH;FMTTYPE=image/png:http://visit-oxford.s3.amazonaws.com/wp-content/uploads/2025/04/28131249/Screenshot-2025-04-28-at-1.11.33%E2%80%AFPM.png
GEO:34.3654343;-89.5288993
X-APPLE-STRUCTURED-LOCATION;VALUE=URI;X-ADDRESS=Gertrude Castellow Ford Center for the Performing Arts 351 University Ave. Oxford MS 38655 United States;X-APPLE-RADIUS=500;X-TITLE=351 University Ave.:geo:-89.5288993,34.3654343
END:VEVENT
BEGIN:VEVENT
DTSTART;TZID=America/Chicago:20250501T121500
DTEND;TZID=America/Chicago:20250501T121500
DTSTAMP:20260419T144857
CREATED:20250428T182854Z
LAST-MODIFIED:20250428T182903Z
UID:10000912-1746101700-1746101700@visitoxfordms.com.cft1.a2hosted.com
SUMMARY:UM Music & Bryant Hall present the Noontime Music Series
DESCRIPTION:
URL:http://visitoxfordms.com.cft1.a2hosted.com/event/um-music-bryant-hall-present-the-noontime-music-series/
LOCATION:Bryant Hall\, Oxford\, MS\, 38677
CATEGORIES:Free,Music
ATTACH;FMTTYPE=image/png:http://visit-oxford.s3.amazonaws.com/wp-content/uploads/2025/04/28132730/Screenshot-2025-04-28-at-1.14.09%E2%80%AFPM.png
GEO:34.367641;-89.5391483
END:VEVENT
BEGIN:VEVENT
DTSTART;TZID=America/Chicago:20250430T193000
DTEND;TZID=America/Chicago:20250430T193000
DTSTAMP:20260419T144857
CREATED:20250107T180116Z
LAST-MODIFIED:20250107T180124Z
UID:10000692-1746041400-1746041400@visitoxfordms.com.cft1.a2hosted.com
SUMMARY:UM Wind Ensemble
DESCRIPTION:Conducted by Dr. Tim Oliver
URL:http://visitoxfordms.com.cft1.a2hosted.com/event/um-wind-ensemble/
LOCATION:Gertrude Castellow Ford Center for the Performing Arts\, 351 University Ave.\, Oxford\, MS\, 38655\, United States
CATEGORIES:Music
ATTACH;FMTTYPE=image/webp:http://visit-oxford.s3.amazonaws.com/wp-content/uploads/2025/01/07120030/lg-wind-hgb_0007-ba-1.webp
GEO:34.3654343;-89.5288993
X-APPLE-STRUCTURED-LOCATION;VALUE=URI;X-ADDRESS=Gertrude Castellow Ford Center for the Performing Arts 351 University Ave. Oxford MS 38655 United States;X-APPLE-RADIUS=500;X-TITLE=351 University Ave.:geo:-89.5288993,34.3654343
END:VEVENT
BEGIN:VEVENT
DTSTART;TZID=America/Chicago:20250430T183000
DTEND;TZID=America/Chicago:20250430T183000
DTSTAMP:20260419T144857
CREATED:20250107T175858Z
LAST-MODIFIED:20250428T183258Z
UID:10000691-1746037800-1746037800@visitoxfordms.com.cft1.a2hosted.com
SUMMARY:Oxford String Project and LOU Youth Symphony Orchestra Spring Concert
DESCRIPTION:The Lafayette-Oxford-University (LOU) Symphony Orchestra includes university students\, community members\, and highly qualified musical professionals and performs a wide variety of standard symphonic repertoire. Often the Music Department’s internationally celebrated faculty members join the LOU Symphony as soloists and take center stage with the ensemble. \nThe LOU Symphony performs as the pit orchestra with UM Opera Theatre\, performing a vast selection of repertoire from the pit of the Ford Center. The LOU Symphony regularly collaborates with the University Choir on the Veterans Day Concert\, Department-of-Music sponsored holiday concerts\, and Black History Month concerts.
URL:http://visitoxfordms.com.cft1.a2hosted.com/event/oxford-string-project-and-lou-youth-symphony-concert/
LOCATION:David H. Nutt Auditorium\, Oxford\, MS\, 38655
CATEGORIES:Music
ATTACH;FMTTYPE=image/png:http://visit-oxford.s3.amazonaws.com/wp-content/uploads/2025/01/28133148/Screenshot-2025-04-28-at-1.30.41%E2%80%AFPM.png
GEO:34.3664951;-89.5192484
END:VEVENT
BEGIN:VEVENT
DTSTART;TZID=America/Chicago:20250430T173000
DTEND;TZID=America/Chicago:20250430T173000
DTSTAMP:20260419T144857
CREATED:20250314T154650Z
LAST-MODIFIED:20250314T155703Z
UID:10000838-1746034200-1746034200@visitoxfordms.com.cft1.a2hosted.com
SUMMARY:BOOK LAUNCH Jaz Brisack in conversation with Joe Atkins for Get on the Job and Organize
DESCRIPTION:A compelling\, inspirational narrative of many recent unionization efforts\, from the leader of the Starbucks and Tesla union movements \nAuthor and activist Jaz Brisack for Get On the Job and Organize\, which takes readers inside the fast-paced\, high-stakes campaigns to unionize companies ranging from Nissan to Starbucks to Tesla. \n\n\n\n\nAbout the book \n\n\n\n\n“Here’s the light to illuminate these dark times — an account of how workers take on corporate power and win. Even more inspiring\, it’s led by Gen Z. Essential reading for anyone who cares about tackling economic inequality and saving democracy.” \n—Robert Reich\, former US Secretary of Labor and author of Aftershock and Saving Capitalism \nGet on the Job and Organize is a compelling\, inspirational narrative of the Starbucks and Tesla unionization efforts\, telling the broader story of the new\, nationwide labor movement unfolding in our era of political and social unrest. As one of the exciting new faces of the American Labor Movement\, Jaz Brisack argues that while workers often organize when their place of work is toxic\, it’s equally important to organize when you love your job. \n\n\n\n\nWith an accessible voice and profound insight\, Brisack puts everything into the context of America’s long tradition of labor organizing and shows us how we too can organize our workplaces\, from how to educate yourself and your colleagues\, to what backlash can be expected and how to fight it\, to what victory looks like even if the union doesn’t necessarily “win.” \nAbout the author \nJaz Brisack is a union organizer and cofounder of the Inside Organizer School\, which trains workers to unionize. After spending one year at Oxford as a Rhodes Scholar\, they got a job as a barista at the Elmwood Starbucks in Buffalo\, New York\, becoming a founding member of Starbucks Workers United and helping organize the first unionized Starbucks in the United States. As the organizing director for Workers United Upstate New York & Vermont\, they also worked with organizing committees at companies ranging from Ben & Jerry’s to Tesla.
URL:http://visitoxfordms.com.cft1.a2hosted.com/event/book-launch-jaz-brisack-in-conversation-with-joe-atkins-for-get-on-the-job-and-organize/
LOCATION:Off Square Books\, 129 Courthouse Square\, Oxford\, MS\, 38655\, United States
CATEGORIES:Literature
ATTACH;FMTTYPE=image/png:http://visit-oxford.s3.amazonaws.com/wp-content/uploads/2025/03/14104226/2D2BD10E-4D57-4915-ABCC-512295F8DD3F.png
GEO:34.3656558;-89.5183482
X-APPLE-STRUCTURED-LOCATION;VALUE=URI;X-ADDRESS=Off Square Books 129 Courthouse Square Oxford MS 38655 United States;X-APPLE-RADIUS=500;X-TITLE=129 Courthouse Square:geo:-89.5183482,34.3656558
END:VEVENT
BEGIN:VEVENT
DTSTART;TZID=America/Chicago:20250429T200000
DTEND;TZID=America/Chicago:20250429T200000
DTSTAMP:20260419T144857
CREATED:20250317T171942Z
LAST-MODIFIED:20250317T171959Z
UID:10000848-1745956800-1745956800@visitoxfordms.com.cft1.a2hosted.com
SUMMARY:Julien Baker & Torres
DESCRIPTION:7pm Doors | 8pm Support | 9pm Julien Baker and TORRES
URL:http://visitoxfordms.com.cft1.a2hosted.com/event/julien-baker-torres/
LOCATION:The Lyric\, 1006 Van Buren \, Oxford\, MS\, 38655\, United States
CATEGORIES:Music
ATTACH;FMTTYPE=image/webp:http://visit-oxford.s3.amazonaws.com/wp-content/uploads/2025/03/17121904/eyJidWNrZXQiOiJwcm9kLXNpaC5zZWV0aWNrZXRzdXNhLnVzIiwia2V5IjoiOWIwODcwN2UtMzhlYS00YTA5LTgwYzItMzhlMmZjM2U1NmM0IiwiZWRpdHMiOnt9fQ.webp
GEO:34.3662931;-89.5209192
X-APPLE-STRUCTURED-LOCATION;VALUE=URI;X-ADDRESS=The Lyric 1006 Van Buren  Oxford MS 38655 United States;X-APPLE-RADIUS=500;X-TITLE=1006 Van Buren:geo:-89.5209192,34.3662931
END:VEVENT
BEGIN:VEVENT
DTSTART;TZID=America/Chicago:20250429T193000
DTEND;TZID=America/Chicago:20250429T193000
DTSTAMP:20260419T144857
CREATED:20250107T175603Z
LAST-MODIFIED:20250428T181145Z
UID:10000690-1745955000-1745955000@visitoxfordms.com.cft1.a2hosted.com
SUMMARY:UM Music & Ole Miss Band present Symphonic Band & Concert Band Performance
DESCRIPTION:
URL:http://visitoxfordms.com.cft1.a2hosted.com/event/symphonic-band-and-concert-band-performance/
LOCATION:Gertrude Castellow Ford Center for the Performing Arts\, 351 University Ave.\, Oxford\, MS\, 38655\, United States
CATEGORIES:Music
ATTACH;FMTTYPE=image/png:http://visit-oxford.s3.amazonaws.com/wp-content/uploads/2025/01/28131019/Screenshot-2025-04-28-at-1.08.37%E2%80%AFPM.png
GEO:34.3654343;-89.5288993
X-APPLE-STRUCTURED-LOCATION;VALUE=URI;X-ADDRESS=Gertrude Castellow Ford Center for the Performing Arts 351 University Ave. Oxford MS 38655 United States;X-APPLE-RADIUS=500;X-TITLE=351 University Ave.:geo:-89.5288993,34.3654343
END:VEVENT
BEGIN:VEVENT
DTSTART;TZID=America/Chicago:20250429T183000
DTEND;TZID=America/Chicago:20250429T183000
DTSTAMP:20260419T144857
CREATED:20250108T215639Z
LAST-MODIFIED:20250422T153028Z
UID:10000722-1745951400-1745951400@visitoxfordms.com.cft1.a2hosted.com
SUMMARY:Ole Miss Baseball vs. Austin Peay
DESCRIPTION:Baseball vs. Austin Peay \n\n\n$2 Dogs\n\n\nKids 12 & under get in free!\n\n\n 
URL:http://visitoxfordms.com.cft1.a2hosted.com/event/ole-miss-baseball-vs-austin-peay-2/
LOCATION:Swayze Field\, University\, MS\, 38655\, United States
CATEGORIES:Family Friendly,Sports
ATTACH;FMTTYPE=image/png:http://visit-oxford.s3.amazonaws.com/wp-content/uploads/2025/01/03095656/Screen-Shot-2025-03-03-at-9.53.21-AM.png
GEO:34.3679733;-89.532696
END:VEVENT
BEGIN:VEVENT
DTSTART;TZID=America/Chicago:20250428T193000
DTEND;TZID=America/Chicago:20250428T213000
DTSTAMP:20260419T144857
CREATED:20250107T174303Z
LAST-MODIFIED:20250414T162503Z
UID:10000683-1745868600-1745875800@visitoxfordms.com.cft1.a2hosted.com
SUMMARY:Madison Marasco Senior Performance Recital
DESCRIPTION:
URL:http://visitoxfordms.com.cft1.a2hosted.com/event/madison-marasco-senior-performance-recital/
LOCATION:David H. Nutt Auditorium\, Oxford\, MS\, 38655
CATEGORIES:Music
GEO:34.3664951;-89.5192484
END:VEVENT
BEGIN:VEVENT
DTSTART;TZID=America/Chicago:20250428T170000
DTEND;TZID=America/Chicago:20250428T190000
DTSTAMP:20260419T144857
CREATED:20250225T153358Z
LAST-MODIFIED:20250225T153406Z
UID:10000816-1745859600-1745866800@visitoxfordms.com.cft1.a2hosted.com
SUMMARY:Super Hero Training Day
DESCRIPTION:
URL:http://visitoxfordms.com.cft1.a2hosted.com/event/super-hero-training-day/
LOCATION:Oxford Activity Center\, 400 Price Street\, Oxford\, MS\, 38655
CATEGORIES:Family Friendly,Recreation
ATTACH;FMTTYPE=image/png:http://visit-oxford.s3.amazonaws.com/wp-content/uploads/2025/02/25093239/IMG_5995.JPG.png
GEO:34.3749628;-89.5263919
X-APPLE-STRUCTURED-LOCATION;VALUE=URI;X-ADDRESS=Oxford Activity Center 400 Price Street Oxford MS 38655;X-APPLE-RADIUS=500;X-TITLE=400 Price Street:geo:-89.5263919,34.3749628
END:VEVENT
BEGIN:VEVENT
DTSTART;TZID=America/Chicago:20250428T080000
DTEND;TZID=America/Chicago:20250503T170000
DTSTAMP:20260419T144857
CREATED:20250428T170650Z
LAST-MODIFIED:20250428T170650Z
UID:10000911-1745827200-1746291600@visitoxfordms.com.cft1.a2hosted.com
SUMMARY:Oxford Pride
DESCRIPTION:
URL:http://visitoxfordms.com.cft1.a2hosted.com/event/oxford-pride/
ATTACH;FMTTYPE=image/png:http://visit-oxford.s3.amazonaws.com/wp-content/uploads/2025/04/28120642/Screenshot-2025-04-28-at-12.05.45-PM.png
END:VEVENT
BEGIN:VEVENT
DTSTART;TZID=America/Chicago:20250427T133000
DTEND;TZID=America/Chicago:20250427T153000
DTSTAMP:20260419T144857
CREATED:20250421T220120Z
LAST-MODIFIED:20250422T153123Z
UID:10000903-1745760600-1745767800@visitoxfordms.com.cft1.a2hosted.com
SUMMARY:Ole Miss Baseball vs. Vanderbilt
DESCRIPTION:Baseball vs. Vanderbilt \n\n\nKids run the bases\n\n\n 
URL:http://visitoxfordms.com.cft1.a2hosted.com/event/ole-miss-baseball-vs-vanderbilt-3/
LOCATION:Swayze Field\, University\, MS\, 38655\, United States
CATEGORIES:Family Friendly,Sports
ATTACH;FMTTYPE=image/png:http://visit-oxford.s3.amazonaws.com/wp-content/uploads/2025/01/03095400/Screen-Shot-2025-03-03-at-9.52.07-AM.png
GEO:34.3679733;-89.532696
END:VEVENT
BEGIN:VEVENT
DTSTART;TZID=America/Chicago:20250427T130000
DTEND;TZID=America/Chicago:20250427T150000
DTSTAMP:20260419T144857
CREATED:20250421T214616Z
LAST-MODIFIED:20250422T153312Z
UID:10000901-1745758800-1745766000@visitoxfordms.com.cft1.a2hosted.com
SUMMARY:Ole Miss Softball vs. Tennessee
DESCRIPTION:Softball vs. Tennessee \nFamily Day \n\n\n4 tickets\, 4 concession vouchers\, & kids run the bases for $40\n\n\nMilitary Appreciation Day\n\n\n 
URL:http://visitoxfordms.com.cft1.a2hosted.com/event/ole-miss-softball-vs-tennessee-3/
LOCATION:Ole Miss Softball Complex\, University\, MS\, 38677\, United States
CATEGORIES:Outdoor,Sports
ATTACH;FMTTYPE=image/jpeg:http://visit-oxford.s3.amazonaws.com/wp-content/uploads/2025/01/09124739/IMG_5731.jpg
GEO:33.4555279;-88.7903868
END:VEVENT
END:VCALENDAR