BEGIN:VCALENDAR
VERSION:2.0
PRODID:-//Visit Oxford MS - ECPv6.7.0//NONSGML v1.0//EN
CALSCALE:GREGORIAN
METHOD:PUBLISH
X-WR-CALNAME:Visit Oxford MS
X-ORIGINAL-URL:http://visitoxfordms.com.cft1.a2hosted.com
X-WR-CALDESC:Events for Visit Oxford MS
REFRESH-INTERVAL;VALUE=DURATION:PT1H
X-Robots-Tag:noindex
X-PUBLISHED-TTL:PT1H
BEGIN:VTIMEZONE
TZID:America/Chicago
BEGIN:DAYLIGHT
TZOFFSETFROM:-0600
TZOFFSETTO:-0500
TZNAME:CDT
DTSTART:20250309T080000
END:DAYLIGHT
BEGIN:STANDARD
TZOFFSETFROM:-0500
TZOFFSETTO:-0600
TZNAME:CST
DTSTART:20251102T070000
END:STANDARD
END:VTIMEZONE
BEGIN:VEVENT
DTSTART;TZID=America/Chicago:20250322T150000
DTEND;TZID=America/Chicago:20250322T170000
DTSTAMP:20260420T142231
CREATED:20250212T180207Z
LAST-MODIFIED:20250317T143242Z
UID:10000798-1742655600-1742662800@visitoxfordms.com.cft1.a2hosted.com
SUMMARY:NMRLS 1st Annual Dog Walk-A-Thon
DESCRIPTION:
URL:http://visitoxfordms.com.cft1.a2hosted.com/event/nmrls-1st-annual-dog-walk-a-thon/
LOCATION:Oxford Intermediate School\, 501 Dr. Martin Luther King Jr. Dr.\, Oxford\, MS
CATEGORIES:Fundraiser,Outdoor
ATTACH;FMTTYPE=image/png:http://visit-oxford.s3.amazonaws.com/wp-content/uploads/2025/02/12115816/Screenshot-2025-02-12-at-11.46.35%E2%80%AFAM.png
GEO:34.3664951;-89.5192484
X-APPLE-STRUCTURED-LOCATION;VALUE=URI;X-ADDRESS=Oxford Intermediate School 501 Dr. Martin Luther King Jr. Dr. Oxford MS;X-APPLE-RADIUS=500;X-TITLE=501 Dr. Martin Luther King Jr. Dr.:geo:-89.5192484,34.3664951
END:VEVENT
BEGIN:VEVENT
DTSTART;TZID=America/Chicago:20250321T213000
DTEND;TZID=America/Chicago:20250321T213000
DTSTAMP:20260420T142231
CREATED:20250317T173913Z
LAST-MODIFIED:20250317T173923Z
UID:10000853-1742592600-1742592600@visitoxfordms.com.cft1.a2hosted.com
SUMMARY:Kenny Brown and DuWayne Burnside
DESCRIPTION:
URL:http://visitoxfordms.com.cft1.a2hosted.com/event/kenny-brown-and-duwayne-burnside/
LOCATION:Proud Larry’s\, Oxford\, MS\, MS\, United States
CATEGORIES:Music
ATTACH;FMTTYPE=image/png:http://visit-oxford.s3.amazonaws.com/wp-content/uploads/2025/03/17123837/imwage.png
GEO:34.3664951;-89.5192484
END:VEVENT
BEGIN:VEVENT
DTSTART;TZID=America/Chicago:20250321T200000
DTEND;TZID=America/Chicago:20250321T200000
DTSTAMP:20260420T142231
CREATED:20250317T164945Z
LAST-MODIFIED:20250317T164957Z
UID:10000844-1742587200-1742587200@visitoxfordms.com.cft1.a2hosted.com
SUMMARY:Live at the Coop- JD Westmoreland
DESCRIPTION:
URL:http://visitoxfordms.com.cft1.a2hosted.com/event/live-at-the-coop-jd-westmoreland/
LOCATION:The Coop @ The Graduate Hotel\, North Lamar Boulevard\, Oxford\, Mississippi\, 38655\, United States
CATEGORIES:Music
ATTACH;FMTTYPE=image/jpeg:http://visit-oxford.s3.amazonaws.com/wp-content/uploads/2025/03/17114913/JD-Westmoreland-March-21.jpg
GEO:34.368733;-89.5178968
X-APPLE-STRUCTURED-LOCATION;VALUE=URI;X-ADDRESS=The Coop @ The Graduate Hotel North Lamar Boulevard Oxford Mississippi 38655 United States;X-APPLE-RADIUS=500;X-TITLE=North Lamar Boulevard:geo:-89.5178968,34.368733
END:VEVENT
BEGIN:VEVENT
DTSTART;TZID=America/Chicago:20250321T193000
DTEND;TZID=America/Chicago:20250321T193000
DTSTAMP:20260420T142231
CREATED:20250103T205859Z
LAST-MODIFIED:20250108T203452Z
UID:10000661-1742585400-1742585400@visitoxfordms.com.cft1.a2hosted.com
SUMMARY:Guest Recital | Roya Farzaneh
DESCRIPTION:
URL:http://visitoxfordms.com.cft1.a2hosted.com/event/guest-recital-roya-farzaneh/
LOCATION:David H. Nutt Auditorium\, Oxford\, MS\, 38655
CATEGORIES:Music
GEO:34.3664951;-89.5192484
END:VEVENT
BEGIN:VEVENT
DTSTART;TZID=America/Chicago:20250321T190000
DTEND;TZID=America/Chicago:20250321T210000
DTSTAMP:20260420T142231
CREATED:20250307T165149Z
LAST-MODIFIED:20250307T165157Z
UID:10000826-1742583600-1742590800@visitoxfordms.com.cft1.a2hosted.com
SUMMARY:Big Top Tease on Tour
DESCRIPTION:
URL:http://visitoxfordms.com.cft1.a2hosted.com/event/big-top-tease-on-tour/
LOCATION:The Powerhouse\, Oxford\, MS\, 38655
CATEGORIES:Performing Arts,Recreation
ATTACH;FMTTYPE=image/png:http://visit-oxford.s3.amazonaws.com/wp-content/uploads/2025/03/07104904/Screenshot-2025-03-07-at-10.45.45%E2%80%AFAM.png
GEO:34.3664951;-89.5192484
END:VEVENT
BEGIN:VEVENT
DTSTART;TZID=America/Chicago:20250320T193000
DTEND;TZID=America/Chicago:20250320T193000
DTSTAMP:20260420T142231
CREATED:20250103T205530Z
LAST-MODIFIED:20250107T160210Z
UID:10000660-1742499000-1742499000@visitoxfordms.com.cft1.a2hosted.com
SUMMARY:Kristina Tullgren MM Recital
DESCRIPTION:
URL:http://visitoxfordms.com.cft1.a2hosted.com/event/kristina-tullgren-mm-recital/
LOCATION:David H. Nutt Auditorium\, Oxford\, MS\, 38655
CATEGORIES:Music
GEO:34.3664951;-89.5192484
END:VEVENT
BEGIN:VEVENT
DTSTART;TZID=America/Chicago:20250320T190000
DTEND;TZID=America/Chicago:20250320T190000
DTSTAMP:20260420T142231
CREATED:20250317T173733Z
LAST-MODIFIED:20250317T173745Z
UID:10000852-1742497200-1742497200@visitoxfordms.com.cft1.a2hosted.com
SUMMARY:David Coen
DESCRIPTION:
URL:http://visitoxfordms.com.cft1.a2hosted.com/event/david-coen/
LOCATION:Proud Larry’s\, Oxford\, MS\, MS\, United States
CATEGORIES:Music
ATTACH;FMTTYPE=image/png:http://visit-oxford.s3.amazonaws.com/wp-content/uploads/2025/03/17123705/imagwe.png
GEO:34.3664951;-89.5192484
END:VEVENT
BEGIN:VEVENT
DTSTART;TZID=America/Chicago:20250320T180000
DTEND;TZID=America/Chicago:20250320T180000
DTSTAMP:20260420T142231
CREATED:20250311T170454Z
LAST-MODIFIED:20250311T170505Z
UID:10000829-1742493600-1742493600@visitoxfordms.com.cft1.a2hosted.com
SUMMARY:THACKER MOUNTAIN RADIO HOUR Jeff Barry for Go to Hell Ole Miss
DESCRIPTION:To what lengths will a father go to save his daughter? \nBig John\, a former POW in WWII\, thinks women are smarter than men. The three women in his life agree\, especially when he brags about knowing more Shakespeare than anyone else in Hope Springs\, Mississippi. Big John is overly proud of the only seven words of Shakespeare that he knows: The prince of darkness is a gentleman. When Big John and his wife learn their beloved daughter has been beaten to the point of death by the man Big John pressured her to marry\, he needs only three of these words: prince\, darkness\, and gentleman. \nSet in the Mississippi hill country in the early 1970s\, Go to Hell Ole Miss tells the story of a father’s willingness to do almost anything to save his daughter from the Southern gentleman he had pressured her to marry. Almost. \n\n\n\n\nFor fans of Pat Conroy\, Barbara Kingsolver\, Wiley Cash\, and Cormac McCarthy\, Go to Hell Ole Miss is a historical family saga of hope and hardship\, redemption and revenge\, faith and doubt. It’s also a compelling Southern tale with characters that become people who make you laugh\, cry\, and think. \nAbout the author \nJeff Barry is a native Memphian with deep Mississippi roots. After graduate school\, he lived on a small cattle farm like the one featured in Go to Hell Ole Miss. Over the past twenty years\, Jeff has worked in the farmland business in the Mississippi Delta\, taught English in Peru\, and advised farmers in northern Uganda. He now lives in Tennessee with his wife and three children. He enjoys hiking and camping\, loves Hazel\, his yellow Lab\, and likes one of his wife’s three cats.
URL:http://visitoxfordms.com.cft1.a2hosted.com/event/thacker-mountain-radio-hour-jeff-barry-for-go-to-hell-ole-miss/
LOCATION:The Powerhouse\, Oxford\, MS\, 38655
CATEGORIES:Literature
ATTACH;FMTTYPE=image/png:http://visit-oxford.s3.amazonaws.com/wp-content/uploads/2025/03/11120226/jeff-barry-go-hell-ole-miss.png
GEO:34.3664951;-89.5192484
END:VEVENT
BEGIN:VEVENT
DTSTART;TZID=America/Chicago:20250318T193000
DTEND;TZID=America/Chicago:20250318T203000
DTSTAMP:20260420T142231
CREATED:20250103T205443Z
LAST-MODIFIED:20250310T175346Z
UID:10000658-1742326200-1742329800@visitoxfordms.com.cft1.a2hosted.com
SUMMARY:An Evening of Duos
DESCRIPTION:
URL:http://visitoxfordms.com.cft1.a2hosted.com/event/faculty-recital-yoojung-kim/
LOCATION:David H. Nutt Auditorium\, Oxford\, MS\, 38655
CATEGORIES:Free,Music,Performing Arts
ATTACH;FMTTYPE=image/png:http://visit-oxford.s3.amazonaws.com/wp-content/uploads/2025/01/10125232/Screenshot-2025-03-10-at-12.51.12%E2%80%AFPM.png
GEO:34.3664951;-89.5192484
END:VEVENT
BEGIN:VEVENT
DTSTART;TZID=America/Chicago:20250317T193000
DTEND;TZID=America/Chicago:20250317T210000
DTSTAMP:20260420T142231
CREATED:20250310T175018Z
LAST-MODIFIED:20250310T175018Z
UID:10000827-1742239800-1742245200@visitoxfordms.com.cft1.a2hosted.com
SUMMARY:A Guest Artist Recital - Elizabeth Yang & Jiayan Sun
DESCRIPTION:
URL:http://visitoxfordms.com.cft1.a2hosted.com/event/a-guest-artist-recital-elizabeth-yang-jiayan-sun/
LOCATION:Nutt Auditorium\, MS
CATEGORIES:Music,Performing Arts
ATTACH;FMTTYPE=image/png:http://visit-oxford.s3.amazonaws.com/wp-content/uploads/2025/03/10124927/Screenshot-2025-03-10-at-12.44.08%E2%80%AFPM-1.png
GEO:32.3546679;-89.3985283
END:VEVENT
BEGIN:VEVENT
DTSTART;TZID=America/Chicago:20250317T130000
DTEND;TZID=America/Chicago:20250317T150000
DTSTAMP:20260420T142231
CREATED:20250103T205404Z
LAST-MODIFIED:20250310T174450Z
UID:10000657-1742216400-1742223600@visitoxfordms.com.cft1.a2hosted.com
SUMMARY:A Masterclass with Guest Artists Elizabeth Chang & Jiayan Sun
DESCRIPTION:
URL:http://visitoxfordms.com.cft1.a2hosted.com/event/elizabeth-chang-recital/
LOCATION:David H. Nutt Auditorium\, Oxford\, MS\, 38655
CATEGORIES:Music
ATTACH;FMTTYPE=image/png:http://visit-oxford.s3.amazonaws.com/wp-content/uploads/2025/01/10124210/Screenshot-2025-03-10-at-12.37.31%E2%80%AFPM.png
GEO:34.3664951;-89.5192484
END:VEVENT
BEGIN:VEVENT
DTSTART;TZID=America/Chicago:20250317T083000
DTEND;TZID=America/Chicago:20250317T170000
DTSTAMP:20260420T142231
CREATED:20250317T173353Z
LAST-MODIFIED:20250317T173353Z
UID:10000850-1742200200-1742230800@visitoxfordms.com.cft1.a2hosted.com
SUMMARY:EGSB Presents Miss Reads
DESCRIPTION:Ellie Black\, Janeth Jackson\, Ugochukwu\nDamian Okpara\nQ&A with Latrice Johnson
URL:http://visitoxfordms.com.cft1.a2hosted.com/event/egsb-presents-miss-reads/
LOCATION:Proud Larry’s\, Oxford\, MS\, MS\, United States
ATTACH;FMTTYPE=image/png:http://visit-oxford.s3.amazonaws.com/wp-content/uploads/2025/03/17123109/image.png
GEO:34.3664951;-89.5192484
END:VEVENT
BEGIN:VEVENT
DTSTART;TZID=America/Chicago:20250316T150000
DTEND;TZID=America/Chicago:20250316T150000
DTSTAMP:20260420T142231
CREATED:20250211T172844Z
LAST-MODIFIED:20250211T172849Z
UID:10000795-1742137200-1742137200@visitoxfordms.com.cft1.a2hosted.com
SUMMARY:Shamrock & Roll St. Patty's Pub Crawl
DESCRIPTION:
URL:http://visitoxfordms.com.cft1.a2hosted.com/event/shamrock-roll-st-pattys-pub-crawl/
LOCATION:Various Locations\, MS
CATEGORIES:Holiday
ATTACH;FMTTYPE=image/png:http://visit-oxford.s3.amazonaws.com/wp-content/uploads/2025/02/11112639/Screenshot-2025-02-11-at-11.23.17%E2%80%AFAM.png
END:VEVENT
BEGIN:VEVENT
DTSTART;TZID=America/Chicago:20250316T140000
DTEND;TZID=America/Chicago:20250316T160000
DTSTAMP:20260420T142231
CREATED:20250226T175700Z
LAST-MODIFIED:20250226T175724Z
UID:10000821-1742133600-1742140800@visitoxfordms.com.cft1.a2hosted.com
SUMMARY:St. Patricks Dog Party
DESCRIPTION:
URL:http://visitoxfordms.com.cft1.a2hosted.com/event/st-patricks-dog-party/
LOCATION:Lost Dog Coffee\, Town Square Lane\, Taylor\, Mississippi\, 38673\, United States
CATEGORIES:Free,Holiday,Outdoor
ATTACH;FMTTYPE=image/png:http://visit-oxford.s3.amazonaws.com/wp-content/uploads/2025/02/26115519/Screenshot-2025-02-26-at-11.53.42%E2%80%AFAM.png
GEO:34.2679856;-89.5880458
X-APPLE-STRUCTURED-LOCATION;VALUE=URI;X-ADDRESS=Lost Dog Coffee Town Square Lane Taylor Mississippi 38673 United States;X-APPLE-RADIUS=500;X-TITLE=Town Square Lane:geo:-89.5880458,34.2679856
END:VEVENT
BEGIN:VEVENT
DTSTART;TZID=America/Chicago:20250316T130000
DTEND;TZID=America/Chicago:20250316T170000
DTSTAMP:20260420T142231
CREATED:20250109T185526Z
LAST-MODIFIED:20250114T222541Z
UID:10000755-1742130000-1742144400@visitoxfordms.com.cft1.a2hosted.com
SUMMARY:Ole Miss Softball vs. Iowa State
DESCRIPTION:
URL:http://visitoxfordms.com.cft1.a2hosted.com/event/ole-miss-softball-vs-iowa-state/
LOCATION:Ole Miss Softball Complex\, University\, MS\, 38677\, United States
CATEGORIES:Sports
ATTACH;FMTTYPE=image/jpeg:http://visit-oxford.s3.amazonaws.com/wp-content/uploads/2025/01/09124734/IMG_5730.jpg
GEO:33.4555279;-88.7903868
END:VEVENT
BEGIN:VEVENT
DTSTART;TZID=America/Chicago:20250315T190000
DTEND;TZID=America/Chicago:20250315T190000
DTSTAMP:20260420T142231
CREATED:20250114T210547Z
LAST-MODIFIED:20250114T210553Z
UID:10000768-1742065200-1742065200@visitoxfordms.com.cft1.a2hosted.com
SUMMARY:Steve Poltz Concert
DESCRIPTION:
URL:http://visitoxfordms.com.cft1.a2hosted.com/event/steve-poltz-concert/
LOCATION:The Powerhouse\, Oxford\, MS\, 38655
CATEGORIES:Music
ATTACH;FMTTYPE=image/png:http://visit-oxford.s3.amazonaws.com/wp-content/uploads/2025/01/14150436/Screenshot-2025-01-14-at-3.00.51%E2%80%AFPM.png
GEO:34.3664951;-89.5192484
END:VEVENT
BEGIN:VEVENT
DTSTART;TZID=America/Chicago:20250315T180000
DTEND;TZID=America/Chicago:20250315T180000
DTSTAMP:20260420T142231
CREATED:20250109T185331Z
LAST-MODIFIED:20250109T185350Z
UID:10000754-1742061600-1742061600@visitoxfordms.com.cft1.a2hosted.com
SUMMARY:Ole Miss Softball vs. North Dakota State
DESCRIPTION:
URL:http://visitoxfordms.com.cft1.a2hosted.com/event/ole-miss-softball-vs-north-dakota-state-2/
LOCATION:Ole Miss Softball Complex\, University\, MS\, 38677\, United States
CATEGORIES:Sports
ATTACH;FMTTYPE=image/jpeg:http://visit-oxford.s3.amazonaws.com/wp-content/uploads/2025/01/09124724/IMG_5728.jpg
GEO:33.4555279;-88.7903868
END:VEVENT
BEGIN:VEVENT
DTSTART;TZID=America/Chicago:20250315T153000
DTEND;TZID=America/Chicago:20250315T170000
DTSTAMP:20260420T142231
CREATED:20250109T185055Z
LAST-MODIFIED:20250109T185055Z
UID:10000753-1742052600-1742058000@visitoxfordms.com.cft1.a2hosted.com
SUMMARY:Ole Miss Softball vs. Samford
DESCRIPTION:
URL:http://visitoxfordms.com.cft1.a2hosted.com/event/ole-miss-softball-vs-samford/
LOCATION:Ole Miss Softball Complex\, University\, MS\, 38677\, United States
CATEGORIES:Sports
GEO:33.4555279;-88.7903868
END:VEVENT
BEGIN:VEVENT
DTSTART;TZID=America/Chicago:20250315T150000
DTEND;TZID=America/Chicago:20250315T150000
DTSTAMP:20260420T142231
CREATED:20250227T200937Z
LAST-MODIFIED:20250227T200942Z
UID:10000824-1742050800-1742050800@visitoxfordms.com.cft1.a2hosted.com
SUMMARY:Kids Fun Bike Race
DESCRIPTION:
URL:http://visitoxfordms.com.cft1.a2hosted.com/event/kids-fun-bike-race/
LOCATION:clear creek
CATEGORIES:Family Friendly,Free,Outdoor
ATTACH;FMTTYPE=image/png:http://visit-oxford.s3.amazonaws.com/wp-content/uploads/2025/02/27140736/Screenshot-2025-02-27-at-2.06.11%E2%80%AFPM.png
END:VEVENT
BEGIN:VEVENT
DTSTART;TZID=America/Chicago:20250314T180000
DTEND;TZID=America/Chicago:20250314T180000
DTSTAMP:20260420T142231
CREATED:20250114T222653Z
LAST-MODIFIED:20250114T222701Z
UID:10000769-1741975200-1741975200@visitoxfordms.com.cft1.a2hosted.com
SUMMARY:Ole Miss Softball vs. Iowa State
DESCRIPTION:
URL:http://visitoxfordms.com.cft1.a2hosted.com/event/ole-miss-softball-vs-iowa-state-2/
LOCATION:Ole Miss Softball Complex\, University\, MS\, 38677\, United States
CATEGORIES:Family Friendly,Sports
GEO:33.4555279;-88.7903868
END:VEVENT
BEGIN:VEVENT
DTSTART;TZID=America/Chicago:20250314T160000
DTEND;TZID=America/Chicago:20250316T170000
DTSTAMP:20260420T142231
CREATED:20250108T214247Z
LAST-MODIFIED:20250108T214353Z
UID:10000713-1741968000-1742144400@visitoxfordms.com.cft1.a2hosted.com
SUMMARY:Ole Miss Baseball vs. Arkansas
DESCRIPTION:
URL:http://visitoxfordms.com.cft1.a2hosted.com/event/ole-miss-baseball-vs-arkansas/
LOCATION:Swayze Field\, University\, MS\, 38655\, United States
CATEGORIES:Family Friendly,Sports
ATTACH;FMTTYPE=image/jpeg:http://visit-oxford.s3.amazonaws.com/wp-content/uploads/2025/01/08142830/IMG_5709.jpg
GEO:34.3679733;-89.532696
END:VEVENT
BEGIN:VEVENT
DTSTART;TZID=America/Chicago:20250314T153000
DTEND;TZID=America/Chicago:20250314T170000
DTSTAMP:20260420T142231
CREATED:20250109T185014Z
LAST-MODIFIED:20250109T185014Z
UID:10000752-1741966200-1741971600@visitoxfordms.com.cft1.a2hosted.com
SUMMARY:Ole Miss Softball vs. North Dakota State
DESCRIPTION:
URL:http://visitoxfordms.com.cft1.a2hosted.com/event/ole-miss-softball-vs-north-dakota-state/
LOCATION:Ole Miss Softball Complex\, University\, MS\, 38677\, United States
CATEGORIES:Sports
ATTACH;FMTTYPE=image/jpeg:http://visit-oxford.s3.amazonaws.com/wp-content/uploads/2025/01/09124744/IMG_5732.jpg
GEO:33.4555279;-88.7903868
END:VEVENT
BEGIN:VEVENT
DTSTART;TZID=America/Chicago:20250313T180000
DTEND;TZID=America/Chicago:20250313T180000
DTSTAMP:20260420T142231
CREATED:20250311T170309Z
LAST-MODIFIED:20250311T170322Z
UID:10000828-1741888800-1741888800@visitoxfordms.com.cft1.a2hosted.com
SUMMARY:THACKER MOUNTAIN RADIO HOUR Sanjena Sathian for Goddess Complex
DESCRIPTION:Sanjana Satyananda is trying to recover her life. It’s been a year since she walked out on her husband\, a struggling actor named Killian\, at a commune in India\, after a disagreement about whether to have children. Now\, Sanjana is struggling to resurrect her busted anthropology dissertation and crashing at her annoyingly perfect sister’s while her well-adjusted peers obsess over marriages\, mortgages\, and motherhood. Sanjana needs to move forward—and finalize her divorce\, ASAP. \n\n\n\n\nThere’s just one problem: Killian is missing. As Sanjana tries to track him down\, she’s bombarded with unnerving calls from women seeking her advice on pregnancy and fertility. \nSoon\, Sanjana comes face to face with what her life might have been if she’d chosen parenthood. And the road not taken turns out to be wilder\, stranger\, and more tempting than she imagined. \nA darkly funny\, vertiginous novel about the dilemmas of procreation\, pregnancy\, and parenting\, Goddess Complex is a twist-filled psychological thriller and a feminist satire of our age of GirlBosses turned self-care influencers\, optimization cults\, internet mommy gurus\, egg freezing\, and much more. \nAbout the author \nSanjena Sathian is the author of the critically acclaimed novel Gold Diggers\, which was named a Top 10 Best Book of 2021 by The Washington Post and longlisted for the Center for Fiction’s First Novel Prize. It won the Townsend Prize for Fiction. Her short fiction appears in The Best American Short Stories\, The Atlantic\, Conjunctions\, One Story\, Boulevard\, and more. She’s written nonfiction for The New York Times\, New York magazine\, The Drift\, The Yale Review\, and NewYorker.com\, among other outlets. \nShe’s an alumna of the Iowa Writers’ Workshop and has taught at Emory University\, the University of Iowa\, and Victoria University of Wellington in New Zealand. In spring 2025\, she will serve as the Ferrol A. Sams Jr. Distinguished Chair of English at Mercer University.
URL:http://visitoxfordms.com.cft1.a2hosted.com/event/thacker-mountain-radio-hour-sanjena-sathian-for-goddess-complex/
LOCATION:Wonderbird Distillery\, Taylor\, Michigan\, 48180\, United States
CATEGORIES:Literature
ATTACH;FMTTYPE=image/png:http://visit-oxford.s3.amazonaws.com/wp-content/uploads/2025/03/11120232/tmr-sanjena-sathian-goddess-complex-3-x-3.png
GEO:42.240872;-83.2696509
END:VEVENT
BEGIN:VEVENT
DTSTART;TZID=America/Chicago:20250311T080000
DTEND;TZID=America/Chicago:20250311T170000
DTSTAMP:20260420T142231
CREATED:20250311T173046Z
LAST-MODIFIED:20250311T173046Z
UID:10000830-1741680000-1741712400@visitoxfordms.com.cft1.a2hosted.com
SUMMARY:THACKER MOUNTAIN RADIO HOUR Via Bleidner for If You Lived Here You’d be Famous By Now
DESCRIPTION:About the book \nSoon to be the Netflix Series “Calabasas” — from Kim Kardashian\, Marlene King\, and Emma Roberts \nFor Via Bleidner\, transferring to Calabasas High from the private Catholic school she’s attended since second grade is a culture shock\, not to mention absolutely lonely. Suddenly thrust into an unfamiliar world of celebrities\, affluenza\, and McMansions\, Via takes a page from Cameron Crowe and pretends she’s on a journalism assignment\, taking notes on her classmates and jotting down bits of overheard gossip. \nGetting through high school in Calabasas is something else–from Kim Kardashian endorsing the students’ favorite hidden lunch spot\, to the theater program hiring a famous dog to play Elle Woods’ Chihuahua in its production of Legally Blonde\, and Kanye trying to take control of your school to make it the very first YEEZY institution. \nBut instead of floating through high school detached from her peers\, Via finds that putting herself out there–for her writing\, of course–just might have been exactly what she needed. She unexpectedly finds an eclectic group of friends to call her own\, including a multi-multi-millionaire\, a wild-card throwback intent on going viral\, a former Disney actor\, and a doughnut-dealing madman. \nWith wit\, candor\, and sharp observations\, twenty-one-year-old Via grounds the surreal glamour of Calabasas with reflections on her own coming-of-age\, sharing her teenage misadventures as she struggles to fit in\, faces crushing social pressure\, and eventually makes her own way. \nAbout the author \nVia Bleidner grew up in Los Angeles and is currently studying for an MFA in Creative Writing at the University of Mississippi. If You Lived Here You’d Be Famous By Now is her debut. It was published when she was 19 and a student at the University of California\, Santa Barbara.
URL:http://visitoxfordms.com.cft1.a2hosted.com/event/thacker-mountain-radio-hour-via-bleidner-for-if-you-lived-here-youd-be-famous-by-now/
LOCATION:MS
CATEGORIES:Literature
END:VEVENT
BEGIN:VEVENT
DTSTART;TZID=America/Chicago:20250309T133000
DTEND;TZID=America/Chicago:20250309T170000
DTSTAMP:20260420T142231
CREATED:20250108T211305Z
LAST-MODIFIED:20250303T155712Z
UID:10000712-1741527000-1741539600@visitoxfordms.com.cft1.a2hosted.com
SUMMARY:Ole Miss Baseball vs. Jacksonville State
DESCRIPTION:
URL:http://visitoxfordms.com.cft1.a2hosted.com/event/ole-miss-baseball-vs-jacksonville-state-3/
LOCATION:Swayze Field\, University\, MS\, 38655\, United States
CATEGORIES:Family Friendly,Sports
ATTACH;FMTTYPE=image/png:http://visit-oxford.s3.amazonaws.com/wp-content/uploads/2025/01/03095656/Screen-Shot-2025-03-03-at-9.53.21-AM.png
GEO:34.3679733;-89.532696
END:VEVENT
BEGIN:VEVENT
DTSTART;TZID=America/Chicago:20250308T133000
DTEND;TZID=America/Chicago:20250308T170000
DTSTAMP:20260420T142231
CREATED:20250108T211211Z
LAST-MODIFIED:20250108T220410Z
UID:10000711-1741440600-1741453200@visitoxfordms.com.cft1.a2hosted.com
SUMMARY:Ole Miss Baseball vs. Jacksonville State
DESCRIPTION:
URL:http://visitoxfordms.com.cft1.a2hosted.com/event/ole-miss-baseball-vs-jacksonville-state-2/
LOCATION:Swayze Field\, University\, MS\, 38655\, United States
CATEGORIES:Family Friendly,Sports
ATTACH;FMTTYPE=image/jpeg:http://visit-oxford.s3.amazonaws.com/wp-content/uploads/2025/01/08145638/GLJuDFuaMAAOjPB-scaled.jpeg
GEO:34.3679733;-89.532696
END:VEVENT
BEGIN:VEVENT
DTSTART;TZID=America/Chicago:20250307T200000
DTEND;TZID=America/Chicago:20250307T223000
DTSTAMP:20260420T142231
CREATED:20250228T191337Z
LAST-MODIFIED:20250228T191337Z
UID:10000825-1741377600-1741386600@visitoxfordms.com.cft1.a2hosted.com
SUMMARY:Live at the Coop
DESCRIPTION:Shannon McNally is going to be Live at The Coop!
URL:http://visitoxfordms.com.cft1.a2hosted.com/event/live-at-the-coop/
LOCATION:The Coop @ The Graduate Hotel\, North Lamar Boulevard\, Oxford\, Mississippi\, 38655\, United States
ATTACH;FMTTYPE=image/png:http://visit-oxford.s3.amazonaws.com/wp-content/uploads/2025/02/28131111/shannon-hero-img.png
GEO:34.368733;-89.5178968
X-APPLE-STRUCTURED-LOCATION;VALUE=URI;X-ADDRESS=The Coop @ The Graduate Hotel North Lamar Boulevard Oxford Mississippi 38655 United States;X-APPLE-RADIUS=500;X-TITLE=North Lamar Boulevard:geo:-89.5178968,34.368733
END:VEVENT
BEGIN:VEVENT
DTSTART;TZID=America/Chicago:20250307T193000
DTEND;TZID=America/Chicago:20250307T193000
DTSTAMP:20260420T142231
CREATED:20250103T205323Z
LAST-MODIFIED:20250304T210808Z
UID:10000656-1741375800-1741375800@visitoxfordms.com.cft1.a2hosted.com
SUMMARY:Linna Zheng & Frankie Amore Recitals
DESCRIPTION:
URL:http://visitoxfordms.com.cft1.a2hosted.com/event/linna-zheng-frankie-amore-recitals/
LOCATION:David H. Nutt Auditorium\, Oxford\, MS\, 38655
CATEGORIES:Music
GEO:34.3664951;-89.5192484
END:VEVENT
BEGIN:VEVENT
DTSTART;TZID=America/Chicago:20250307T183000
DTEND;TZID=America/Chicago:20250307T183000
DTSTAMP:20260420T142231
CREATED:20250108T211105Z
LAST-MODIFIED:20250303T160439Z
UID:10000710-1741372200-1741372200@visitoxfordms.com.cft1.a2hosted.com
SUMMARY:Ole Miss Baseball vs. Jacksonville State
DESCRIPTION:
URL:http://visitoxfordms.com.cft1.a2hosted.com/event/ole-miss-baseball-vs-jacksonville-state/
LOCATION:Swayze Field\, University\, MS\, 38655\, United States
CATEGORIES:Family Friendly,Sports
ATTACH;FMTTYPE=image/png:http://visit-oxford.s3.amazonaws.com/wp-content/uploads/2025/01/03095656/Screen-Shot-2025-03-03-at-9.53.21-AM.png
GEO:34.3679733;-89.532696
END:VEVENT
BEGIN:VEVENT
DTSTART;TZID=America/Chicago:20250307T170000
DTEND;TZID=America/Chicago:20250309T170000
DTSTAMP:20260420T142231
CREATED:20250109T184543Z
LAST-MODIFIED:20250109T211951Z
UID:10000749-1741366800-1741539600@visitoxfordms.com.cft1.a2hosted.com
SUMMARY:Ole Miss Softball vs. Arkansas
DESCRIPTION:
URL:http://visitoxfordms.com.cft1.a2hosted.com/event/ole-miss-softball-vs-arkansas/
LOCATION:Ole Miss Softball Complex\, University\, MS\, 38677\, United States
CATEGORIES:Sports
ATTACH;FMTTYPE=image/jpeg:http://visit-oxford.s3.amazonaws.com/wp-content/uploads/2025/01/09124729/IMG_5729.jpg
GEO:33.4555279;-88.7903868
END:VEVENT
END:VCALENDAR