BEGIN:VCALENDAR
VERSION:2.0
PRODID:-//Visit Oxford MS - ECPv6.7.0//NONSGML v1.0//EN
CALSCALE:GREGORIAN
METHOD:PUBLISH
X-WR-CALNAME:Visit Oxford MS
X-ORIGINAL-URL:http://visitoxfordms.com.cft1.a2hosted.com
X-WR-CALDESC:Events for Visit Oxford MS
REFRESH-INTERVAL;VALUE=DURATION:PT1H
X-Robots-Tag:noindex
X-PUBLISHED-TTL:PT1H
BEGIN:VTIMEZONE
TZID:America/Chicago
BEGIN:DAYLIGHT
TZOFFSETFROM:-0600
TZOFFSETTO:-0500
TZNAME:CDT
DTSTART:20250309T080000
END:DAYLIGHT
BEGIN:STANDARD
TZOFFSETFROM:-0500
TZOFFSETTO:-0600
TZNAME:CST
DTSTART:20251102T070000
END:STANDARD
END:VTIMEZONE
BEGIN:VEVENT
DTSTART;VALUE=DATE:20250227
DTEND;VALUE=DATE:20250304
DTSTAMP:20260422T133929
CREATED:20230912T183634Z
LAST-MODIFIED:20250207T165519Z
UID:10000112-1740657600-1741003199@visitoxfordms.com.cft1.a2hosted.com
SUMMARY:Oxford Film Festival
DESCRIPTION:Thursday’s opening night highlights include screenings of “Chasing Rabbits” and “A House for My Mother\,” followed by Q&A sessions with the directors and producers. \n“A House for My Mother” is directed by Dr. Benjamin Nero\, who grew up in Greenwood\, Mississippi\, and Pilar Timpane\, a filmmaker and producer based in Durham\, North Carolina. Nero was the first Black graduate of the dentistry school at the University of Kentucky. He remains close with childhood friend and award-winning actor Morgan Freeman. \nNero and Timpane along with Producer Ana Hoppert Flores will participate in a panel discussion following the film’s screening. \n“Chasing Rabbits” – the directorial debut of novelist Michael Farris Smith – is the story of a truck stop waitress who finds her life changed after having her home vandalized in the middle of the night. Smith along with Producer Anthony Thaxton\, cast member McGhee Monteith\, and composer Cory Chisel will participate in a panel discussion following the film’s screening.  \nChisel was also the composer for films “House\,” “Desperation Road\,” and “I Saw the Light.” Born and raised in Mississippi\, Monteith appeared in the Oscar-winning film “Walk the Line” where she played Johnny Cash’s sister Reba Cash. Thaxton is the co-founder of the Institute for Southern Storytelling at Mississippi College.
URL:http://visitoxfordms.com.cft1.a2hosted.com/event/oxford-film-festival-6/
LOCATION:Various Venues
CATEGORIES:Family Friendly,Film
ATTACH;FMTTYPE=image/png:http://visit-oxford.s3.amazonaws.com/wp-content/uploads/2023/09/06092711/Screenshot-2024-11-06-at-9.26.55%E2%80%AFAM.png
END:VEVENT
BEGIN:VEVENT
DTSTART;TZID=America/Chicago:20250226T193000
DTEND;TZID=America/Chicago:20250226T193000
DTSTAMP:20260422T133929
CREATED:20250107T173422Z
LAST-MODIFIED:20250107T173430Z
UID:10000680-1740598200-1740598200@visitoxfordms.com.cft1.a2hosted.com
SUMMARY:Kindred Valley
DESCRIPTION:
URL:http://visitoxfordms.com.cft1.a2hosted.com/event/kindred-valley/
LOCATION:Proud Larry’s\, Oxford\, MS\, MS\, United States
CATEGORIES:Music
ATTACH;FMTTYPE=image/png:http://visit-oxford.s3.amazonaws.com/wp-content/uploads/2025/01/07113352/IMG_57028.png
GEO:34.3664951;-89.5192484
END:VEVENT
BEGIN:VEVENT
DTSTART;TZID=America/Chicago:20250226T180000
DTEND;TZID=America/Chicago:20250226T180000
DTSTAMP:20260422T133929
CREATED:20250109T182846Z
LAST-MODIFIED:20250109T182854Z
UID:10000743-1740592800-1740592800@visitoxfordms.com.cft1.a2hosted.com
SUMMARY:Ole Miss Softball vs. McNeese
DESCRIPTION:
URL:http://visitoxfordms.com.cft1.a2hosted.com/event/ole-miss-softball-vs-mcneese/
LOCATION:Ole Miss Softball Complex\, University\, MS\, 38677\, United States
CATEGORIES:Family Friendly,Sports
ATTACH;FMTTYPE=image/jpeg:http://visit-oxford.s3.amazonaws.com/wp-content/uploads/2025/01/09122511/BD87F3A5-127B-4932-AEE7-2A640C2E2AE3_4_5005_c.jpeg
GEO:33.4555279;-88.7903868
END:VEVENT
BEGIN:VEVENT
DTSTART;TZID=America/Chicago:20250226T173000
DTEND;TZID=America/Chicago:20250226T173000
DTSTAMP:20260422T133929
CREATED:20250204T220105Z
LAST-MODIFIED:20250204T221250Z
UID:10000788-1740591000-1740591000@visitoxfordms.com.cft1.a2hosted.com
SUMMARY:Adam Gussow for My Family and I
DESCRIPTION:Author and University of Mississippi professor Adam Gussow for My Family and I\, an inspiring memoir about the author’s lifelong quest for racial reconciliation\, the love that sustains his interracial family in contemporary Mississippi\, and the “Yes we can!” hope for American renewal that fades after the deaths of Trayvon Martin\, Michael Brown\, and the despair-driven rise of Black Lives Matter. \nAbout the book\nWhat has happened to the dream of beloved community embraced by Martin Luther King\, Jr. and the civil rights movement of the early 1960s—the vision of a just\, humane\, and colorblind America\, a nation of “black and white together” animated by the spirit of mutual respect and strengthened by the bonds of brotherly love? As Adam Gussow shows in this urgently needed new book\, the dream\, although pressured on every front\, remains alive. \nAt the heart of My Family and I is Gussow’s determination\, in King’s terms\, to live out the true meaning of America’s creed—a quest for transracial brotherhood that takes him from a blues partnership forged on the streets of 1980s Harlem through graduate training at Princeton and\, decades later\, a transformative course on the blues literary tradition that he shares with inmates at Mississippi’s notorious Parchman Farm. \nAnchoring Gussow’s quest is a story of enduring love: a playful\, soulful interracial romance between the newly hired professor at Ole Miss and his soon-to-be-wife Sherrie that blossoms with the birth of a musically gifted son\, Shaun. As America explodes with protest and riots in the summer of 2020 after the death of George Floyd\, as social justice fundamentalists insist on stigmatizing whiteness and hardening the color line rather than healing the divisions that plague us\, Gussow is forced to fight for what he loves—not just the sanctity of his family circle\, but King’s dream of beloved community. \nMy Family and I gifts the reader with hope for a future beyond America’s seemingly insoluble racial dilemmas. \nAbout the author\nAdam Gussow is a professor of English and Southern Studies at the University of Mississippi and a blues harmonica player and teacher. His many books on the blues include Seems Like Murder Here: Southern Violence and the Blues Tradition and Beyond the Crossroads: The Devil and the Blues Tradition. Gussow’s longtime musical partnership with Sterling “Mr Satan” Magee was the subject of an award-winning documentary\, Satan & Adam (2018)\, which screened on Netflix for several years.
URL:http://visitoxfordms.com.cft1.a2hosted.com/event/adam-gussow-for-my-family-and-i/
LOCATION:Off Square Books\, 129 Courthouse Square\, Oxford\, MS\, 38655\, United States
CATEGORIES:Literature
ATTACH;FMTTYPE=image/png:http://visit-oxford.s3.amazonaws.com/wp-content/uploads/2025/02/04160042/adam-gussow-my-family-and-i.png
GEO:34.3656558;-89.5183482
X-APPLE-STRUCTURED-LOCATION;VALUE=URI;X-ADDRESS=Off Square Books 129 Courthouse Square Oxford MS 38655 United States;X-APPLE-RADIUS=500;X-TITLE=129 Courthouse Square:geo:-89.5183482,34.3656558
END:VEVENT
BEGIN:VEVENT
DTSTART;TZID=America/Chicago:20250225T193000
DTEND;TZID=America/Chicago:20250225T193000
DTSTAMP:20260422T133929
CREATED:20250124T211816Z
LAST-MODIFIED:20250124T211824Z
UID:10000773-1740511800-1740511800@visitoxfordms.com.cft1.a2hosted.com
SUMMARY:2025 BLACK HISTORY MONTH CONCERT
DESCRIPTION:
URL:http://visitoxfordms.com.cft1.a2hosted.com/event/2025-black-history-month-concert/
LOCATION:Gertrude Castellow Ford Center for the Performing Arts\, 351 University Ave.\, Oxford\, MS\, 38655\, United States
CATEGORIES:Family Friendly,Music
ATTACH;FMTTYPE=image/png:http://visit-oxford.s3.amazonaws.com/wp-content/uploads/2025/01/24151420/2-25-25-BHMC-FBpost.png
GEO:34.3654343;-89.5288993
X-APPLE-STRUCTURED-LOCATION;VALUE=URI;X-ADDRESS=Gertrude Castellow Ford Center for the Performing Arts 351 University Ave. Oxford MS 38655 United States;X-APPLE-RADIUS=500;X-TITLE=351 University Ave.:geo:-89.5288993,34.3654343
END:VEVENT
BEGIN:VEVENT
DTSTART;TZID=America/Chicago:20250225T160000
DTEND;TZID=America/Chicago:20250225T170000
DTSTAMP:20260422T133929
CREATED:20250108T204422Z
LAST-MODIFIED:20250108T204422Z
UID:10000703-1740499200-1740502800@visitoxfordms.com.cft1.a2hosted.com
SUMMARY:Ole Miss Baseball vs. Southern Miss
DESCRIPTION:
URL:http://visitoxfordms.com.cft1.a2hosted.com/event/ole-miss-baseball-vs-southern-miss/
LOCATION:Swayze Field\, University\, MS\, 38655\, United States
CATEGORIES:Family Friendly,Sports
ATTACH;FMTTYPE=image/webp:http://visit-oxford.s3.amazonaws.com/wp-content/uploads/2025/01/08144405/fieild-.webp
GEO:34.3679733;-89.532696
END:VEVENT
BEGIN:VEVENT
DTSTART;TZID=America/Chicago:20250223T140000
DTEND;TZID=America/Chicago:20250223T140000
DTSTAMP:20260422T133929
CREATED:20240920T152530Z
LAST-MODIFIED:20241024T165302Z
UID:10000287-1740319200-1740319200@visitoxfordms.com.cft1.a2hosted.com
SUMMARY:OLE MISS WOMEN'S BASKETBALL VS. MISSOURI
DESCRIPTION:
URL:http://visitoxfordms.com.cft1.a2hosted.com/event/ole-miss-womens-basketball-vs-missouri/
LOCATION:The Pavilion at Ole Miss\, Ole Miss Campus\, Oxford\, MS\, 38655\, United States
CATEGORIES:Sports
ATTACH;FMTTYPE=image/png:http://visit-oxford.s3.amazonaws.com/wp-content/uploads/2024/09/20101913/Screenshot-2024-09-20-at-10.19.04-AM.png
GEO:34.3668075;-89.5344228
X-APPLE-STRUCTURED-LOCATION;VALUE=URI;X-ADDRESS=The Pavilion at Ole Miss Ole Miss Campus Oxford MS 38655 United States;X-APPLE-RADIUS=500;X-TITLE=Ole Miss Campus:geo:-89.5344228,34.3668075
END:VEVENT
BEGIN:VEVENT
DTSTART;TZID=America/Chicago:20250223T120000
DTEND;TZID=America/Chicago:20250223T170000
DTSTAMP:20260422T133929
CREATED:20250108T203244Z
LAST-MODIFIED:20250108T203244Z
UID:10000699-1740312000-1740330000@visitoxfordms.com.cft1.a2hosted.com
SUMMARY:Ole Miss Baseball vs. Eastern Kentucky
DESCRIPTION:
URL:http://visitoxfordms.com.cft1.a2hosted.com/event/ole-miss-baseball-vs-eastern-kentucky-3/
LOCATION:Swayze Field\, University\, MS\, 38655\, United States
CATEGORIES:Family Friendly,Sports
GEO:34.3679733;-89.532696
END:VEVENT
BEGIN:VEVENT
DTSTART;TZID=America/Chicago:20250222T133000
DTEND;TZID=America/Chicago:20250222T170000
DTSTAMP:20260422T133929
CREATED:20250108T203112Z
LAST-MODIFIED:20250108T203121Z
UID:10000698-1740231000-1740243600@visitoxfordms.com.cft1.a2hosted.com
SUMMARY:Ole Miss Baseball vs. Eastern Kentucky
DESCRIPTION:
URL:http://visitoxfordms.com.cft1.a2hosted.com/event/ole-miss-baseball-vs-eastern-kentucky-2/
LOCATION:Swayze Field\, University\, MS\, 38655\, United States
CATEGORIES:Family Friendly,Sports
ATTACH;FMTTYPE=image/jpeg:http://visit-oxford.s3.amazonaws.com/wp-content/uploads/2025/01/08142826/IMG_5708.jpg
GEO:34.3679733;-89.532696
END:VEVENT
BEGIN:VEVENT
DTSTART;VALUE=DATE:20250222
DTEND;VALUE=DATE:20250224
DTSTAMP:20260422T133929
CREATED:20250203T193118Z
LAST-MODIFIED:20250203T194112Z
UID:10000784-1740225600-1740311999@visitoxfordms.com.cft1.a2hosted.com
SUMMARY:Circle & Square Bock Party
DESCRIPTION:
URL:http://visitoxfordms.com.cft1.a2hosted.com/event/circle-square-bock-party/
LOCATION:Circle and Square Brewing Company\, Depot Street\, Oxford\, Mississippi\, 38655\, United States
CATEGORIES:Recreation
ATTACH;FMTTYPE=image/png:http://visit-oxford.s3.amazonaws.com/wp-content/uploads/2025/02/03132623/Screenshot-2025-02-03-at-1.25.45%E2%80%AFPM.png
GEO:34.3680427;-89.5277429
X-APPLE-STRUCTURED-LOCATION;VALUE=URI;X-ADDRESS=Circle and Square Brewing Company Depot Street Oxford Mississippi 38655 United States;X-APPLE-RADIUS=500;X-TITLE=Depot Street:geo:-89.5277429,34.3680427
END:VEVENT
BEGIN:VEVENT
DTSTART;TZID=America/Chicago:20250222T110000
DTEND;TZID=America/Chicago:20250222T110000
DTSTAMP:20260422T133929
CREATED:20250212T192601Z
LAST-MODIFIED:20250212T192624Z
UID:10000802-1740222000-1740222000@visitoxfordms.com.cft1.a2hosted.com
SUMMARY:Grand Concert featuring the Mid-South Honor Band
DESCRIPTION:Grand Concert featuring the Mid-South Honor Band Saturday\, February 22nd at 11:00am in the Gertrude C. Ford center. \nThis event is free of admission.
URL:http://visitoxfordms.com.cft1.a2hosted.com/event/grand-concert-featuring-the-mid-south-honor-band/
LOCATION:Gertrude Castellow Ford Center for the Performing Arts\, 351 University Ave.\, Oxford\, MS\, 38655\, United States
ATTACH;FMTTYPE=image/jpeg:http://visit-oxford.s3.amazonaws.com/wp-content/uploads/2025/02/12131759/HGB_0007-BC-wind-1-scaled.jpg
GEO:34.3654343;-89.5288993
X-APPLE-STRUCTURED-LOCATION;VALUE=URI;X-ADDRESS=Gertrude Castellow Ford Center for the Performing Arts 351 University Ave. Oxford MS 38655 United States;X-APPLE-RADIUS=500;X-TITLE=351 University Ave.:geo:-89.5288993,34.3654343
END:VEVENT
BEGIN:VEVENT
DTSTART;TZID=America/Chicago:20250221T210000
DTEND;TZID=America/Chicago:20250221T210000
DTSTAMP:20260422T133929
CREATED:20250127T162802Z
LAST-MODIFIED:20250127T162814Z
UID:10000778-1740171600-1740171600@visitoxfordms.com.cft1.a2hosted.com
SUMMARY:The Great Dying
DESCRIPTION:With Taylor Hollingsworth
URL:http://visitoxfordms.com.cft1.a2hosted.com/event/the-great-dying-2/
LOCATION:Proud Larry’s\, Oxford\, MS\, MS\, United States
CATEGORIES:Music
ATTACH;FMTTYPE=image/jpeg:http://visit-oxford.s3.amazonaws.com/wp-content/uploads/2025/01/27102636/The-Great-Dying-11.jpeg
GEO:34.3664951;-89.5192484
END:VEVENT
BEGIN:VEVENT
DTSTART;TZID=America/Chicago:20250221T193000
DTEND;TZID=America/Chicago:20250221T193000
DTSTAMP:20260422T133929
CREATED:20250212T191827Z
LAST-MODIFIED:20250212T192029Z
UID:10000801-1740166200-1740166200@visitoxfordms.com.cft1.a2hosted.com
SUMMARY:UM Wind Ensemble Concert
DESCRIPTION:UM Wind Ensemble Concert Friday\, February 21st at 7:30pm in the Gertrude C. Ford Center. \nThis event is free of admission.
URL:http://visitoxfordms.com.cft1.a2hosted.com/event/um-wind-ensemble-concert/
LOCATION:Gertrude Castellow Ford Center for the Performing Arts\, 351 University Ave.\, Oxford\, MS\, 38655\, United States
CATEGORIES:Music
ATTACH;FMTTYPE=image/jpeg:http://visit-oxford.s3.amazonaws.com/wp-content/uploads/2025/02/12131034/HGB_0007-BC-wind-scaled.jpg
GEO:34.3654343;-89.5288993
X-APPLE-STRUCTURED-LOCATION;VALUE=URI;X-ADDRESS=Gertrude Castellow Ford Center for the Performing Arts 351 University Ave. Oxford MS 38655 United States;X-APPLE-RADIUS=500;X-TITLE=351 University Ave.:geo:-89.5288993,34.3654343
END:VEVENT
BEGIN:VEVENT
DTSTART;TZID=America/Chicago:20250221T160000
DTEND;TZID=America/Chicago:20250221T170000
DTSTAMP:20260422T133929
CREATED:20250108T203007Z
LAST-MODIFIED:20250108T203017Z
UID:10000697-1740153600-1740157200@visitoxfordms.com.cft1.a2hosted.com
SUMMARY:Ole Miss Baseball vs. Eastern Kentucky
DESCRIPTION:
URL:http://visitoxfordms.com.cft1.a2hosted.com/event/ole-miss-baseball-vs-eastern-kentucky/
LOCATION:Swayze Field\, University\, MS\, 38655\, United States
CATEGORIES:Family Friendly,Sports
GEO:34.3679733;-89.532696
END:VEVENT
BEGIN:VEVENT
DTSTART;TZID=America/Chicago:20250220T190000
DTEND;TZID=America/Chicago:20250220T190000
DTSTAMP:20260422T133929
CREATED:20250212T191128Z
LAST-MODIFIED:20250212T191225Z
UID:10000800-1740078000-1740078000@visitoxfordms.com.cft1.a2hosted.com
SUMMARY:The Mississippians (Ole Miss Jazz) and The UM Symphonic Band
DESCRIPTION:The Mississippians and the UM Symphonic Band concert will be held on Thursday\, February 20th at 7:00pm in the Gertrude C. Ford Center. \nThis event is free of Admission.
URL:http://visitoxfordms.com.cft1.a2hosted.com/event/the-mississippians-ole-miss-jazz-and-the-um-symphonic-band/
LOCATION:Gertrude Castellow Ford Center for the Performing Arts\, 351 University Ave.\, Oxford\, MS\, 38655\, United States
CATEGORIES:Music
ATTACH;FMTTYPE=image/jpeg:http://visit-oxford.s3.amazonaws.com/wp-content/uploads/2025/02/12131034/HGB_0007-BC-wind-scaled.jpg
GEO:34.3654343;-89.5288993
X-APPLE-STRUCTURED-LOCATION;VALUE=URI;X-ADDRESS=Gertrude Castellow Ford Center for the Performing Arts 351 University Ave. Oxford MS 38655 United States;X-APPLE-RADIUS=500;X-TITLE=351 University Ave.:geo:-89.5288993,34.3654343
END:VEVENT
BEGIN:VEVENT
DTSTART;TZID=America/Chicago:20250220T180000
DTEND;TZID=America/Chicago:20250220T180000
DTSTAMP:20260422T133929
CREATED:20250109T175842Z
LAST-MODIFIED:20250109T175915Z
UID:10000741-1740074400-1740074400@visitoxfordms.com.cft1.a2hosted.com
SUMMARY:THACKER MOUNTAIN RADIO HOUR: Callan Wink for Beartooth
DESCRIPTION:Callan Wink for Beartooth\, a bracing\, masterful novel about survival\, revenge\, and the bond between brothers \nAbout the book \n“One of the best and fiercest heist stories since A Simple Plan . . . Beartooth is unstoppable\, the literary treasure you’ve been looking for.”–Junot Diaz \nTwo brothers in dire straits\, living on the edge of Yellowstone\, agree to a desperate act of survival in this taut\, propulsive novel reminiscent of the works of Peter Heller and Donald Ray Pollock. \nIn an aging\, timber house hand-built into the Absaroka-Beartooth mountains\, two brothers are struggling to keep up with their debts. They live off the grid\, on the fringe of Yellowstone\, surviving off the wild after the death of their father. Thad\, the elder\, is more capable of engaging with things like the truck registration\, or the medical bills they can’t afford from their father’s fatal illness\, or the tax lien on the cabin their grandfather built\, while Hazen is . . . different\, more instinctual\, deeply in tune with the natural world. Desperate for money\, they are approached by a shadowy out-of-towner with a dangerous proposition that will change both of their lives forever. \nBeartooth is a fast-paced tale with moments of surprising poignancy set in the grandeur of the American West. Evoking the timeless voices of American pastoral storytelling\, this is a bracing\, masterful novel about survival\, revenge\, and the bond between brothers. \nAbout the author \nCallan Wink has been awarded fellowships by the National Endowment for the Arts and Stanford University\, where he was a Wallace Stegner Fellow. His stories and essays have been published in the New Yorker\, Granta\, Playboy\, Men’s Journal\, and The Best American Short Stories. He is the author of a novel\, August\, and a collection of short stories\, Dog Run Moon. He lives in Livingston\, Montana\, where he is a fly-fishing guide on the Yellowstone River.
URL:http://visitoxfordms.com.cft1.a2hosted.com/event/thacker-mountain-radio-hour-callan-wink-for-beartooth/
LOCATION:Off Square Books\, 129 Courthouse Square\, Oxford\, MS\, 38655\, United States
CATEGORIES:Literature
ATTACH;FMTTYPE=image/png:http://visit-oxford.s3.amazonaws.com/wp-content/uploads/2025/01/09115903/event-icon-20_0.png
GEO:34.3656558;-89.5183482
X-APPLE-STRUCTURED-LOCATION;VALUE=URI;X-ADDRESS=Off Square Books 129 Courthouse Square Oxford MS 38655 United States;X-APPLE-RADIUS=500;X-TITLE=129 Courthouse Square:geo:-89.5183482,34.3656558
END:VEVENT
BEGIN:VEVENT
DTSTART;VALUE=DATE:20250220
DTEND;VALUE=DATE:20250224
DTSTAMP:20260422T133929
CREATED:20250103T195839Z
LAST-MODIFIED:20250103T200245Z
UID:10000648-1740052800-1740311999@visitoxfordms.com.cft1.a2hosted.com
SUMMARY:Mid-South Honor Band
DESCRIPTION:Nomination Link: https://docs.google.com/forms/d/e/1FAIpQLScOBJbpHXE05PGPMYZsDc6UjrLPGErijfnQjlWzvSKbr29gNQ/viewform \n  \nThe 46th Annual Mid-South Honor Band Clinic will be held February 20-22\, 2025 on the campus of the University of Mississippi in Oxford.  The Mid-South Honor Band clinic is sponsored by the Ole Miss Bands and the UM Department of Music. The clinic will consist of two honor bands (Symphonic and Concert Band) directed by Dr. Mark Walker\, Director of Bands at Troy University\, and DeeDee Pitts\, Assistant Director of Bands at Gulfport High School.
URL:http://visitoxfordms.com.cft1.a2hosted.com/event/mid-south-honor-band/
LOCATION:MS
CATEGORIES:Music
ATTACH;FMTTYPE=image/webp:http://visit-oxford.s3.amazonaws.com/wp-content/uploads/2025/01/03140159/honor-band_hero-hgb_0007-bb_wind_ensemble_2024.webp
END:VEVENT
BEGIN:VEVENT
DTSTART;TZID=America/Chicago:20250220T110000
DTEND;TZID=America/Chicago:20250220T130000
DTSTAMP:20260422T133929
CREATED:20231204T161621Z
LAST-MODIFIED:20241231T160147Z
UID:10000306-1740049200-1740056400@visitoxfordms.com.cft1.a2hosted.com
SUMMARY:Empty Bowls Fundraiser Luncheon
DESCRIPTION:Save the Date for the Oxford Pantry’s upcoming Empty Bowls Fundraiser luncheon.  Approximately two-dozen restaurants will be providing their specialty soups and over twenty potters will be donating beautiful hand-crafted bowls for guests to choose their favorite to take home.
URL:http://visitoxfordms.com.cft1.a2hosted.com/event/empty-bowls-fundraiser-luncheon/
LOCATION:Oxford Conference Center\, 102 Ed Perry Blvd\, Oxford\, MS\, 38655\, United States
CATEGORIES:Culinary,Fundraiser
ATTACH;FMTTYPE=image/png:http://visit-oxford.s3.amazonaws.com/wp-content/uploads/2024/12/30164308/Screenshot-2024-12-30-at-4.39.39%E2%80%AFPM.png
GEO:34.3715376;-89.499527
X-APPLE-STRUCTURED-LOCATION;VALUE=URI;X-ADDRESS=Oxford Conference Center 102 Ed Perry Blvd Oxford MS 38655 United States;X-APPLE-RADIUS=500;X-TITLE=102 Ed Perry Blvd:geo:-89.499527,34.3715376
END:VEVENT
BEGIN:VEVENT
DTSTART;TZID=America/Chicago:20250220T080000
DTEND;TZID=America/Chicago:20250220T170000
DTSTAMP:20260422T133929
CREATED:20250212T191128Z
LAST-MODIFIED:20250212T191225Z
UID:10000799-1740038400-1740070800@visitoxfordms.com.cft1.a2hosted.com
SUMMARY:The Mississippians (Ole Miss Jazz) and The UM Symphonic Band
DESCRIPTION:The Mississippians and the UM Symphonic Band concert will be held on Thursday\, February 20th at 7:00pm in the Gertrude C. Ford Center. \nThis event is free of Admission.
URL:http://visitoxfordms.com.cft1.a2hosted.com/event/the-mississippians-ole-miss-jazz-and-the-um-symphonic-band/
LOCATION:Gertrude Castellow Ford Center for the Performing Arts\, 351 University Ave.\, Oxford\, MS\, 38655\, United States
CATEGORIES:Music
ATTACH;FMTTYPE=image/jpeg:http://visit-oxford.s3.amazonaws.com/wp-content/uploads/2025/02/12131034/HGB_0007-BC-wind-scaled.jpg
GEO:34.3654343;-89.5288993
X-APPLE-STRUCTURED-LOCATION;VALUE=URI;X-ADDRESS=Gertrude Castellow Ford Center for the Performing Arts 351 University Ave. Oxford MS 38655 United States;X-APPLE-RADIUS=500;X-TITLE=351 University Ave.:geo:-89.5288993,34.3654343
END:VEVENT
BEGIN:VEVENT
DTSTART;TZID=America/Chicago:20250219T193000
DTEND;TZID=America/Chicago:20250219T193000
DTSTAMP:20260422T133929
CREATED:20250103T195739Z
LAST-MODIFIED:20250108T204110Z
UID:10000702-1739993400-1739993400@visitoxfordms.com.cft1.a2hosted.com
SUMMARY:Five Faculty Recital- Yoojung Kim
DESCRIPTION:
URL:http://visitoxfordms.com.cft1.a2hosted.com/event/five-faculty-recital-yoojung-kim/
LOCATION:David H. Nutt Auditorium\, Oxford\, MS\, 38655
CATEGORIES:Music
GEO:34.3664951;-89.5192484
END:VEVENT
BEGIN:VEVENT
DTSTART;TZID=America/Chicago:20250218T140000
DTEND;TZID=America/Chicago:20250218T170000
DTSTAMP:20260422T133929
CREATED:20250108T202910Z
LAST-MODIFIED:20250218T154207Z
UID:10000696-1739887200-1739898000@visitoxfordms.com.cft1.a2hosted.com
SUMMARY:Ole Miss Baseball vs. Arkansas State
DESCRIPTION:
URL:http://visitoxfordms.com.cft1.a2hosted.com/event/ole-miss-baseball-vs-arkansas-state-2/
LOCATION:Swayze Field\, University\, MS\, 38655\, United States
CATEGORIES:Sports
ATTACH;FMTTYPE=image/jpeg:http://visit-oxford.s3.amazonaws.com/wp-content/uploads/2025/01/08142835/IMG_5710.jpg
GEO:34.3679733;-89.532696
END:VEVENT
BEGIN:VEVENT
DTSTART;TZID=America/Chicago:20250218T103658
DTEND;TZID=America/Chicago:20250218T103658
DTSTAMP:20260422T133929
CREATED:20250218T163440Z
LAST-MODIFIED:20250304T213502Z
UID:10000811-1739875018-1739875018@visitoxfordms.com.cft1.a2hosted.com
SUMMARY:Evey & Ellie's Annual Easter Eggstravaganza
DESCRIPTION:
URL:http://visitoxfordms.com.cft1.a2hosted.com/event/evey-ellies-annual-easter-eggstravaganza/2025-02-18/
LOCATION:MS
CATEGORIES:Family Friendly,Holiday
ATTACH;FMTTYPE=image/png:http://visit-oxford.s3.amazonaws.com/wp-content/uploads/2025/02/18103013/Screenshot-2025-02-18-at-10.27.46%E2%80%AFAM-1.png
END:VEVENT
BEGIN:VEVENT
DTSTART;TZID=America/Chicago:20250217T193000
DTEND;TZID=America/Chicago:20250217T193000
DTSTAMP:20260422T133929
CREATED:20250103T195353Z
LAST-MODIFIED:20250108T204044Z
UID:10000701-1739820600-1739820600@visitoxfordms.com.cft1.a2hosted.com
SUMMARY:Sonic Explorations- Concert 11
DESCRIPTION:
URL:http://visitoxfordms.com.cft1.a2hosted.com/event/sonic-explorations-concert-11/
LOCATION:David H. Nutt Auditorium\, Oxford\, MS\, 38655
CATEGORIES:Music
GEO:34.3664951;-89.5192484
END:VEVENT
BEGIN:VEVENT
DTSTART;TZID=America/Chicago:20250216T180000
DTEND;TZID=America/Chicago:20250216T180000
DTSTAMP:20260422T133929
CREATED:20250127T162354Z
LAST-MODIFIED:20250127T162404Z
UID:10000777-1739728800-1739728800@visitoxfordms.com.cft1.a2hosted.com
SUMMARY:Vincent Mason
DESCRIPTION:
URL:http://visitoxfordms.com.cft1.a2hosted.com/event/vincent-mason-2/
LOCATION:Proud Larry’s\, Oxford\, MS\, MS\, United States
CATEGORIES:Music
ATTACH;FMTTYPE=image/png:http://visit-oxford.s3.amazonaws.com/wp-content/uploads/2025/01/07105321/IMG_570159.png
GEO:34.3664951;-89.5192484
END:VEVENT
BEGIN:VEVENT
DTSTART;TZID=America/Chicago:20250215T210000
DTEND;TZID=America/Chicago:20250215T210000
DTSTAMP:20260422T133929
CREATED:20250203T185914Z
LAST-MODIFIED:20250203T185923Z
UID:10000783-1739653200-1739653200@visitoxfordms.com.cft1.a2hosted.com
SUMMARY:Fuego y Amor
DESCRIPTION:
URL:http://visitoxfordms.com.cft1.a2hosted.com/event/fuego-y-amor/
LOCATION:The Lyric\, 1006 Van Buren \, Oxford\, MS\, 38655\, United States
CATEGORIES:Dance,Music
ATTACH;FMTTYPE=image/png:http://visit-oxford.s3.amazonaws.com/wp-content/uploads/2025/02/03125600/Screenshot-2025-02-03-at-12.52.09%E2%80%AFPM.png
GEO:34.3662931;-89.5209192
X-APPLE-STRUCTURED-LOCATION;VALUE=URI;X-ADDRESS=The Lyric 1006 Van Buren  Oxford MS 38655 United States;X-APPLE-RADIUS=500;X-TITLE=1006 Van Buren:geo:-89.5209192,34.3662931
END:VEVENT
BEGIN:VEVENT
DTSTART;TZID=America/Chicago:20250215T210000
DTEND;TZID=America/Chicago:20250215T210000
DTSTAMP:20260422T133929
CREATED:20250107T165424Z
LAST-MODIFIED:20250107T165431Z
UID:10000668-1739653200-1739653200@visitoxfordms.com.cft1.a2hosted.com
SUMMARY:Vincent Mason
DESCRIPTION:
URL:http://visitoxfordms.com.cft1.a2hosted.com/event/vincent-mason/
LOCATION:Proud Larry’s\, Oxford\, MS\, MS\, United States
CATEGORIES:Music
ATTACH;FMTTYPE=image/png:http://visit-oxford.s3.amazonaws.com/wp-content/uploads/2025/01/07105321/IMG_570159.png
GEO:34.3664951;-89.5192484
END:VEVENT
BEGIN:VEVENT
DTSTART;TZID=America/Chicago:20250215T193000
DTEND;TZID=America/Chicago:20250215T193000
DTSTAMP:20260422T133929
CREATED:20250103T195115Z
LAST-MODIFIED:20250108T204005Z
UID:10000700-1739647800-1739647800@visitoxfordms.com.cft1.a2hosted.com
SUMMARY:Guest Artist Recital- Yoon-Wha Roh and Jihyun Kim
DESCRIPTION:
URL:http://visitoxfordms.com.cft1.a2hosted.com/event/guest-artist-recital-yoon-wha-roh-and-jihyun-kim/
LOCATION:David H. Nutt Auditorium\, Oxford\, MS\, 38655
CATEGORIES:Music
GEO:34.3664951;-89.5192484
END:VEVENT
BEGIN:VEVENT
DTSTART;TZID=America/Chicago:20250215T170000
DTEND;TZID=America/Chicago:20250215T170000
DTSTAMP:20260422T133929
CREATED:20240920T144124Z
LAST-MODIFIED:20241121T164640Z
UID:10000275-1739638800-1739638800@visitoxfordms.com.cft1.a2hosted.com
SUMMARY:OLE MISS BASKETBALL VS. MISSISSIPPI STATE
DESCRIPTION:
URL:http://visitoxfordms.com.cft1.a2hosted.com/event/ole-miss-basketball-vs-mississippi-state/
LOCATION:The Pavilion at Ole Miss\, Ole Miss Campus\, Oxford\, MS\, 38655\, United States
CATEGORIES:Sports
ATTACH;FMTTYPE=image/png:http://visit-oxford.s3.amazonaws.com/wp-content/uploads/2024/09/18162744/Screenshot-2024-09-18-at-4.27.35-PM.png
GEO:34.3668075;-89.5344228
X-APPLE-STRUCTURED-LOCATION;VALUE=URI;X-ADDRESS=The Pavilion at Ole Miss Ole Miss Campus Oxford MS 38655 United States;X-APPLE-RADIUS=500;X-TITLE=Ole Miss Campus:geo:-89.5344228,34.3668075
END:VEVENT
BEGIN:VEVENT
DTSTART;TZID=America/Chicago:20250214T210000
DTEND;TZID=America/Chicago:20250214T210000
DTSTAMP:20260422T133929
CREATED:20250127T161819Z
LAST-MODIFIED:20250127T161834Z
UID:10000776-1739566800-1739566800@visitoxfordms.com.cft1.a2hosted.com
SUMMARY:Code Pink: Love Game
DESCRIPTION:FALL IN LOVE this Valentine’s Day/ Dance. Drag. Rave. \nDoors at 9pm\, drag show at 10pm
URL:http://visitoxfordms.com.cft1.a2hosted.com/event/code-pink-love-game/
LOCATION:The Lyric\, 1006 Van Buren \, Oxford\, MS\, 38655\, United States
CATEGORIES:Dance,Music
ATTACH;FMTTYPE=image/webp:http://visit-oxford.s3.amazonaws.com/wp-content/uploads/2025/01/27101716/eyJidWNrZXQiOiJwcm9kLXNpaC5zZWV0aWNrZXRzdXNhLnVzIiwia2V5IjoiNWVhMzAyYjEtZDk3Yy00MmUzLTgzYjAtMGUzNmJkNGM1MTBlIiwiZWRpdHMiOnt9fQ.webp
GEO:34.3662931;-89.5209192
X-APPLE-STRUCTURED-LOCATION;VALUE=URI;X-ADDRESS=The Lyric 1006 Van Buren  Oxford MS 38655 United States;X-APPLE-RADIUS=500;X-TITLE=1006 Van Buren:geo:-89.5209192,34.3662931
END:VEVENT
BEGIN:VEVENT
DTSTART;TZID=America/Chicago:20250214T210000
DTEND;TZID=America/Chicago:20250214T210000
DTSTAMP:20260422T133929
CREATED:20250107T170516Z
LAST-MODIFIED:20250107T170537Z
UID:10000672-1739566800-1739566800@visitoxfordms.com.cft1.a2hosted.com
SUMMARY:Arts Fishing Club
DESCRIPTION:
URL:http://visitoxfordms.com.cft1.a2hosted.com/event/arts-fishing-club/
LOCATION:MS
CATEGORIES:Music
ATTACH;FMTTYPE=image/png:http://visit-oxford.s3.amazonaws.com/wp-content/uploads/2025/01/07110458/IMG_570093.png
END:VEVENT
END:VCALENDAR