BEGIN:VCALENDAR
VERSION:2.0
PRODID:-//Visit Oxford MS - ECPv6.7.0//NONSGML v1.0//EN
CALSCALE:GREGORIAN
METHOD:PUBLISH
X-WR-CALNAME:Visit Oxford MS
X-ORIGINAL-URL:http://visitoxfordms.com.cft1.a2hosted.com
X-WR-CALDESC:Events for Visit Oxford MS
REFRESH-INTERVAL;VALUE=DURATION:PT1H
X-Robots-Tag:noindex
X-PUBLISHED-TTL:PT1H
BEGIN:VTIMEZONE
TZID:America/Chicago
BEGIN:DAYLIGHT
TZOFFSETFROM:-0600
TZOFFSETTO:-0500
TZNAME:CDT
DTSTART:20240310T080000
END:DAYLIGHT
BEGIN:STANDARD
TZOFFSETFROM:-0500
TZOFFSETTO:-0600
TZNAME:CST
DTSTART:20241103T070000
END:STANDARD
BEGIN:DAYLIGHT
TZOFFSETFROM:-0600
TZOFFSETTO:-0500
TZNAME:CDT
DTSTART:20250309T080000
END:DAYLIGHT
BEGIN:STANDARD
TZOFFSETFROM:-0500
TZOFFSETTO:-0600
TZNAME:CST
DTSTART:20251102T070000
END:STANDARD
END:VTIMEZONE
BEGIN:VEVENT
DTSTART;TZID=America/Chicago:20250117T173000
DTEND;TZID=America/Chicago:20250117T173000
DTSTAMP:20260423T043552
CREATED:20250109T174212Z
LAST-MODIFIED:20250109T174233Z
UID:10000735-1737135000-1737135000@visitoxfordms.com.cft1.a2hosted.com
SUMMARY:Adam Ross for Playworld
DESCRIPTION:Author Adam Ross in conversation for Playworld\, a story of miseducation set in a bygone Manhattan. \n\n\n\n\n\nAbout the book \n“In the fall of 1980\, when I was fourteen\, a friend of my parents named Naomi Shah fell in love with me. She was thirty-six\, a mother of two\, and married to a wealthy man. Like so many things that happened to me that year\, it didn’t seem strange at the time.” \nGriffin Hurt is in over his head. Between his role as Peter Proton on the hit TV show The Nuclear Family and the pressure of high school at New York’s elite Boyd Prep—along with the increasingly compromising demands of his wrestling coach—he’s teetering on the edge of collapse. \nThen comes Naomi Shah\, twenty-two years Griffin’s senior. Unwilling to lay his burdens on his shrink—whom he shares with his father\, mother\, and younger brother\, Oren—Griffin soon finds himself in the back of Naomi’s Mercedes sedan\, again and again\, confessing all to the one person who might do him the most harm. \nLess a bildungsroman than a story of miseducation\, Playworld is a novel of epic proportions\, bursting with laughter and heartache. \nAbout the author \nAdam Ross is the author of Mr. Peanut\, which was selected as one of the best books of the year by The New York Times\, The New Yorker\, and The Economist. He has been a fellow in fiction at the American Academy in Berlin and a Hodder Fellow for Fiction at Princeton University. He is editor of The Sewanee Review. Born and raised in New York City\, he now lives in Nashville\, Tennessee\, with his two daughters
URL:http://visitoxfordms.com.cft1.a2hosted.com/event/adam-ross-for-playworld/
LOCATION:Off Square Books\, 129 Courthouse Square\, Oxford\, MS\, 38655\, United States
CATEGORIES:Literature
ATTACH;FMTTYPE=image/png:http://visit-oxford.s3.amazonaws.com/wp-content/uploads/2025/01/09114158/event-icon-20-3-1.png
GEO:34.3656558;-89.5183482
X-APPLE-STRUCTURED-LOCATION;VALUE=URI;X-ADDRESS=Off Square Books 129 Courthouse Square Oxford MS 38655 United States;X-APPLE-RADIUS=500;X-TITLE=129 Courthouse Square:geo:-89.5183482,34.3656558
END:VEVENT
BEGIN:VEVENT
DTSTART;TZID=America/Chicago:20250116T210000
DTEND;TZID=America/Chicago:20250116T210000
DTSTAMP:20260423T043552
CREATED:20250107T170706Z
LAST-MODIFIED:20250107T170802Z
UID:10000673-1737061200-1737061200@visitoxfordms.com.cft1.a2hosted.com
SUMMARY:The Droptines
DESCRIPTION:
URL:http://visitoxfordms.com.cft1.a2hosted.com/event/the-droptines/
LOCATION:Proud Larry’s\, Oxford\, MS\, MS\, United States
CATEGORIES:Music
ATTACH;FMTTYPE=image/png:http://visit-oxford.s3.amazonaws.com/wp-content/uploads/2025/01/07110655/IMG_568929.png
GEO:34.3664951;-89.5192484
END:VEVENT
BEGIN:VEVENT
DTSTART;TZID=America/Chicago:20250116T200000
DTEND;TZID=America/Chicago:20250116T200000
DTSTAMP:20260423T043552
CREATED:20240920T151931Z
LAST-MODIFIED:20250105T172926Z
UID:10000273-1737057600-1737057600@visitoxfordms.com.cft1.a2hosted.com
SUMMARY:OLE MISS WOMEN'S BASKETBALL VS. FLORIDA
DESCRIPTION:
URL:http://visitoxfordms.com.cft1.a2hosted.com/event/ole-miss-womens-basketball-vs-florida-2/
LOCATION:The Pavilion at Ole Miss\, Ole Miss Campus\, Oxford\, MS\, 38655\, United States
CATEGORIES:Sports
ATTACH;FMTTYPE=image/png:http://visit-oxford.s3.amazonaws.com/wp-content/uploads/2024/09/20101913/Screenshot-2024-09-20-at-10.19.04-AM.png
GEO:34.3668075;-89.5344228
X-APPLE-STRUCTURED-LOCATION;VALUE=URI;X-ADDRESS=The Pavilion at Ole Miss Ole Miss Campus Oxford MS 38655 United States;X-APPLE-RADIUS=500;X-TITLE=Ole Miss Campus:geo:-89.5344228,34.3668075
END:VEVENT
BEGIN:VEVENT
DTSTART;TZID=America/Chicago:20250114T190000
DTEND;TZID=America/Chicago:20250114T190000
DTSTAMP:20260423T043552
CREATED:20241219T184439Z
LAST-MODIFIED:20241219T215819Z
UID:10000627-1736881200-1736881200@visitoxfordms.com.cft1.a2hosted.com
SUMMARY:Oxford Film Festival Alumni Film Screening ‘Far East Deep South’
DESCRIPTION:
URL:http://visitoxfordms.com.cft1.a2hosted.com/event/oxford-film-festival-alumni-film-screening-far-east-deep-south/
LOCATION:Malco Oxford Commons\, 206 Commonwealth Blvd.\, Oxford\, MS\, 38655
CATEGORIES:Film,Free
ATTACH;FMTTYPE=image/png:http://visit-oxford.s3.amazonaws.com/wp-content/uploads/2024/12/19124216/OxFF_FarEastDeepSouth.jpg.png
GEO:34.3732138;-89.4957299
X-APPLE-STRUCTURED-LOCATION;VALUE=URI;X-ADDRESS=Malco Oxford Commons 206 Commonwealth Blvd. Oxford MS 38655;X-APPLE-RADIUS=500;X-TITLE=206 Commonwealth Blvd.:geo:-89.4957299,34.3732138
END:VEVENT
BEGIN:VEVENT
DTSTART;TZID=America/Chicago:20250113T173000
DTEND;TZID=America/Chicago:20250113T173000
DTSTAMP:20260423T043552
CREATED:20250109T174014Z
LAST-MODIFIED:20250109T174023Z
UID:10000734-1736789400-1736789400@visitoxfordms.com.cft1.a2hosted.com
SUMMARY:CHRIS WHITAKER FOR ALL COLORS OF THE DARK
DESCRIPTION:A journey full of unexpected twists\, shattering turns\, and moments of heart-wrenching beauty \nBest-selling author Chris Whitaker in conversation with Sarah Frances Hardy for All the Colors of the Dark\, a heart-wrenching epic of light and dark\, triumph and tragedy\, devotion and obsession and the fine line that separates them. \n\n\n\n\nAbout the book \n“With deeply affecting characters and ambition to spare\, Whitaker has conjured a dazzling epic that defies easy categorization.”—Publishers Weekly\, starred review \n1975 is a time of change in America. The Vietnam War is ending. Muhammad Ali is fighting Joe Frazier. And in the smalltown of Monta Clare\, Missouri\, girls are disappearing. \nWhen the daughter of a wealthy family is targeted\, the most unlikely hero emerges—Patch\, a local boy\, who saves the girl\, and\, in doing so\, leaves heartache in his wake. \nPatch and those who love him soon discover that the line between triumph and tragedy has never been finer. And that their search for answers will lead them to truths that could mean losing one another. \nAbout the author \nChris Whitaker is the award-winning author of Tall Oaks\, All the Wicked Girls\, and the New York Times bestseller We Begin at the End. Chris lives in the UK. \nAbout the conversation partner \nSarah Frances Hardy is the award winning author/illustrator of four children’s books and is a frequent presenter at schools and writing conferences. A “professional volunteer”\, Sarah Frances is involved in several statewide arts organizations including the Mississippi Institute of Arts and Letters\, the UM Friends of the Library\, and the Society of Children’s Book Authors and Illustrators. Notably\, her illustration work is featured in a permanent exhibit at the Mississippi Children’s museum in Jackson\, Mississippi. Her most recent collaboration is a children’s book based on the newly adopted official state song of Mississippi\, ONE MISSISSIPPI\, written by singer/songwriter Steve Azar.
URL:http://visitoxfordms.com.cft1.a2hosted.com/event/chris-whitaker-for-all-colors-of-the-dark/
LOCATION:Off Square Books\, 129 Courthouse Square\, Oxford\, MS\, 38655\, United States
CATEGORIES:Literature
ATTACH;FMTTYPE=image/png:http://visit-oxford.s3.amazonaws.com/wp-content/uploads/2025/01/09113955/event-icon-20-3.png
GEO:34.3656558;-89.5183482
X-APPLE-STRUCTURED-LOCATION;VALUE=URI;X-ADDRESS=Off Square Books 129 Courthouse Square Oxford MS 38655 United States;X-APPLE-RADIUS=500;X-TITLE=129 Courthouse Square:geo:-89.5183482,34.3656558
END:VEVENT
BEGIN:VEVENT
DTSTART;TZID=America/Chicago:20250112T150000
DTEND;TZID=America/Chicago:20250112T150000
DTSTAMP:20260423T043552
CREATED:20240920T151714Z
LAST-MODIFIED:20241024T165000Z
UID:10000269-1736694000-1736694000@visitoxfordms.com.cft1.a2hosted.com
SUMMARY:OLE MISS WOMEN'S BASKETBALL VS. ALABAMA
DESCRIPTION:
URL:http://visitoxfordms.com.cft1.a2hosted.com/event/ole-miss-womens-basketball-vs-alabama/
LOCATION:The Pavilion at Ole Miss\, Ole Miss Campus\, Oxford\, MS\, 38655\, United States
CATEGORIES:Sports
ATTACH;FMTTYPE=image/png:http://visit-oxford.s3.amazonaws.com/wp-content/uploads/2024/09/20101700/Screenshot-2024-09-20-at-10.16.52-AM.png
GEO:34.3668075;-89.5344228
X-APPLE-STRUCTURED-LOCATION;VALUE=URI;X-ADDRESS=The Pavilion at Ole Miss Ole Miss Campus Oxford MS 38655 United States;X-APPLE-RADIUS=500;X-TITLE=Ole Miss Campus:geo:-89.5344228,34.3668075
END:VEVENT
BEGIN:VEVENT
DTSTART;TZID=America/Chicago:20250111T170000
DTEND;TZID=America/Chicago:20250111T170000
DTSTAMP:20260423T043552
CREATED:20240920T143046Z
LAST-MODIFIED:20241121T163857Z
UID:10000258-1736614800-1736614800@visitoxfordms.com.cft1.a2hosted.com
SUMMARY:OLE MISS BASKETBALL VS. LSU
DESCRIPTION:
URL:http://visitoxfordms.com.cft1.a2hosted.com/event/ole-miss-basketball-vs-lsu/
LOCATION:The Pavilion at Ole Miss\, Ole Miss Campus\, Oxford\, MS\, 38655\, United States
CATEGORIES:Sports
ATTACH;FMTTYPE=image/png:http://visit-oxford.s3.amazonaws.com/wp-content/uploads/2024/09/20092948/Screenshot-2024-09-20-at-9.29.39-AM.png
GEO:34.3668075;-89.5344228
X-APPLE-STRUCTURED-LOCATION;VALUE=URI;X-ADDRESS=The Pavilion at Ole Miss Ole Miss Campus Oxford MS 38655 United States;X-APPLE-RADIUS=500;X-TITLE=Ole Miss Campus:geo:-89.5344228,34.3668075
END:VEVENT
BEGIN:VEVENT
DTSTART;TZID=America/Chicago:20250111T080000
DTEND;TZID=America/Chicago:20250111T110000
DTSTAMP:20260423T043552
CREATED:20241231T164239Z
LAST-MODIFIED:20241231T164244Z
UID:10000639-1736582400-1736593200@visitoxfordms.com.cft1.a2hosted.com
SUMMARY:Basketball 101
DESCRIPTION:Basketball 101\nPurpose: Get a behind the scenes look and learn about the game of basketball from the Coaches of Team 50!
URL:http://visitoxfordms.com.cft1.a2hosted.com/event/basketball-101/
LOCATION:Tuohy Basketball Center
CATEGORIES:Sports
ATTACH;FMTTYPE=image/png:http://visit-oxford.s3.amazonaws.com/wp-content/uploads/2024/12/31103904/Screenshot-2024-12-31-at-10.37.33%E2%80%AFAM.png
END:VEVENT
BEGIN:VEVENT
DTSTART;TZID=America/Chicago:20250109T183000
DTEND;TZID=America/Chicago:20250109T183000
DTSTAMP:20260423T043552
CREATED:20240920T151542Z
LAST-MODIFIED:20241024T164914Z
UID:10000266-1736447400-1736447400@visitoxfordms.com.cft1.a2hosted.com
SUMMARY:OLE MISS WOMEN'S BASKETBALL VS. VANDERBILT
DESCRIPTION:
URL:http://visitoxfordms.com.cft1.a2hosted.com/event/ole-miss-womens-basketball-vs-vanderbilt/
LOCATION:The Pavilion at Ole Miss\, Ole Miss Campus\, Oxford\, MS\, 38655\, United States
CATEGORIES:Sports
ATTACH;FMTTYPE=image/png:http://visit-oxford.s3.amazonaws.com/wp-content/uploads/2024/09/20101522/Screenshot-2024-09-20-at-10.15.12-AM.png
GEO:34.3668075;-89.5344228
X-APPLE-STRUCTURED-LOCATION;VALUE=URI;X-ADDRESS=The Pavilion at Ole Miss Ole Miss Campus Oxford MS 38655 United States;X-APPLE-RADIUS=500;X-TITLE=Ole Miss Campus:geo:-89.5344228,34.3668075
END:VEVENT
BEGIN:VEVENT
DTSTART;TZID=America/Chicago:20250109T180000
DTEND;TZID=America/Chicago:20250109T180000
DTSTAMP:20260423T043552
CREATED:20240926T143433Z
LAST-MODIFIED:20240926T143507Z
UID:10000518-1736445600-1736445600@visitoxfordms.com.cft1.a2hosted.com
SUMMARY:Sipp for a Cause: Benefiting Le Bonheur Children's Hospital
DESCRIPTION:
URL:http://visitoxfordms.com.cft1.a2hosted.com/event/sipp-for-a-cause-benefiting-le-bonheur-childrens-hospital/
LOCATION:The Sipp on South Lamar\, Oxford\, MS\, 38655
CATEGORIES:Culinary,Fundraiser
ATTACH;FMTTYPE=image/png:http://visit-oxford.s3.amazonaws.com/wp-content/uploads/2024/09/26093455/Screenshot-2024-09-26-at-9.34.45-AM.png
GEO:34.3668299;-89.518635
END:VEVENT
BEGIN:VEVENT
DTSTART;TZID=America/Chicago:20250104T110000
DTEND;TZID=America/Chicago:20250104T110000
DTSTAMP:20260423T043552
CREATED:20240920T142820Z
LAST-MODIFIED:20241121T163632Z
UID:10000502-1735988400-1735988400@visitoxfordms.com.cft1.a2hosted.com
SUMMARY:OLE MISS BASKETBALL VS. GEORGIA
DESCRIPTION:
URL:http://visitoxfordms.com.cft1.a2hosted.com/event/ole-miss-basketball-vs-georgia/
LOCATION:The Pavilion at Ole Miss\, Ole Miss Campus\, Oxford\, MS\, 38655\, United States
CATEGORIES:Sports
ATTACH;FMTTYPE=image/png:http://visit-oxford.s3.amazonaws.com/wp-content/uploads/2024/09/20092806/Screenshot-2024-09-20-at-9.27.57-AM.png
GEO:34.3668075;-89.5344228
X-APPLE-STRUCTURED-LOCATION;VALUE=URI;X-ADDRESS=The Pavilion at Ole Miss Ole Miss Campus Oxford MS 38655 United States;X-APPLE-RADIUS=500;X-TITLE=Ole Miss Campus:geo:-89.5344228,34.3668075
END:VEVENT
BEGIN:VEVENT
DTSTART;TZID=America/Chicago:20241231T200000
DTEND;TZID=America/Chicago:20250101T003000
DTSTAMP:20260423T043552
CREATED:20241223T200244Z
LAST-MODIFIED:20241223T200250Z
UID:10000630-1735675200-1735691400@visitoxfordms.com.cft1.a2hosted.com
SUMMARY:Shimmer into the New Year
DESCRIPTION:
URL:http://visitoxfordms.com.cft1.a2hosted.com/event/shimmer-into-the-new-year/
LOCATION:413 South 14th Street\, Oxford\, MS\, 38655\, United States
CATEGORIES:Holiday,Music
ATTACH;FMTTYPE=image/jpeg:http://visit-oxford.s3.amazonaws.com/wp-content/uploads/2024/12/23135416/1231-Simmer-New-Year.jpg
GEO:34.3659868;-89.5188246
END:VEVENT
BEGIN:VEVENT
DTSTART;TZID=America/Chicago:20241221T180000
DTEND;TZID=America/Chicago:20241221T180000
DTSTAMP:20260423T043552
CREATED:20240920T142210Z
LAST-MODIFIED:20241121T163542Z
UID:10000501-1734804000-1734804000@visitoxfordms.com.cft1.a2hosted.com
SUMMARY:OLE MISS BASKETBALL VS. QUEENS
DESCRIPTION:
URL:http://visitoxfordms.com.cft1.a2hosted.com/event/ole-miss-basketball-vs-queens/
LOCATION:The Pavilion at Ole Miss\, Ole Miss Campus\, Oxford\, MS\, 38655\, United States
CATEGORIES:Sports
ATTACH;FMTTYPE=image/png:http://visit-oxford.s3.amazonaws.com/wp-content/uploads/2024/09/20092159/Screenshot-2024-09-20-at-9.21.51-AM.png
GEO:34.3668075;-89.5344228
X-APPLE-STRUCTURED-LOCATION;VALUE=URI;X-ADDRESS=The Pavilion at Ole Miss Ole Miss Campus Oxford MS 38655 United States;X-APPLE-RADIUS=500;X-TITLE=Ole Miss Campus:geo:-89.5344228,34.3668075
END:VEVENT
BEGIN:VEVENT
DTSTART;TZID=America/Chicago:20241221T140000
DTEND;TZID=America/Chicago:20241221T180000
DTSTAMP:20260423T043552
CREATED:20241105T123620Z
LAST-MODIFIED:20241105T123620Z
UID:10000593-1734789600-1734804000@visitoxfordms.com.cft1.a2hosted.com
SUMMARY:Santa at Holly Jolly Holidays
DESCRIPTION:
URL:http://visitoxfordms.com.cft1.a2hosted.com/event/santa-at-holly-jolly-holidays/2024-12-21/
LOCATION:mTrade Park\, Oxford\, MS\, 38655
CATEGORIES:Family Friendly,Holiday
ATTACH;FMTTYPE=image/jpeg:http://visit-oxford.s3.amazonaws.com/wp-content/uploads/2024/11/05063442/MM-OxfordMS-231202-Holidays-62-scaled.jpg
GEO:34.3668299;-89.518635
END:VEVENT
BEGIN:VEVENT
DTSTART;TZID=America/Chicago:20241221T120000
DTEND;TZID=America/Chicago:20241221T120000
DTSTAMP:20260423T043552
CREATED:20240920T153332Z
LAST-MODIFIED:20241024T164716Z
UID:10000505-1734782400-1734782400@visitoxfordms.com.cft1.a2hosted.com
SUMMARY:OLE MISS WOMEN'S BASKETBALL VS. MISSISSIPPI VALLEY STATE
DESCRIPTION:
URL:http://visitoxfordms.com.cft1.a2hosted.com/event/ole-miss-womens-basketball-vs-mississippi-valley-state-2/
LOCATION:The Pavilion at Ole Miss\, Ole Miss Campus\, Oxford\, MS\, 38655\, United States
CATEGORIES:Sports
ATTACH;FMTTYPE=image/png:http://visit-oxford.s3.amazonaws.com/wp-content/uploads/2024/09/20101700/Screenshot-2024-09-20-at-10.16.52-AM.png
GEO:34.3668075;-89.5344228
X-APPLE-STRUCTURED-LOCATION;VALUE=URI;X-ADDRESS=The Pavilion at Ole Miss Ole Miss Campus Oxford MS 38655 United States;X-APPLE-RADIUS=500;X-TITLE=Ole Miss Campus:geo:-89.5344228,34.3668075
END:VEVENT
BEGIN:VEVENT
DTSTART;TZID=America/Chicago:20241219T170000
DTEND;TZID=America/Chicago:20241219T190000
DTSTAMP:20260423T043552
CREATED:20241126T181434Z
LAST-MODIFIED:20241213T215442Z
UID:10000613-1734627600-1734634800@visitoxfordms.com.cft1.a2hosted.com
SUMMARY:Third Thursday Music in the Pocket Park - CJ's Music Box
DESCRIPTION:
URL:http://visitoxfordms.com.cft1.a2hosted.com/event/third-thursday-music-in-the-pocket-park/
LOCATION:City Hall Pocket Park
CATEGORIES:Family Friendly,Free,Holiday,Music
ATTACH;FMTTYPE=image/png:http://visit-oxford.s3.amazonaws.com/wp-content/uploads/2024/11/13155048/December.png
END:VEVENT
BEGIN:VEVENT
DTSTART;TZID=America/Chicago:20241217T180000
DTEND;TZID=America/Chicago:20241217T180000
DTSTAMP:20260423T043552
CREATED:20240920T141929Z
LAST-MODIFIED:20241121T163449Z
UID:10000285-1734458400-1734458400@visitoxfordms.com.cft1.a2hosted.com
SUMMARY:OLE MISS BASKETBALL VS. SOUTHERN UNIVERSITY
DESCRIPTION:
URL:http://visitoxfordms.com.cft1.a2hosted.com/event/ole-miss-basketball-vs-southern-university/
LOCATION:The Pavilion at Ole Miss\, Ole Miss Campus\, Oxford\, MS\, 38655\, United States
CATEGORIES:Sports
ATTACH;FMTTYPE=image/png:http://visit-oxford.s3.amazonaws.com/wp-content/uploads/2024/09/20091712/Screenshot-2024-09-20-at-9.16.41-AM.png
GEO:34.3668075;-89.5344228
X-APPLE-STRUCTURED-LOCATION;VALUE=URI;X-ADDRESS=The Pavilion at Ole Miss Ole Miss Campus Oxford MS 38655 United States;X-APPLE-RADIUS=500;X-TITLE=Ole Miss Campus:geo:-89.5344228,34.3668075
END:VEVENT
BEGIN:VEVENT
DTSTART;TZID=America/Chicago:20241215T153000
DTEND;TZID=America/Chicago:20241215T170000
DTSTAMP:20260423T043552
CREATED:20240820T163741Z
LAST-MODIFIED:20241203T163558Z
UID:10000208-1734276600-1734282000@visitoxfordms.com.cft1.a2hosted.com
SUMMARY:Oxford on Skates
DESCRIPTION:
URL:http://visitoxfordms.com.cft1.a2hosted.com/event/oxford-on-skates-11/
LOCATION:Old Armory Pavilion\, 1801 University Avenue\, Oxford\, MS\, 38655\, United States
CATEGORIES:Family Friendly,Free,Outdoor
ATTACH;FMTTYPE=image/png:http://visit-oxford.s3.amazonaws.com/wp-content/uploads/2024/08/03103547/OxfordOnSkates.png
GEO:34.3628616;-89.5108765
X-APPLE-STRUCTURED-LOCATION;VALUE=URI;X-ADDRESS=Old Armory Pavilion 1801 University Avenue Oxford MS 38655 United States;X-APPLE-RADIUS=500;X-TITLE=1801 University Avenue:geo:-89.5108765,34.3628616
END:VEVENT
BEGIN:VEVENT
DTSTART;TZID=America/Chicago:20241215T140000
DTEND;TZID=America/Chicago:20241215T140000
DTSTAMP:20260423T043552
CREATED:20241024T164619Z
LAST-MODIFIED:20241024T164619Z
UID:10000575-1734271200-1734271200@visitoxfordms.com.cft1.a2hosted.com
SUMMARY:Ole Miss Women's Basketball vs. South Alabama
DESCRIPTION:
URL:http://visitoxfordms.com.cft1.a2hosted.com/event/ole-miss-womens-basketball-vs-south-alabama/
LOCATION:The Pavilion at Ole Miss\, Ole Miss Campus\, Oxford\, MS\, 38655\, United States
CATEGORIES:Sports
ATTACH;FMTTYPE=image/png:http://visit-oxford.s3.amazonaws.com/wp-content/uploads/2024/09/20101913/Screenshot-2024-09-20-at-10.19.04-AM.png
GEO:34.3668075;-89.5344228
X-APPLE-STRUCTURED-LOCATION;VALUE=URI;X-ADDRESS=The Pavilion at Ole Miss Ole Miss Campus Oxford MS 38655 United States;X-APPLE-RADIUS=500;X-TITLE=Ole Miss Campus:geo:-89.5344228,34.3668075
END:VEVENT
BEGIN:VEVENT
DTSTART;TZID=America/Chicago:20241214T170000
DTEND;TZID=America/Chicago:20241214T190000
DTSTAMP:20260423T043552
CREATED:20241024T165713Z
LAST-MODIFIED:20241024T165713Z
UID:10000576-1734195600-1734202800@visitoxfordms.com.cft1.a2hosted.com
SUMMARY:Holiday Pie Class
DESCRIPTION:Join resident baker Shannon O’Donnell for a pie making class! Students will get a chance to make and bake a fresh holiday pie!
URL:http://visitoxfordms.com.cft1.a2hosted.com/event/holiday-pie-class/
LOCATION:Chicory Market\, 707 North Lamar\, Oxford\, MS\, 38655
CATEGORIES:Culinary,Holiday
ATTACH;FMTTYPE=image/png:http://visit-oxford.s3.amazonaws.com/wp-content/uploads/2024/10/24115704/Screenshot-2024-10-24-at-11.56.56-AM.png
GEO:34.3900055;-89.5076192
X-APPLE-STRUCTURED-LOCATION;VALUE=URI;X-ADDRESS=Chicory Market 707 North Lamar Oxford MS 38655;X-APPLE-RADIUS=500;X-TITLE=707 North Lamar:geo:-89.5076192,34.3900055
END:VEVENT
BEGIN:VEVENT
DTSTART;TZID=America/Chicago:20241214T163000
DTEND;TZID=America/Chicago:20241214T200000
DTSTAMP:20260423T043552
CREATED:20241105T123620Z
LAST-MODIFIED:20241105T123620Z
UID:10000592-1734193800-1734206400@visitoxfordms.com.cft1.a2hosted.com
SUMMARY:Santa at Holly Jolly Holidays
DESCRIPTION:
URL:http://visitoxfordms.com.cft1.a2hosted.com/event/santa-at-holly-jolly-holidays/2024-12-14/
LOCATION:mTrade Park\, Oxford\, MS\, 38655
CATEGORIES:Family Friendly,Holiday
ATTACH;FMTTYPE=image/jpeg:http://visit-oxford.s3.amazonaws.com/wp-content/uploads/2024/11/05063442/MM-OxfordMS-231202-Holidays-62-scaled.jpg
GEO:34.3668299;-89.518635
END:VEVENT
BEGIN:VEVENT
DTSTART;TZID=America/Chicago:20241214T120000
DTEND;TZID=America/Chicago:20241214T180000
DTSTAMP:20260423T043552
CREATED:20241210T150620Z
LAST-MODIFIED:20241210T150626Z
UID:10000624-1734177600-1734199200@visitoxfordms.com.cft1.a2hosted.com
SUMMARY:Memphis in Oxford - A Celebration at The End of All Music
DESCRIPTION:
URL:http://visitoxfordms.com.cft1.a2hosted.com/event/memphis-in-oxford-a-celebration-at-the-end-of-all-music/
LOCATION:The End of All Music\, 1423 North Lamar\, Oxford\, MS\, 38655\, United States
CATEGORIES:Art,Music
ATTACH;FMTTYPE=image/png:http://visit-oxford.s3.amazonaws.com/wp-content/uploads/2024/12/10090426/Screenshot-2024-12-10-at-9.03.55%E2%80%AFAM.png
END:VEVENT
BEGIN:VEVENT
DTSTART;TZID=America/Chicago:20241213T190000
DTEND;TZID=America/Chicago:20241213T210000
DTSTAMP:20260423T043552
CREATED:20241024T170343Z
LAST-MODIFIED:20241024T170343Z
UID:10000577-1734116400-1734123600@visitoxfordms.com.cft1.a2hosted.com
SUMMARY:Holiday Ornament Auction
DESCRIPTION:
URL:http://visitoxfordms.com.cft1.a2hosted.com/event/holiday-ornament-auction/
LOCATION:The Powerhouse\, Oxford\, MS\, 38655
CATEGORIES:Art,Holiday
ATTACH;FMTTYPE=image/jpeg:http://visit-oxford.s3.amazonaws.com/wp-content/uploads/2024/10/24120228/Screenshot-2024-10-24-at-10.25.32%E2%80%AFAM.jpg
GEO:34.3664951;-89.5192484
END:VEVENT
BEGIN:VEVENT
DTSTART;TZID=America/Chicago:20241213T190000
DTEND;TZID=America/Chicago:20241213T190000
DTSTAMP:20260423T043552
CREATED:20241018T192503Z
LAST-MODIFIED:20241018T193044Z
UID:10000566-1734116400-1734116400@visitoxfordms.com.cft1.a2hosted.com
SUMMARY:A Night with No Ceilings Sneaker Gala
DESCRIPTION:Join us as we celebrate the successes of 2024 and get ready for an impactful 2025. #NoCeilings.
URL:http://visitoxfordms.com.cft1.a2hosted.com/event/a-night-with-no-ceilings-sneaker-gala/
LOCATION:Inn at Ole Miss\, 120 Alumni Dr.\, Oxford\, MS\, 38655\, United States
CATEGORIES:Fundraiser
ATTACH;FMTTYPE=image/png:http://visit-oxford.s3.amazonaws.com/wp-content/uploads/2024/10/18140803/ANWNC1.png
END:VEVENT
BEGIN:VEVENT
DTSTART;TZID=America/Chicago:20241211T190000
DTEND;TZID=America/Chicago:20241211T190000
DTSTAMP:20260423T043552
CREATED:20241203T201628Z
LAST-MODIFIED:20241203T201900Z
UID:10000621-1733943600-1733943600@visitoxfordms.com.cft1.a2hosted.com
SUMMARY:Oxford Film Festival Hosts Free Screening of Alumni Film ‘Seeing Is Believing’
DESCRIPTION:
URL:http://visitoxfordms.com.cft1.a2hosted.com/event/oxford-film-festival-hosts-free-screening-of-alumni-film-seeing-is-believing/
LOCATION:Malco Oxford Commons\, 206 Commonwealth Blvd.\, Oxford\, MS\, 38655
CATEGORIES:Film,Free
ATTACH;FMTTYPE=image/png:http://visit-oxford.s3.amazonaws.com/wp-content/uploads/2024/12/03141309/Screenshot-2024-12-03-at-11.12.12%E2%80%AFAM.png
GEO:34.3732138;-89.4957299
X-APPLE-STRUCTURED-LOCATION;VALUE=URI;X-ADDRESS=Malco Oxford Commons 206 Commonwealth Blvd. Oxford MS 38655;X-APPLE-RADIUS=500;X-TITLE=206 Commonwealth Blvd.:geo:-89.4957299,34.3732138
END:VEVENT
BEGIN:VEVENT
DTSTART;TZID=America/Chicago:20241211T173000
DTEND;TZID=America/Chicago:20241211T183000
DTSTAMP:20260423T043552
CREATED:20241022T180028Z
LAST-MODIFIED:20241022T180028Z
UID:10000571-1733938200-1733941800@visitoxfordms.com.cft1.a2hosted.com
SUMMARY:Holiday Wreath Class
DESCRIPTION:Join Katherine Webb from Farmstead Florals for a holiday wreath class.
URL:http://visitoxfordms.com.cft1.a2hosted.com/event/holiday-wreath-class/
LOCATION:Chicory Market\, 707 North Lamar\, Oxford\, MS\, 38655
CATEGORIES:Art,Holiday
ATTACH;FMTTYPE=image/png:http://visit-oxford.s3.amazonaws.com/wp-content/uploads/2024/10/22130012/Screenshot-2024-10-22-at-1.00.02-PM.png
GEO:34.3900055;-89.5076192
X-APPLE-STRUCTURED-LOCATION;VALUE=URI;X-ADDRESS=Chicory Market 707 North Lamar Oxford MS 38655;X-APPLE-RADIUS=500;X-TITLE=707 North Lamar:geo:-89.5076192,34.3900055
END:VEVENT
BEGIN:VEVENT
DTSTART;TZID=America/Chicago:20241211T173000
DTEND;TZID=America/Chicago:20241211T173000
DTSTAMP:20260423T043552
CREATED:20240926T143103Z
LAST-MODIFIED:20240926T143103Z
UID:10000517-1733938200-1733938200@visitoxfordms.com.cft1.a2hosted.com
SUMMARY:The Tasting Room: Dirty Santa Sipps
DESCRIPTION:
URL:http://visitoxfordms.com.cft1.a2hosted.com/event/the-tasting-room-dirty-santa-sipps/
LOCATION:The Sipp on South Lamar\, Oxford\, MS\, 38655
CATEGORIES:Culinary
ATTACH;FMTTYPE=image/png:http://visit-oxford.s3.amazonaws.com/wp-content/uploads/2024/09/26092953/Screenshot-2024-09-26-at-9.29.42-AM.png
GEO:34.3668299;-89.518635
END:VEVENT
BEGIN:VEVENT
DTSTART;TZID=America/Chicago:20241210T183000
DTEND;TZID=America/Chicago:20241210T183000
DTSTAMP:20260423T043552
CREATED:20240731T162547Z
LAST-MODIFIED:20240731T162547Z
UID:10000195-1733855400-1733855400@visitoxfordms.com.cft1.a2hosted.com
SUMMARY:The Wood Brothers
DESCRIPTION:
URL:http://visitoxfordms.com.cft1.a2hosted.com/event/the-wood-brothers/
LOCATION:The Lyric\, 1006 Van Buren \, Oxford\, MS\, 38655\, United States
CATEGORIES:Music
ATTACH;FMTTYPE=image/webp:http://visit-oxford.s3.amazonaws.com/wp-content/uploads/2024/07/31112539/eyJidWNrZXQiOiJwcm9kLXNpaC5zZWV0aWNrZXRzdXNhLnVzIiwia2V5IjoiMThmMjM1ZGUtNDExMy00NWYyLTlkMWEtNTRhZWU0ZDA4NWU3IiwiZWRpdHMiOnt9fQ.webp
GEO:34.3662931;-89.5209192
X-APPLE-STRUCTURED-LOCATION;VALUE=URI;X-ADDRESS=The Lyric 1006 Van Buren  Oxford MS 38655 United States;X-APPLE-RADIUS=500;X-TITLE=1006 Van Buren:geo:-89.5209192,34.3662931
END:VEVENT
BEGIN:VEVENT
DTSTART;TZID=America/Chicago:20241210T170000
DTEND;TZID=America/Chicago:20241210T190000
DTSTAMP:20260423T043552
CREATED:20241115T145700Z
LAST-MODIFIED:20241115T145700Z
UID:10000603-1733850000-1733857200@visitoxfordms.com.cft1.a2hosted.com
SUMMARY:Night at the North Pole
DESCRIPTION:
URL:http://visitoxfordms.com.cft1.a2hosted.com/event/night-at-the-north-pole/
LOCATION:Oxford Activity Center\, 400 Price Street\, Oxford\, MS\, 38655
CATEGORIES:Family Friendly,Free,Holiday
ATTACH;FMTTYPE=image/png:http://visit-oxford.s3.amazonaws.com/wp-content/uploads/2024/11/15085551/unnamed-3.png
GEO:34.3749628;-89.5263919
X-APPLE-STRUCTURED-LOCATION;VALUE=URI;X-ADDRESS=Oxford Activity Center 400 Price Street Oxford MS 38655;X-APPLE-RADIUS=500;X-TITLE=400 Price Street:geo:-89.5263919,34.3749628
END:VEVENT
BEGIN:VEVENT
DTSTART;TZID=America/Chicago:20241208T130000
DTEND;TZID=America/Chicago:20241208T130000
DTSTAMP:20260423T043552
CREATED:20241024T164232Z
LAST-MODIFIED:20241024T164232Z
UID:10000574-1733662800-1733662800@visitoxfordms.com.cft1.a2hosted.com
SUMMARY:Ole Miss Women's Basketball vs. Tennessee State
DESCRIPTION:
URL:http://visitoxfordms.com.cft1.a2hosted.com/event/ole-miss-womens-basketball-vs-tennessee-state/
LOCATION:The Pavilion at Ole Miss\, Ole Miss Campus\, Oxford\, MS\, 38655\, United States
CATEGORIES:Sports
ATTACH;FMTTYPE=image/png:http://visit-oxford.s3.amazonaws.com/wp-content/uploads/2024/09/20101700/Screenshot-2024-09-20-at-10.16.52-AM.png
GEO:34.3668075;-89.5344228
X-APPLE-STRUCTURED-LOCATION;VALUE=URI;X-ADDRESS=The Pavilion at Ole Miss Ole Miss Campus Oxford MS 38655 United States;X-APPLE-RADIUS=500;X-TITLE=Ole Miss Campus:geo:-89.5344228,34.3668075
END:VEVENT
END:VCALENDAR