BEGIN:VCALENDAR
VERSION:2.0
PRODID:-//Visit Oxford MS - ECPv6.7.0//NONSGML v1.0//EN
CALSCALE:GREGORIAN
METHOD:PUBLISH
X-ORIGINAL-URL:http://visitoxfordms.com.cft1.a2hosted.com
X-WR-CALDESC:Events for Visit Oxford MS
REFRESH-INTERVAL;VALUE=DURATION:PT1H
X-Robots-Tag:noindex
X-PUBLISHED-TTL:PT1H
BEGIN:VTIMEZONE
TZID:America/Chicago
BEGIN:DAYLIGHT
TZOFFSETFROM:-0600
TZOFFSETTO:-0500
TZNAME:CDT
DTSTART:20230312T080000
END:DAYLIGHT
BEGIN:STANDARD
TZOFFSETFROM:-0500
TZOFFSETTO:-0600
TZNAME:CST
DTSTART:20231105T070000
END:STANDARD
BEGIN:DAYLIGHT
TZOFFSETFROM:-0600
TZOFFSETTO:-0500
TZNAME:CDT
DTSTART:20240310T080000
END:DAYLIGHT
BEGIN:STANDARD
TZOFFSETFROM:-0500
TZOFFSETTO:-0600
TZNAME:CST
DTSTART:20241103T070000
END:STANDARD
BEGIN:DAYLIGHT
TZOFFSETFROM:-0600
TZOFFSETTO:-0500
TZNAME:CDT
DTSTART:20250309T080000
END:DAYLIGHT
BEGIN:STANDARD
TZOFFSETFROM:-0500
TZOFFSETTO:-0600
TZNAME:CST
DTSTART:20251102T070000
END:STANDARD
END:VTIMEZONE
BEGIN:VEVENT
DTSTART;TZID=America/Chicago:20250116T210000
DTEND;TZID=America/Chicago:20250116T210000
DTSTAMP:20260423T065633
CREATED:20250107T170706Z
LAST-MODIFIED:20250107T170802Z
UID:10000673-1737061200-1737061200@visitoxfordms.com.cft1.a2hosted.com
SUMMARY:The Droptines
DESCRIPTION:
URL:http://visitoxfordms.com.cft1.a2hosted.com/event/the-droptines/
LOCATION:Proud Larry’s\, Oxford\, MS\, MS\, United States
CATEGORIES:Music
ATTACH;FMTTYPE=image/png:http://visit-oxford.s3.amazonaws.com/wp-content/uploads/2025/01/07110655/IMG_568929.png
GEO:34.3664951;-89.5192484
END:VEVENT
BEGIN:VEVENT
DTSTART;TZID=America/Chicago:20241206T180000
DTEND;TZID=America/Chicago:20241206T180000
DTSTAMP:20260423T065633
CREATED:20241031T185114Z
LAST-MODIFIED:20241126T153010Z
UID:10000584-1733508000-1733508000@visitoxfordms.com.cft1.a2hosted.com
SUMMARY:A Tackie Townie Christmas at Proud Larry's
DESCRIPTION:
URL:http://visitoxfordms.com.cft1.a2hosted.com/event/a-tackie-townie-christmas-at-proud-larrys/
LOCATION:Proud Larry’s\, Oxford\, MS\, MS\, United States
CATEGORIES:Fundraiser,Holiday
ATTACH;FMTTYPE=image/png:http://visit-oxford.s3.amazonaws.com/wp-content/uploads/2024/10/26092815/Screenshot-2024-11-26-at-9.24.24%E2%80%AFAM.png
GEO:34.3664951;-89.5192484
END:VEVENT
BEGIN:VEVENT
DTSTART;TZID=America/Chicago:20241116T210000
DTEND;TZID=America/Chicago:20241116T210000
DTSTAMP:20260423T065633
CREATED:20240821T164718Z
LAST-MODIFIED:20240821T164718Z
UID:10000243-1731790800-1731790800@visitoxfordms.com.cft1.a2hosted.com
SUMMARY:Lauren Watkins
DESCRIPTION:
URL:http://visitoxfordms.com.cft1.a2hosted.com/event/lauren-watkins/
LOCATION:Proud Larry’s\, Oxford\, MS\, MS\, United States
CATEGORIES:Music
ATTACH;FMTTYPE=image/png:http://visit-oxford.s3.amazonaws.com/wp-content/uploads/2024/08/21114636/image-5.png
GEO:34.3664951;-89.5192484
END:VEVENT
BEGIN:VEVENT
DTSTART;TZID=America/Chicago:20241106T210000
DTEND;TZID=America/Chicago:20241106T210000
DTSTAMP:20260423T065633
CREATED:20240926T164238Z
LAST-MODIFIED:20240926T164238Z
UID:10000529-1730926800-1730926800@visitoxfordms.com.cft1.a2hosted.com
SUMMARY:Frankie Cosmos with Gulf
DESCRIPTION:Indie
URL:http://visitoxfordms.com.cft1.a2hosted.com/event/frankie-cosmos-with-gulf/
LOCATION:Proud Larry’s\, Oxford\, MS\, MS\, United States
CATEGORIES:Music
ATTACH;FMTTYPE=image/png:http://visit-oxford.s3.amazonaws.com/wp-content/uploads/2024/09/26114018/Screenshot-2024-09-26-at-11.40.11-AM.png
GEO:34.3664951;-89.5192484
END:VEVENT
BEGIN:VEVENT
DTSTART;TZID=America/Chicago:20241102T210000
DTEND;TZID=America/Chicago:20241102T210000
DTSTAMP:20260423T065633
CREATED:20240926T163820Z
LAST-MODIFIED:20240926T163820Z
UID:10000530-1730581200-1730581200@visitoxfordms.com.cft1.a2hosted.com
SUMMARY:Clay Street Unit
DESCRIPTION:Americana
URL:http://visitoxfordms.com.cft1.a2hosted.com/event/clay-street-unit/
LOCATION:Proud Larry’s\, Oxford\, MS\, MS\, United States
CATEGORIES:Music
ATTACH;FMTTYPE=image/png:http://visit-oxford.s3.amazonaws.com/wp-content/uploads/2024/09/26113808/Screenshot-2024-09-26-at-11.37.58-AM.png
GEO:34.3664951;-89.5192484
END:VEVENT
BEGIN:VEVENT
DTSTART;TZID=America/Chicago:20241029T190000
DTEND;TZID=America/Chicago:20241029T190000
DTSTAMP:20260423T065633
CREATED:20240910T151853Z
LAST-MODIFIED:20240910T151853Z
UID:10000475-1730228400-1730228400@visitoxfordms.com.cft1.a2hosted.com
SUMMARY:Ole Miss Jazz Combos
DESCRIPTION:
URL:http://visitoxfordms.com.cft1.a2hosted.com/event/ole-miss-jazz-combos/
LOCATION:Proud Larry’s\, Oxford\, MS\, MS\, United States
ATTACH;FMTTYPE=image/png:http://visit-oxford.s3.amazonaws.com/wp-content/uploads/2024/09/10101723/Screenshot-2024-09-10-at-10.17.12-AM.png
GEO:34.3664951;-89.5192484
END:VEVENT
BEGIN:VEVENT
DTSTART;TZID=America/Chicago:20241026T213000
DTEND;TZID=America/Chicago:20241026T213000
DTSTAMP:20260423T065633
CREATED:20240926T163648Z
LAST-MODIFIED:20240926T163648Z
UID:10000528-1729978200-1729978200@visitoxfordms.com.cft1.a2hosted.com
SUMMARY:Blue Mountain
DESCRIPTION:Rock
URL:http://visitoxfordms.com.cft1.a2hosted.com/event/blue-mountain/
LOCATION:Proud Larry’s\, Oxford\, MS\, MS\, United States
CATEGORIES:Music
ATTACH;FMTTYPE=image/png:http://visit-oxford.s3.amazonaws.com/wp-content/uploads/2024/09/26113623/Screenshot-2024-09-26-at-11.36.16-AM.png
GEO:34.3664951;-89.5192484
END:VEVENT
BEGIN:VEVENT
DTSTART;TZID=America/Chicago:20241025T210000
DTEND;TZID=America/Chicago:20241025T210000
DTSTAMP:20260423T065633
CREATED:20240926T163522Z
LAST-MODIFIED:20240926T163522Z
UID:10000527-1729890000-1729890000@visitoxfordms.com.cft1.a2hosted.com
SUMMARY:George Porter Jr. & The Runnin' Pardners
DESCRIPTION:Funk
URL:http://visitoxfordms.com.cft1.a2hosted.com/event/george-porter-jr-the-runnin-pardners/
LOCATION:Proud Larry’s\, Oxford\, MS\, MS\, United States
CATEGORIES:Music
ATTACH;FMTTYPE=image/png:http://visit-oxford.s3.amazonaws.com/wp-content/uploads/2024/09/26113512/Screenshot-2024-09-26-at-11.35.04-AM.png
GEO:34.3664951;-89.5192484
END:VEVENT
BEGIN:VEVENT
DTSTART;TZID=America/Chicago:20241019T210000
DTEND;TZID=America/Chicago:20241019T210000
DTSTAMP:20260423T065633
CREATED:20240926T163221Z
LAST-MODIFIED:20240926T163221Z
UID:10000526-1729371600-1729371600@visitoxfordms.com.cft1.a2hosted.com
SUMMARY:A Night of Comedy
DESCRIPTION:Featuring: Katie Stewart\, Jason Alejandro\, Aaron Reiten\, Brandon Jarrell\, & Kyler Finney
URL:http://visitoxfordms.com.cft1.a2hosted.com/event/a-night-of-comedy/
LOCATION:Proud Larry’s\, Oxford\, MS\, MS\, United States
CATEGORIES:Music
ATTACH;FMTTYPE=image/png:http://visit-oxford.s3.amazonaws.com/wp-content/uploads/2024/09/26113211/Screenshot-2024-09-26-at-11.32.05-AM.png
GEO:34.3664951;-89.5192484
END:VEVENT
BEGIN:VEVENT
DTSTART;TZID=America/Chicago:20241013T180000
DTEND;TZID=America/Chicago:20241013T180000
DTSTAMP:20260423T065633
CREATED:20240926T162905Z
LAST-MODIFIED:20240926T162905Z
UID:10000525-1728842400-1728842400@visitoxfordms.com.cft1.a2hosted.com
SUMMARY:American Aquarium
DESCRIPTION:Folk – Doors open at 5:00 p.m.
URL:http://visitoxfordms.com.cft1.a2hosted.com/event/american-aquarium/
LOCATION:Proud Larry’s\, Oxford\, MS\, MS\, United States
CATEGORIES:Music
ATTACH;FMTTYPE=image/png:http://visit-oxford.s3.amazonaws.com/wp-content/uploads/2024/09/26112856/Screenshot-2024-09-26-at-11.28.49-AM.png
GEO:34.3664951;-89.5192484
END:VEVENT
BEGIN:VEVENT
DTSTART;TZID=America/Chicago:20241012T213000
DTEND;TZID=America/Chicago:20241012T213000
DTSTAMP:20260423T065633
CREATED:20240926T162719Z
LAST-MODIFIED:20240926T162719Z
UID:10000524-1728768600-1728768600@visitoxfordms.com.cft1.a2hosted.com
SUMMARY:Hartle Road
DESCRIPTION:Alternative
URL:http://visitoxfordms.com.cft1.a2hosted.com/event/hartle-road/
LOCATION:Proud Larry’s\, Oxford\, MS\, MS\, United States
CATEGORIES:Music
ATTACH;FMTTYPE=image/png:http://visit-oxford.s3.amazonaws.com/wp-content/uploads/2024/09/26112709/Screenshot-2024-09-26-at-11.27.00-AM.png
GEO:34.3664951;-89.5192484
END:VEVENT
BEGIN:VEVENT
DTSTART;TZID=America/Chicago:20241009T210000
DTEND;TZID=America/Chicago:20241009T210000
DTSTAMP:20260423T065633
CREATED:20240926T162525Z
LAST-MODIFIED:20240926T162525Z
UID:10000523-1728507600-1728507600@visitoxfordms.com.cft1.a2hosted.com
SUMMARY:Hotel Fiction with Golden Teacher Society
DESCRIPTION:Alternative
URL:http://visitoxfordms.com.cft1.a2hosted.com/event/hotel-fiction-with-golden-teacher-society/
LOCATION:Proud Larry’s\, Oxford\, MS\, MS\, United States
CATEGORIES:Music
ATTACH;FMTTYPE=image/png:http://visit-oxford.s3.amazonaws.com/wp-content/uploads/2024/09/26112500/Screenshot-2024-09-26-at-11.24.53-AM.png
GEO:34.3664951;-89.5192484
END:VEVENT
BEGIN:VEVENT
DTSTART;TZID=America/Chicago:20241004T210000
DTEND;TZID=America/Chicago:20241004T210000
DTSTAMP:20260423T065633
CREATED:20240821T183717Z
LAST-MODIFIED:20240821T183729Z
UID:10000448-1728075600-1728075600@visitoxfordms.com.cft1.a2hosted.com
SUMMARY:Slaughter Beach\, Dog
DESCRIPTION:
URL:http://visitoxfordms.com.cft1.a2hosted.com/event/slaughter-beach-dog/
LOCATION:Proud Larry’s\, Oxford\, MS\, MS\, United States
CATEGORIES:Music
ATTACH;FMTTYPE=image/jpeg:http://visit-oxford.s3.amazonaws.com/wp-content/uploads/2024/08/21133659/IMG_4729.jpeg
GEO:34.3664951;-89.5192484
END:VEVENT
BEGIN:VEVENT
DTSTART;TZID=America/Chicago:20241002T210000
DTEND;TZID=America/Chicago:20241002T210000
DTSTAMP:20260423T065633
CREATED:20240821T183553Z
LAST-MODIFIED:20240821T183553Z
UID:10000447-1727902800-1727902800@visitoxfordms.com.cft1.a2hosted.com
SUMMARY:Theo Lawrence
DESCRIPTION:Blues
URL:http://visitoxfordms.com.cft1.a2hosted.com/event/theo-lawrence/
LOCATION:Proud Larry’s\, Oxford\, MS\, MS\, United States
CATEGORIES:Music
ATTACH;FMTTYPE=image/jpeg:http://visit-oxford.s3.amazonaws.com/wp-content/uploads/2024/08/21133530/IMG_4728-1-scaled.jpeg
GEO:34.3664951;-89.5192484
END:VEVENT
BEGIN:VEVENT
DTSTART;TZID=America/Chicago:20240927T210000
DTEND;TZID=America/Chicago:20240927T210000
DTSTAMP:20260423T065633
CREATED:20240821T183226Z
LAST-MODIFIED:20240821T183226Z
UID:10000446-1727470800-1727470800@visitoxfordms.com.cft1.a2hosted.com
SUMMARY:Two Beans
DESCRIPTION:
URL:http://visitoxfordms.com.cft1.a2hosted.com/event/two-beans/
LOCATION:Proud Larry’s\, Oxford\, MS\, MS\, United States
CATEGORIES:Music
ATTACH;FMTTYPE=image/jpeg:http://visit-oxford.s3.amazonaws.com/wp-content/uploads/2024/08/21133215/IMG_4727-scaled.jpeg
GEO:34.3664951;-89.5192484
END:VEVENT
BEGIN:VEVENT
DTSTART;TZID=America/Chicago:20240926T200000
DTEND;TZID=America/Chicago:20240926T200000
DTSTAMP:20260423T065633
CREATED:20240821T183056Z
LAST-MODIFIED:20240821T183056Z
UID:10000445-1727380800-1727380800@visitoxfordms.com.cft1.a2hosted.com
SUMMARY:JEMS\, Cyrena Wages
DESCRIPTION:
URL:http://visitoxfordms.com.cft1.a2hosted.com/event/jems-cyrena-wages/
LOCATION:Proud Larry’s\, Oxford\, MS\, MS\, United States
CATEGORIES:Music
ATTACH;FMTTYPE=image/jpeg:http://visit-oxford.s3.amazonaws.com/wp-content/uploads/2024/08/21133042/IMG_4726.jpeg
GEO:34.3664951;-89.5192484
END:VEVENT
BEGIN:VEVENT
DTSTART;TZID=America/Chicago:20240920T210000
DTEND;TZID=America/Chicago:20240920T210000
DTSTAMP:20260423T065633
CREATED:20240821T182731Z
LAST-MODIFIED:20240821T182731Z
UID:10000443-1726866000-1726866000@visitoxfordms.com.cft1.a2hosted.com
SUMMARY:Neon Junkies
DESCRIPTION:
URL:http://visitoxfordms.com.cft1.a2hosted.com/event/neon-junkies/
LOCATION:Proud Larry’s\, Oxford\, MS\, MS\, United States
CATEGORIES:Music
ATTACH;FMTTYPE=image/jpeg:http://visit-oxford.s3.amazonaws.com/wp-content/uploads/2024/08/21124441/IMG_4724-1.jpeg
GEO:34.3664951;-89.5192484
END:VEVENT
BEGIN:VEVENT
DTSTART;TZID=America/Chicago:20240909T210000
DTEND;TZID=America/Chicago:20240909T210000
DTSTAMP:20260423T065633
CREATED:20240821T171630Z
LAST-MODIFIED:20240821T171630Z
UID:10000441-1725915600-1725915600@visitoxfordms.com.cft1.a2hosted.com
SUMMARY:Evan Honer
DESCRIPTION:
URL:http://visitoxfordms.com.cft1.a2hosted.com/event/evan-honer/
LOCATION:Proud Larry’s\, Oxford\, MS\, MS\, United States
CATEGORIES:Music
ATTACH;FMTTYPE=image/jpeg:http://visit-oxford.s3.amazonaws.com/wp-content/uploads/2024/08/21121605/IMG_4722.jpeg
GEO:34.3664951;-89.5192484
END:VEVENT
BEGIN:VEVENT
DTSTART;TZID=America/Chicago:20240906T210000
DTEND;TZID=America/Chicago:20240906T210000
DTSTAMP:20260423T065633
CREATED:20240821T171449Z
LAST-MODIFIED:20240821T171449Z
UID:10000440-1725656400-1725656400@visitoxfordms.com.cft1.a2hosted.com
SUMMARY:Kenny Brown
DESCRIPTION:
URL:http://visitoxfordms.com.cft1.a2hosted.com/event/kenny-brown/
LOCATION:Proud Larry’s\, Oxford\, MS\, MS\, United States
CATEGORIES:Music
ATTACH;FMTTYPE=image/jpeg:http://visit-oxford.s3.amazonaws.com/wp-content/uploads/2024/08/21121437/IMG_4721-scaled.jpeg
GEO:34.3664951;-89.5192484
END:VEVENT
BEGIN:VEVENT
DTSTART;TZID=America/Chicago:20240904T210000
DTEND;TZID=America/Chicago:20240904T210000
DTSTAMP:20260423T065633
CREATED:20240821T171309Z
LAST-MODIFIED:20240821T171309Z
UID:10000439-1725483600-1725483600@visitoxfordms.com.cft1.a2hosted.com
SUMMARY:Tommy Prine
DESCRIPTION:
URL:http://visitoxfordms.com.cft1.a2hosted.com/event/tommy-prine/
LOCATION:Proud Larry’s\, Oxford\, MS\, MS\, United States
CATEGORIES:Music
ATTACH;FMTTYPE=image/jpeg:http://visit-oxford.s3.amazonaws.com/wp-content/uploads/2024/08/21121254/IMG_4720.jpeg
GEO:34.3664951;-89.5192484
END:VEVENT
BEGIN:VEVENT
DTSTART;TZID=America/Chicago:20240901T180000
DTEND;TZID=America/Chicago:20240901T180000
DTSTAMP:20260423T065633
CREATED:20240821T170229Z
LAST-MODIFIED:20240821T170229Z
UID:10000438-1725213600-1725213600@visitoxfordms.com.cft1.a2hosted.com
SUMMARY:The Great Dying
DESCRIPTION:
URL:http://visitoxfordms.com.cft1.a2hosted.com/event/the-great-dying/
LOCATION:Proud Larry’s\, Oxford\, MS\, MS\, United States
CATEGORIES:Music
GEO:34.3664951;-89.5192484
END:VEVENT
BEGIN:VEVENT
DTSTART;TZID=America/Chicago:20240831T210000
DTEND;TZID=America/Chicago:20240831T210000
DTSTAMP:20260423T065633
CREATED:20240821T165704Z
LAST-MODIFIED:20240821T165704Z
UID:10000437-1725138000-1725138000@visitoxfordms.com.cft1.a2hosted.com
SUMMARY:Bob Log III
DESCRIPTION:
URL:http://visitoxfordms.com.cft1.a2hosted.com/event/bob-log-iii/
LOCATION:Proud Larry’s\, Oxford\, MS\, MS\, United States
CATEGORIES:Music
ATTACH;FMTTYPE=image/jpeg:http://visit-oxford.s3.amazonaws.com/wp-content/uploads/2024/08/21115645/image-15.jpeg
GEO:34.3664951;-89.5192484
END:VEVENT
BEGIN:VEVENT
DTSTART;TZID=America/Chicago:20240827T200000
DTEND;TZID=America/Chicago:20240827T200000
DTSTAMP:20260423T065633
CREATED:20240821T165504Z
LAST-MODIFIED:20240821T165504Z
UID:10000252-1724788800-1724788800@visitoxfordms.com.cft1.a2hosted.com
SUMMARY:John JoJo Herman
DESCRIPTION:
URL:http://visitoxfordms.com.cft1.a2hosted.com/event/john-jojo-herman/
LOCATION:Proud Larry’s\, Oxford\, MS\, MS\, United States
CATEGORIES:Music
ATTACH;FMTTYPE=image/jpeg:http://visit-oxford.s3.amazonaws.com/wp-content/uploads/2024/08/21115441/image-14.jpeg
GEO:34.3664951;-89.5192484
END:VEVENT
BEGIN:VEVENT
DTSTART;TZID=America/Chicago:20240825T200000
DTEND;TZID=America/Chicago:20240825T200000
DTSTAMP:20260423T065633
CREATED:20240821T182915Z
LAST-MODIFIED:20240821T182915Z
UID:10000444-1724616000-1724616000@visitoxfordms.com.cft1.a2hosted.com
SUMMARY:Neal Francis
DESCRIPTION:
URL:http://visitoxfordms.com.cft1.a2hosted.com/event/neal-francis/
LOCATION:Proud Larry’s\, Oxford\, MS\, MS\, United States
CATEGORIES:Music
ATTACH;FMTTYPE=image/jpeg:http://visit-oxford.s3.amazonaws.com/wp-content/uploads/2024/08/21132851/IMG_4725-scaled.jpeg
GEO:34.3664951;-89.5192484
END:VEVENT
BEGIN:VEVENT
DTSTART;TZID=America/Chicago:20240823T210000
DTEND;TZID=America/Chicago:20240823T210000
DTSTAMP:20260423T065633
CREATED:20240821T165347Z
LAST-MODIFIED:20240821T165347Z
UID:10000249-1724446800-1724446800@visitoxfordms.com.cft1.a2hosted.com
SUMMARY:The Pinksheets
DESCRIPTION:
URL:http://visitoxfordms.com.cft1.a2hosted.com/event/the-pinksheets/
LOCATION:Proud Larry’s\, Oxford\, MS\, MS\, United States
CATEGORIES:Music
GEO:34.3664951;-89.5192484
END:VEVENT
BEGIN:VEVENT
DTSTART;TZID=America/Chicago:20240821T080000
DTEND;TZID=America/Chicago:20240821T170000
DTSTAMP:20260423T065633
CREATED:20240821T174346Z
LAST-MODIFIED:20240821T174346Z
UID:10000442-1724227200-1724259600@visitoxfordms.com.cft1.a2hosted.com
SUMMARY:Joshua Quimby
DESCRIPTION:
URL:http://visitoxfordms.com.cft1.a2hosted.com/event/joshua-quimby/
LOCATION:Proud Larry’s\, Oxford\, MS\, MS\, United States
ATTACH;FMTTYPE=image/jpeg:http://visit-oxford.s3.amazonaws.com/wp-content/uploads/2024/08/21124311/IMG_4723.jpeg
GEO:34.3664951;-89.5192484
END:VEVENT
BEGIN:VEVENT
DTSTART;TZID=America/Chicago:20240326T190000
DTEND;TZID=America/Chicago:20240326T200000
DTSTAMP:20260423T065633
CREATED:20240228T173304Z
LAST-MODIFIED:20240228T173304Z
UID:10000350-1711479600-1711483200@visitoxfordms.com.cft1.a2hosted.com
SUMMARY:Jazz Combos
DESCRIPTION:
URL:http://visitoxfordms.com.cft1.a2hosted.com/event/jazz-combos/
LOCATION:Proud Larry’s\, Oxford\, MS\, MS\, United States
CATEGORIES:Music
GEO:34.3664951;-89.5192484
END:VEVENT
BEGIN:VEVENT
DTSTART;TZID=America/Chicago:20231019T210000
DTEND;TZID=America/Chicago:20231019T210000
DTSTAMP:20260423T065633
CREATED:20230523T170357Z
LAST-MODIFIED:20230906T214004Z
UID:10000036-1697749200-1697749200@visitoxfordms.com.cft1.a2hosted.com
SUMMARY:The Weeks @ Proud Larry's
DESCRIPTION:
URL:http://visitoxfordms.com.cft1.a2hosted.com/event/the-weeks-proud-larrys/
LOCATION:Proud Larry’s\, Oxford\, MS\, MS\, United States
CATEGORIES:Music
GEO:34.3664951;-89.5192484
END:VEVENT
END:VCALENDAR