BEGIN:VCALENDAR
VERSION:2.0
PRODID:-//Visit Oxford MS - ECPv6.7.0//NONSGML v1.0//EN
CALSCALE:GREGORIAN
METHOD:PUBLISH
X-WR-CALNAME:Visit Oxford MS
X-ORIGINAL-URL:https://visitoxfordms.com.cft1.a2hosted.com
X-WR-CALDESC:Events for Visit Oxford MS
REFRESH-INTERVAL;VALUE=DURATION:PT1H
X-Robots-Tag:noindex
X-PUBLISHED-TTL:PT1H
BEGIN:VTIMEZONE
TZID:America/Chicago
BEGIN:DAYLIGHT
TZOFFSETFROM:-0600
TZOFFSETTO:-0500
TZNAME:CDT
DTSTART:20240310T080000
END:DAYLIGHT
BEGIN:STANDARD
TZOFFSETFROM:-0500
TZOFFSETTO:-0600
TZNAME:CST
DTSTART:20241103T070000
END:STANDARD
BEGIN:DAYLIGHT
TZOFFSETFROM:-0600
TZOFFSETTO:-0500
TZNAME:CDT
DTSTART:20250309T080000
END:DAYLIGHT
BEGIN:STANDARD
TZOFFSETFROM:-0500
TZOFFSETTO:-0600
TZNAME:CST
DTSTART:20251102T070000
END:STANDARD
END:VTIMEZONE
BEGIN:VEVENT
DTSTART;TZID=America/Chicago:20241105T080000
DTEND;TZID=America/Chicago:20250107T170000
DTSTAMP:20260419T231609
CREATED:20241101T185343Z
LAST-MODIFIED:20241101T185736Z
UID:10000588-1730793600-1736269200@visitoxfordms.com.cft1.a2hosted.com
SUMMARY:The Biggest Baddest Art Show!
DESCRIPTION:
URL:https://visitoxfordms.com.cft1.a2hosted.com/event/the-biggest-baddest-art-show/
LOCATION:The Powerhouse\, Oxford\, MS\, 38655
CATEGORIES:Art
ATTACH;FMTTYPE=image/png:https://visit-oxford.s3.amazonaws.com/wp-content/uploads/2024/11/01135449/Biggest-Baddest-Art-Show.png
GEO:34.3664951;-89.5192484
END:VEVENT
BEGIN:VEVENT
DTSTART;TZID=America/Chicago:20241130T100000
DTEND;TZID=America/Chicago:20241130T140000
DTSTAMP:20260419T231609
CREATED:20241022T175851Z
LAST-MODIFIED:20241022T175851Z
UID:10000570-1732960800-1732975200@visitoxfordms.com.cft1.a2hosted.com
SUMMARY:Small Business Saturday Artist Market
DESCRIPTION:Join Chicory Market for an Artist Vendor Market. Local artisans will sell their wares outside Chicory\, so wear your favorite sweater and stop on by to pick up all your homemade holiday gifts.
URL:https://visitoxfordms.com.cft1.a2hosted.com/event/small-business-saturday-artist-market/
LOCATION:Chicory Market\, 707 North Lamar\, Oxford\, MS\, 38655
CATEGORIES:Art,Shopping
ATTACH;FMTTYPE=image/png:https://visit-oxford.s3.amazonaws.com/wp-content/uploads/2024/10/22125825/Screenshot-2024-10-22-at-12.58.16-PM.png
GEO:34.3900055;-89.5076192
X-APPLE-STRUCTURED-LOCATION;VALUE=URI;X-ADDRESS=Chicory Market 707 North Lamar Oxford MS 38655;X-APPLE-RADIUS=500;X-TITLE=707 North Lamar:geo:-89.5076192,34.3900055
END:VEVENT
END:VCALENDAR