BEGIN:VCALENDAR
VERSION:2.0
PRODID:-//Visit Oxford MS - ECPv6.7.0//NONSGML v1.0//EN
CALSCALE:GREGORIAN
METHOD:PUBLISH
X-WR-CALNAME:Visit Oxford MS
X-ORIGINAL-URL:https://visitoxfordms.com.cft1.a2hosted.com
X-WR-CALDESC:Events for Visit Oxford MS
REFRESH-INTERVAL;VALUE=DURATION:PT1H
X-Robots-Tag:noindex
X-PUBLISHED-TTL:PT1H
BEGIN:VTIMEZONE
TZID:America/Chicago
BEGIN:DAYLIGHT
TZOFFSETFROM:-0600
TZOFFSETTO:-0500
TZNAME:CDT
DTSTART:20250309T080000
END:DAYLIGHT
BEGIN:STANDARD
TZOFFSETFROM:-0500
TZOFFSETTO:-0600
TZNAME:CST
DTSTART:20251102T070000
END:STANDARD
END:VTIMEZONE
BEGIN:VEVENT
DTSTART;TZID=America/Chicago:20250610T120000
DTEND;TZID=America/Chicago:20250610T130000
DTSTAMP:20260419T125744
CREATED:20250529T193815Z
LAST-MODIFIED:20250529T193820Z
UID:10000948-1749556800-1749560400@visitoxfordms.com.cft1.a2hosted.com
SUMMARY:University of Mississippi Museum Brown Bag Lecture Series - Lee Harper
DESCRIPTION:
URL:https://visitoxfordms.com.cft1.a2hosted.com/event/university-of-mississippi-museum-brown-bag-lecture-series-lee-harper/
LOCATION:University Museum\, Intersection of South 5th and University Ave. \, Oxford \, MS\, 38655\, United States
CATEGORIES:Art,Free
ATTACH;FMTTYPE=image/png:https://visit-oxford.s3.amazonaws.com/wp-content/uploads/2025/05/29142521/Screenshot-2025-05-29-at-2.24.02%E2%80%AFPM.png
GEO:34.3647913;-89.5257906
X-APPLE-STRUCTURED-LOCATION;VALUE=URI;X-ADDRESS=University Museum Intersection of South 5th and University Ave.  Oxford  MS 38655 United States;X-APPLE-RADIUS=500;X-TITLE=Intersection of South 5th and University Ave.:geo:-89.5257906,34.3647913
END:VEVENT
END:VCALENDAR