BEGIN:VCALENDAR
VERSION:2.0
PRODID:-//Visit Oxford MS - ECPv6.7.0//NONSGML v1.0//EN
CALSCALE:GREGORIAN
METHOD:PUBLISH
X-WR-CALNAME:Visit Oxford MS
X-ORIGINAL-URL:https://visitoxfordms.com.cft1.a2hosted.com
X-WR-CALDESC:Events for Visit Oxford MS
REFRESH-INTERVAL;VALUE=DURATION:PT1H
X-Robots-Tag:noindex
X-PUBLISHED-TTL:PT1H
BEGIN:VTIMEZONE
TZID:America/Chicago
BEGIN:DAYLIGHT
TZOFFSETFROM:-0600
TZOFFSETTO:-0500
TZNAME:CDT
DTSTART:20250309T080000
END:DAYLIGHT
BEGIN:STANDARD
TZOFFSETFROM:-0500
TZOFFSETTO:-0600
TZNAME:CST
DTSTART:20251102T070000
END:STANDARD
END:VTIMEZONE
BEGIN:VEVENT
DTSTART;TZID=America/Chicago:20250207T173000
DTEND;TZID=America/Chicago:20250208T000000
DTSTAMP:20260420T024619
CREATED:20241223T194858Z
LAST-MODIFIED:20250114T210404Z
UID:10000629-1738949400-1738972800@visitoxfordms.com.cft1.a2hosted.com
SUMMARY:Jerrod Partridge presents The Artist as Visual Explorer
DESCRIPTION:
URL:https://visitoxfordms.com.cft1.a2hosted.com/event/the-art-of-the-sketchbook-with-jerrod-partridge/
LOCATION:The Powerhouse\, Oxford\, MS\, 38655
CATEGORIES:Art
ATTACH;FMTTYPE=image/png:https://visit-oxford.s3.amazonaws.com/wp-content/uploads/2024/12/14150135/Screenshot-2025-01-14-at-3.00.22%E2%80%AFPM.png
GEO:34.3664951;-89.5192484
END:VEVENT
BEGIN:VEVENT
DTSTART;TZID=America/Chicago:20250213T103000
DTEND;TZID=America/Chicago:20250213T130000
DTSTAMP:20260420T024619
CREATED:20250128T203139Z
LAST-MODIFIED:20250128T203146Z
UID:10000780-1739442600-1739451600@visitoxfordms.com.cft1.a2hosted.com
SUMMARY:The Oxford Garden Club presents A Fountain of Fantasies
DESCRIPTION:
URL:https://visitoxfordms.com.cft1.a2hosted.com/event/the-oxford-garden-club-presents-a-fountain-of-fantasies/
LOCATION:Oxford Conference Center\, 102 Ed Perry Blvd\, Oxford\, MS\, 38655\, United States
CATEGORIES:Art,Fundraiser
ATTACH;FMTTYPE=image/png:https://visit-oxford.s3.amazonaws.com/wp-content/uploads/2025/01/28143032/Screenshot-2025-01-28-at-2.16.47%E2%80%AFPM-1.png
GEO:34.3715376;-89.499527
X-APPLE-STRUCTURED-LOCATION;VALUE=URI;X-ADDRESS=Oxford Conference Center 102 Ed Perry Blvd Oxford MS 38655 United States;X-APPLE-RADIUS=500;X-TITLE=102 Ed Perry Blvd:geo:-89.499527,34.3715376
END:VEVENT
BEGIN:VEVENT
DTSTART;TZID=America/Chicago:20250213T173000
DTEND;TZID=America/Chicago:20250213T200000
DTSTAMP:20260420T024619
CREATED:20250108T215621Z
LAST-MODIFIED:20250108T215627Z
UID:10000721-1739467800-1739476800@visitoxfordms.com.cft1.a2hosted.com
SUMMARY:Girls Night Out
DESCRIPTION:
URL:https://visitoxfordms.com.cft1.a2hosted.com/event/girls-night-out/
LOCATION:Isom Place\, 1003 Jefferson Ave\, Oxford\, MS\, 38655
CATEGORIES:Art,Holiday
ATTACH;FMTTYPE=image/png:https://visit-oxford.s3.amazonaws.com/wp-content/uploads/2025/01/08155427/Screenshot-2025-01-08-at-2.02.45%E2%80%AFPM.jpeg.png
GEO:34.3691711;-89.5197909
X-APPLE-STRUCTURED-LOCATION;VALUE=URI;X-ADDRESS=Isom Place 1003 Jefferson Ave Oxford MS 38655;X-APPLE-RADIUS=500;X-TITLE=1003 Jefferson Ave:geo:-89.5197909,34.3691711
END:VEVENT
BEGIN:VEVENT
DTSTART;TZID=America/Chicago:20250227T173000
DTEND;TZID=America/Chicago:20250227T190000
DTSTAMP:20260420T024619
CREATED:20250225T174045Z
LAST-MODIFIED:20250225T174053Z
UID:10000819-1740677400-1740682800@visitoxfordms.com.cft1.a2hosted.com
SUMMARY:Courage\, Hope\, and Legacy by M.B. Mayfield
DESCRIPTION:
URL:https://visitoxfordms.com.cft1.a2hosted.com/event/courage-hope-and-legacy-by-m-b-mayfield/
LOCATION:University Museum\, Intersection of South 5th and University Ave. \, Oxford \, MS\, 38655\, United States
CATEGORIES:Art,Free
ATTACH;FMTTYPE=image/png:https://visit-oxford.s3.amazonaws.com/wp-content/uploads/2025/02/25113844/m-b-mayfield-poster.png
GEO:34.3647913;-89.5257906
X-APPLE-STRUCTURED-LOCATION;VALUE=URI;X-ADDRESS=University Museum Intersection of South 5th and University Ave.  Oxford  MS 38655 United States;X-APPLE-RADIUS=500;X-TITLE=Intersection of South 5th and University Ave.:geo:-89.5257906,34.3647913
END:VEVENT
BEGIN:VEVENT
DTSTART;TZID=America/Chicago:20250412T100000
DTEND;TZID=America/Chicago:20250412T140000
DTSTAMP:20260420T024619
CREATED:20250407T145441Z
LAST-MODIFIED:20250407T145458Z
UID:10000880-1744452000-1744466400@visitoxfordms.com.cft1.a2hosted.com
SUMMARY:Myers Apothecary 1 Year Birthday Celebration
DESCRIPTION:
URL:https://visitoxfordms.com.cft1.a2hosted.com/event/myers-apothecary-1-year-birthday-celebration/
LOCATION:MS
CATEGORIES:Art,Music
ATTACH;FMTTYPE=image/jpeg:https://visit-oxford.s3.amazonaws.com/wp-content/uploads/2025/04/07095424/IMG_5243.jpg
END:VEVENT
BEGIN:VEVENT
DTSTART;TZID=America/Chicago:20250424T170000
DTEND;TZID=America/Chicago:20250424T200000
DTSTAMP:20260420T024619
CREATED:20250402T184926Z
LAST-MODIFIED:20250402T184926Z
UID:10000871-1745514000-1745524800@visitoxfordms.com.cft1.a2hosted.com
SUMMARY:Andrew Blanchard Reception
DESCRIPTION:
URL:https://visitoxfordms.com.cft1.a2hosted.com/event/andrew-blanchard-reception/
LOCATION:Southside Gallery\, 150 Courthouse Square\, Oxford\, MS\, 38655\, United States
CATEGORIES:Art
ATTACH;FMTTYPE=image/jpeg:https://visit-oxford.s3.amazonaws.com/wp-content/uploads/2025/04/02134904/image-1.jpeg
GEO:34.3664649;-89.5192246
X-APPLE-STRUCTURED-LOCATION;VALUE=URI;X-ADDRESS=Southside Gallery 150 Courthouse Square Oxford MS 38655 United States;X-APPLE-RADIUS=500;X-TITLE=150 Courthouse Square:geo:-89.5192246,34.3664649
END:VEVENT
BEGIN:VEVENT
DTSTART;TZID=America/Chicago:20250425T100000
DTEND;TZID=America/Chicago:20250425T170000
DTSTAMP:20260420T024619
CREATED:20250423T152609Z
LAST-MODIFIED:20250423T152609Z
UID:10000908-1745575200-1745600400@visitoxfordms.com.cft1.a2hosted.com
SUMMARY:Cookies with the Curator
DESCRIPTION:
URL:https://visitoxfordms.com.cft1.a2hosted.com/event/cookies-with-the-curator/
LOCATION:University Museum\, Intersection of South 5th and University Ave. \, Oxford \, MS\, 38655\, United States
CATEGORIES:Art,Family Friendly
ATTACH;FMTTYPE=image/png:https://visit-oxford.s3.amazonaws.com/wp-content/uploads/2025/04/23102336/cookies-w-curator-2.png
GEO:34.3647913;-89.5257906
X-APPLE-STRUCTURED-LOCATION;VALUE=URI;X-ADDRESS=University Museum Intersection of South 5th and University Ave.  Oxford  MS 38655 United States;X-APPLE-RADIUS=500;X-TITLE=Intersection of South 5th and University Ave.:geo:-89.5257906,34.3647913
END:VEVENT
BEGIN:VEVENT
DTSTART;TZID=America/Chicago:20250425T160000
DTEND;TZID=America/Chicago:20250426T220000
DTSTAMP:20260420T024619
CREATED:20250103T193517Z
LAST-MODIFIED:20250325T180249Z
UID:10000644-1745596800-1745704800@visitoxfordms.com.cft1.a2hosted.com
SUMMARY:Double Decker Arts Festival
DESCRIPTION:Join us for the 28th anniversary of the Double Decker Arts Festival!
URL:https://visitoxfordms.com.cft1.a2hosted.com/event/double-decker-arts-festival/
LOCATION:Downtown Square\, Courthouse Square\, Oxford\, MS\, 38655\, United States
CATEGORIES:Art,Culinary,Free,Music,Outdoor,Shopping
ATTACH;FMTTYPE=image/png:https://visit-oxford.s3.amazonaws.com/wp-content/uploads/2025/01/25130131/Screenshot-2025-03-25-at-12.59.55%E2%80%AFPM.png
GEO:34.3660762;-89.5192036
X-APPLE-STRUCTURED-LOCATION;VALUE=URI;X-ADDRESS=Downtown Square Courthouse Square Oxford MS 38655 United States;X-APPLE-RADIUS=500;X-TITLE=Courthouse Square:geo:-89.5192036,34.3660762
END:VEVENT
BEGIN:VEVENT
DTSTART;TZID=America/Chicago:20250610T120000
DTEND;TZID=America/Chicago:20250610T130000
DTSTAMP:20260420T024619
CREATED:20250529T193815Z
LAST-MODIFIED:20250529T193820Z
UID:10000948-1749556800-1749560400@visitoxfordms.com.cft1.a2hosted.com
SUMMARY:University of Mississippi Museum Brown Bag Lecture Series - Lee Harper
DESCRIPTION:
URL:https://visitoxfordms.com.cft1.a2hosted.com/event/university-of-mississippi-museum-brown-bag-lecture-series-lee-harper/
LOCATION:University Museum\, Intersection of South 5th and University Ave. \, Oxford \, MS\, 38655\, United States
CATEGORIES:Art,Free
ATTACH;FMTTYPE=image/png:https://visit-oxford.s3.amazonaws.com/wp-content/uploads/2025/05/29142521/Screenshot-2025-05-29-at-2.24.02%E2%80%AFPM.png
GEO:34.3647913;-89.5257906
X-APPLE-STRUCTURED-LOCATION;VALUE=URI;X-ADDRESS=University Museum Intersection of South 5th and University Ave.  Oxford  MS 38655 United States;X-APPLE-RADIUS=500;X-TITLE=Intersection of South 5th and University Ave.:geo:-89.5257906,34.3647913
END:VEVENT
BEGIN:VEVENT
DTSTART;TZID=America/Chicago:20250715T120000
DTEND;TZID=America/Chicago:20250715T130000
DTSTAMP:20260420T024619
CREATED:20250529T194336Z
LAST-MODIFIED:20250713T160214Z
UID:10000949-1752580800-1752584400@visitoxfordms.com.cft1.a2hosted.com
SUMMARY:University of Mississippi Museum Brown Bag Lecture Series - Coulter Fussell
DESCRIPTION:
URL:https://visitoxfordms.com.cft1.a2hosted.com/event/university-of-mississippi-museum-brown-bag-lecture-series-coulter-fussell/
LOCATION:University Museum\, Intersection of South 5th and University Ave. \, Oxford \, MS\, 38655\, United States
CATEGORIES:Art,Free
ATTACH;FMTTYPE=image/png:https://visit-oxford.s3.amazonaws.com/wp-content/uploads/2025/05/13105950/Screenshot-2025-07-13-at-10.54.30%E2%80%AFAM.png
GEO:34.3647913;-89.5257906
X-APPLE-STRUCTURED-LOCATION;VALUE=URI;X-ADDRESS=University Museum Intersection of South 5th and University Ave.  Oxford  MS 38655 United States;X-APPLE-RADIUS=500;X-TITLE=Intersection of South 5th and University Ave.:geo:-89.5257906,34.3647913
END:VEVENT
BEGIN:VEVENT
DTSTART;TZID=America/Chicago:20250815T120000
DTEND;TZID=America/Chicago:20250815T130000
DTSTAMP:20260420T024619
CREATED:20250529T194519Z
LAST-MODIFIED:20250529T194526Z
UID:10000950-1755259200-1755262800@visitoxfordms.com.cft1.a2hosted.com
SUMMARY:University of Mississippi Museum Brown Bag Lecture Series - Lawson King
DESCRIPTION:
URL:https://visitoxfordms.com.cft1.a2hosted.com/event/university-of-mississippi-museum-brown-bag-lecture-series-lawson-king/
LOCATION:University Museum\, Intersection of South 5th and University Ave. \, Oxford \, MS\, 38655\, United States
CATEGORIES:Art,Free
ATTACH;FMTTYPE=image/png:https://visit-oxford.s3.amazonaws.com/wp-content/uploads/2025/05/29142521/Screenshot-2025-05-29-at-2.24.02%E2%80%AFPM.png
GEO:34.3647913;-89.5257906
X-APPLE-STRUCTURED-LOCATION;VALUE=URI;X-ADDRESS=University Museum Intersection of South 5th and University Ave.  Oxford  MS 38655 United States;X-APPLE-RADIUS=500;X-TITLE=Intersection of South 5th and University Ave.:geo:-89.5257906,34.3647913
END:VEVENT
BEGIN:VEVENT
DTSTART;TZID=America/Chicago:20250821T190000
DTEND;TZID=America/Chicago:20250821T203000
DTSTAMP:20260420T024619
CREATED:20250711T175946Z
LAST-MODIFIED:20250711T175946Z
UID:10001018-1755802800-1755808200@visitoxfordms.com.cft1.a2hosted.com
SUMMARY:The End of All Music presents A Night of Ambient Music with Luke Schneider
DESCRIPTION:
URL:https://visitoxfordms.com.cft1.a2hosted.com/event/the-end-of-all-music-presents-a-night-of-ambient-music-with-luke-schneider/
LOCATION:Southside Gallery\, 150 Courthouse Square\, Oxford\, MS\, 38655\, United States
CATEGORIES:Art,Music
ATTACH;FMTTYPE=image/png:https://visit-oxford.s3.amazonaws.com/wp-content/uploads/2025/07/11125747/Screenshot-2025-07-11-at-12.57.17%E2%80%AFPM.png
GEO:34.3664649;-89.5192246
X-APPLE-STRUCTURED-LOCATION;VALUE=URI;X-ADDRESS=Southside Gallery 150 Courthouse Square Oxford MS 38655 United States;X-APPLE-RADIUS=500;X-TITLE=150 Courthouse Square:geo:-89.5192246,34.3664649
END:VEVENT
END:VCALENDAR