BEGIN:VCALENDAR
VERSION:2.0
PRODID:-//Visit Oxford MS - ECPv6.7.0//NONSGML v1.0//EN
CALSCALE:GREGORIAN
METHOD:PUBLISH
X-ORIGINAL-URL:https://visitoxfordms.com.cft1.a2hosted.com
X-WR-CALDESC:Events for Visit Oxford MS
REFRESH-INTERVAL;VALUE=DURATION:PT1H
X-Robots-Tag:noindex
X-PUBLISHED-TTL:PT1H
BEGIN:VTIMEZONE
TZID:America/Chicago
BEGIN:DAYLIGHT
TZOFFSETFROM:-0600
TZOFFSETTO:-0500
TZNAME:CDT
DTSTART:20230312T080000
END:DAYLIGHT
BEGIN:STANDARD
TZOFFSETFROM:-0500
TZOFFSETTO:-0600
TZNAME:CST
DTSTART:20231105T070000
END:STANDARD
END:VTIMEZONE
BEGIN:VEVENT
DTSTART;TZID=America/Chicago:20231015T100000
DTEND;TZID=America/Chicago:20231015T140000
DTSTAMP:20260424T041931
CREATED:20231011T144351Z
LAST-MODIFIED:20231011T144556Z
UID:10000290-1697364000-1697378400@visitoxfordms.com.cft1.a2hosted.com
SUMMARY:Crepe Cartel
DESCRIPTION:🍓 European Influenced Brunch Pop-Up.\n🍰 Sweet & Savory Crepes!\n☕️ French Coffee & Tea
URL:https://visitoxfordms.com.cft1.a2hosted.com/event/crepe-cartel/
LOCATION:Rice & Spice\, 1520 Jackson Ave W\, Oxford\, 38655
CATEGORIES:Culinary,Family Friendly
GEO:34.365939;-89.5509094
X-APPLE-STRUCTURED-LOCATION;VALUE=URI;X-ADDRESS=Rice & Spice 1520 Jackson Ave W Oxford 38655;X-APPLE-RADIUS=500;X-TITLE=1520 Jackson Ave W:geo:-89.5509094,34.365939
END:VEVENT
END:VCALENDAR