BEGIN:VCALENDAR
VERSION:2.0
PRODID:-//Visit Oxford MS - ECPv6.7.0//NONSGML v1.0//EN
CALSCALE:GREGORIAN
METHOD:PUBLISH
X-WR-CALNAME:Visit Oxford MS
X-ORIGINAL-URL:https://visitoxfordms.com.cft1.a2hosted.com
X-WR-CALDESC:Events for Visit Oxford MS
REFRESH-INTERVAL;VALUE=DURATION:PT1H
X-Robots-Tag:noindex
X-PUBLISHED-TTL:PT1H
BEGIN:VTIMEZONE
TZID:America/Chicago
BEGIN:DAYLIGHT
TZOFFSETFROM:-0600
TZOFFSETTO:-0500
TZNAME:CDT
DTSTART:20230312T080000
END:DAYLIGHT
BEGIN:STANDARD
TZOFFSETFROM:-0500
TZOFFSETTO:-0600
TZNAME:CST
DTSTART:20231105T070000
END:STANDARD
END:VTIMEZONE
BEGIN:VEVENT
DTSTART;TZID=America/Chicago:20231017T180000
DTEND;TZID=America/Chicago:20231017T200000
DTSTAMP:20260424T041209
CREATED:20230815T163043Z
LAST-MODIFIED:20230918T010823Z
UID:10000060-1697565600-1697572800@visitoxfordms.com.cft1.a2hosted.com
SUMMARY:Three Blind Wines: Red Wine Edition
DESCRIPTION:Enjoy an evening at YAC’s Three Blind Wines on October 17 at The Powerhouse! Grab a teammate and 3 bottles of your favorite red wine. The wine with the most votes takes home a whole cellar!
URL:https://visitoxfordms.com.cft1.a2hosted.com/event/three-blind-wines-tasting/
LOCATION:The Powerhouse\, Oxford\, MS\, 38655
CATEGORIES:Culinary
GEO:34.3664951;-89.5192484
END:VEVENT
END:VCALENDAR