BEGIN:VCALENDAR
VERSION:2.0
PRODID:-//Visit Oxford MS - ECPv6.7.0//NONSGML v1.0//EN
CALSCALE:GREGORIAN
METHOD:PUBLISH
X-WR-CALNAME:Visit Oxford MS
X-ORIGINAL-URL:https://visitoxfordms.com.cft1.a2hosted.com
X-WR-CALDESC:Events for Visit Oxford MS
REFRESH-INTERVAL;VALUE=DURATION:PT1H
X-Robots-Tag:noindex
X-PUBLISHED-TTL:PT1H
BEGIN:VTIMEZONE
TZID:America/Chicago
BEGIN:DAYLIGHT
TZOFFSETFROM:-0600
TZOFFSETTO:-0500
TZNAME:CDT
DTSTART:20240310T080000
END:DAYLIGHT
BEGIN:STANDARD
TZOFFSETFROM:-0500
TZOFFSETTO:-0600
TZNAME:CST
DTSTART:20241103T070000
END:STANDARD
BEGIN:DAYLIGHT
TZOFFSETFROM:-0600
TZOFFSETTO:-0500
TZNAME:CDT
DTSTART:20250309T080000
END:DAYLIGHT
BEGIN:STANDARD
TZOFFSETFROM:-0500
TZOFFSETTO:-0600
TZNAME:CST
DTSTART:20251102T070000
END:STANDARD
END:VTIMEZONE
BEGIN:VEVENT
DTSTART;TZID=America/Chicago:20250403T213000
DTEND;TZID=America/Chicago:20250403T213000
DTSTAMP:20260422T092500
CREATED:20250321T204714Z
LAST-MODIFIED:20250321T204721Z
UID:10000856-1743715800-1743715800@visitoxfordms.com.cft1.a2hosted.com
SUMMARY:Code Pink:  Space Cowboy 2
DESCRIPTION:
URL:https://visitoxfordms.com.cft1.a2hosted.com/event/code-pink-space-cowboy-2/
LOCATION:The Lyric\, 1006 Van Buren \, Oxford\, MS\, 38655\, United States
CATEGORIES:Dance,Music
ATTACH;FMTTYPE=image/png:https://visit-oxford.s3.amazonaws.com/wp-content/uploads/2025/03/21154505/Screenshot-2025-03-21-at-3.42.25%E2%80%AFPM.png
GEO:34.3662931;-89.5209192
X-APPLE-STRUCTURED-LOCATION;VALUE=URI;X-ADDRESS=The Lyric 1006 Van Buren  Oxford MS 38655 United States;X-APPLE-RADIUS=500;X-TITLE=1006 Van Buren:geo:-89.5209192,34.3662931
END:VEVENT
BEGIN:VEVENT
DTSTART;TZID=America/Chicago:20250215T210000
DTEND;TZID=America/Chicago:20250215T210000
DTSTAMP:20260422T092500
CREATED:20250203T185914Z
LAST-MODIFIED:20250203T185923Z
UID:10000783-1739653200-1739653200@visitoxfordms.com.cft1.a2hosted.com
SUMMARY:Fuego y Amor
DESCRIPTION:
URL:https://visitoxfordms.com.cft1.a2hosted.com/event/fuego-y-amor/
LOCATION:The Lyric\, 1006 Van Buren \, Oxford\, MS\, 38655\, United States
CATEGORIES:Dance,Music
ATTACH;FMTTYPE=image/png:https://visit-oxford.s3.amazonaws.com/wp-content/uploads/2025/02/03125600/Screenshot-2025-02-03-at-12.52.09%E2%80%AFPM.png
GEO:34.3662931;-89.5209192
X-APPLE-STRUCTURED-LOCATION;VALUE=URI;X-ADDRESS=The Lyric 1006 Van Buren  Oxford MS 38655 United States;X-APPLE-RADIUS=500;X-TITLE=1006 Van Buren:geo:-89.5209192,34.3662931
END:VEVENT
BEGIN:VEVENT
DTSTART;TZID=America/Chicago:20250214T210000
DTEND;TZID=America/Chicago:20250214T210000
DTSTAMP:20260422T092500
CREATED:20250127T161819Z
LAST-MODIFIED:20250127T161834Z
UID:10000776-1739566800-1739566800@visitoxfordms.com.cft1.a2hosted.com
SUMMARY:Code Pink: Love Game
DESCRIPTION:FALL IN LOVE this Valentine’s Day/ Dance. Drag. Rave. \nDoors at 9pm\, drag show at 10pm
URL:https://visitoxfordms.com.cft1.a2hosted.com/event/code-pink-love-game/
LOCATION:The Lyric\, 1006 Van Buren \, Oxford\, MS\, 38655\, United States
CATEGORIES:Dance,Music
ATTACH;FMTTYPE=image/webp:https://visit-oxford.s3.amazonaws.com/wp-content/uploads/2025/01/27101716/eyJidWNrZXQiOiJwcm9kLXNpaC5zZWV0aWNrZXRzdXNhLnVzIiwia2V5IjoiNWVhMzAyYjEtZDk3Yy00MmUzLTgzYjAtMGUzNmJkNGM1MTBlIiwiZWRpdHMiOnt9fQ.webp
GEO:34.3662931;-89.5209192
X-APPLE-STRUCTURED-LOCATION;VALUE=URI;X-ADDRESS=The Lyric 1006 Van Buren  Oxford MS 38655 United States;X-APPLE-RADIUS=500;X-TITLE=1006 Van Buren:geo:-89.5209192,34.3662931
END:VEVENT
BEGIN:VEVENT
DTSTART;TZID=America/Chicago:20250128T173000
DTEND;TZID=America/Chicago:20250130T193000
DTSTAMP:20260422T092500
CREATED:20241227T162823Z
LAST-MODIFIED:20241227T163506Z
UID:10000634-1738085400-1738265400@visitoxfordms.com.cft1.a2hosted.com
SUMMARY:The Princess Ball
DESCRIPTION:Join us for a family event as the Powerhouse Community Arts Center is transformed into the royal palace! \nThe Princess Ball is open to any parent and child. Tickets include meal from Chick-fil-A\, beverages\, music and dancing\, photo booths and special gift for the child(ren). \nPresented by Chick-fil-A West Jackson Ave. and the Yoknapatawpha Arts Council.Tickets are $25 per person. \nOnline sales end at 4 pm on the night of the event. 
URL:https://visitoxfordms.com.cft1.a2hosted.com/event/the-princess-ball/
LOCATION:The Powerhouse\, Oxford\, MS\, 38655
CATEGORIES:Dance,Family Friendly
ATTACH;FMTTYPE=image/png:https://visit-oxford.s3.amazonaws.com/wp-content/uploads/2024/12/27102435/Screenshot-2024-12-27-at-10.24.11%E2%80%AFAM.png
GEO:34.3664951;-89.5192484
END:VEVENT
BEGIN:VEVENT
DTSTART;TZID=America/Chicago:20241117T170000
DTEND;TZID=America/Chicago:20241117T180000
DTSTAMP:20260422T092500
CREATED:20241106T192123Z
LAST-MODIFIED:20241106T192123Z
UID:10000595-1731862800-1731866400@visitoxfordms.com.cft1.a2hosted.com
SUMMARY:Re-Create Yourself Ole Miss African Drum & Dance Ensemble
DESCRIPTION:Featuring: \nGhanaian Ethnic Dances\nOriginal Highlife (Ghanaian Popular Music) by Diana Hamilton and George W. K. Dor\nGhanaian Art Song by J.H. Kwabena Nketia\nEarnest Adonoo\, master drummer for Agbadza/GA\nAiden Stanford\, lead drummer for Gahu\nMichael Aboagye\, tenor\nRamsford Addae\, collaborative piano\nIf-Not-God Moses\, lead vocal\nYawa Dor\, lead dancer/special assistant\nGeorge W. K. Dor\, director
URL:https://visitoxfordms.com.cft1.a2hosted.com/event/re-create-yourself-ole-miss-african-drum-dance-ensemble/
LOCATION:David H. Nutt Auditorium\, Oxford\, MS\, 38655
CATEGORIES:Dance,Free,Music
ATTACH;FMTTYPE=image/png:https://visit-oxford.s3.amazonaws.com/wp-content/uploads/2024/11/06132049/11-17-24-OMADDE-Facebook.png
GEO:34.3664951;-89.5192484
END:VEVENT
BEGIN:VEVENT
DTSTART;TZID=America/Chicago:20240913T213000
DTEND;TZID=America/Chicago:20240913T213000
DTSTAMP:20260422T092500
CREATED:20240826T185844Z
LAST-MODIFIED:20240826T185844Z
UID:10000451-1726263000-1726263000@visitoxfordms.com.cft1.a2hosted.com
SUMMARY:Code Pink
DESCRIPTION:
URL:https://visitoxfordms.com.cft1.a2hosted.com/event/code-pink-2/
LOCATION:The Lyric\, 1006 Van Buren \, Oxford\, MS\, 38655\, United States
CATEGORIES:Dance
ATTACH;FMTTYPE=image/webp:https://visit-oxford.s3.amazonaws.com/wp-content/uploads/2024/08/26135652/eyJidWNrZXQiOiJwcm9kLXNpaC5zZWV0aWNrZXRzdXNhLnVzIiwia2V5IjoiYmQ4OTI0NDYtMzEyZS00MmVhLWE2MDctOGRlNTJmZTJiNTg0IiwiZWRpdHMiOnt9fQ.webp
GEO:34.3662931;-89.5209192
X-APPLE-STRUCTURED-LOCATION;VALUE=URI;X-ADDRESS=The Lyric 1006 Van Buren  Oxford MS 38655 United States;X-APPLE-RADIUS=500;X-TITLE=1006 Van Buren:geo:-89.5209192,34.3662931
END:VEVENT
BEGIN:VEVENT
DTSTART;TZID=America/Chicago:20240803T140000
DTEND;TZID=America/Chicago:20240803T200000
DTSTAMP:20260422T092500
CREATED:20240625T172005Z
LAST-MODIFIED:20240625T172005Z
UID:10000205-1722693600-1722715200@visitoxfordms.com.cft1.a2hosted.com
SUMMARY:Butoh:  Dance of Shadow and Light
DESCRIPTION:
URL:https://visitoxfordms.com.cft1.a2hosted.com/event/butoh-dance-of-shadow-and-light-2/
LOCATION:The Powerhouse\, Oxford\, MS\, 38655
CATEGORIES:Dance
GEO:34.3664951;-89.5192484
END:VEVENT
BEGIN:VEVENT
DTSTART;TZID=America/Chicago:20240802T190000
DTEND;TZID=America/Chicago:20240802T190000
DTSTAMP:20260422T092500
CREATED:20240625T171639Z
LAST-MODIFIED:20240625T171639Z
UID:10000190-1722625200-1722625200@visitoxfordms.com.cft1.a2hosted.com
SUMMARY:Butoh:  Dance of Shadow and Light
DESCRIPTION:
URL:https://visitoxfordms.com.cft1.a2hosted.com/event/butoh-dance-of-shadow-and-light/
LOCATION:The Powerhouse\, Oxford\, MS\, 38655
CATEGORIES:Dance
GEO:34.3664951;-89.5192484
END:VEVENT
BEGIN:VEVENT
DTSTART;TZID=America/Chicago:20240413T080000
DTEND;TZID=America/Chicago:20240413T190000
DTSTAMP:20260422T092500
CREATED:20240401T162217Z
LAST-MODIFIED:20240401T162217Z
UID:10000159-1712995200-1713034800@visitoxfordms.com.cft1.a2hosted.com
SUMMARY:Mississippi Day
DESCRIPTION:Mississippi Day will return to our beautiful campus this spring\, and we cannot wait to see you there! Join us as we celebrate the state of Mississippi and the university’s contributions to its culture\, education\, health care and economy through hands-on activities\, demonstrations\, food and much more.
URL:https://visitoxfordms.com.cft1.a2hosted.com/event/mississippi-day/
LOCATION:University of Mississippi\, Oxford\, MS\, 38655\, United States
CATEGORIES:Art,Dance,Family Friendly,Free,Music,Outdoor,Recreation,Sports
GEO:34.3664951;-89.5192484
END:VEVENT
BEGIN:VEVENT
DTSTART;TZID=America/Chicago:20240330T213000
DTEND;TZID=America/Chicago:20240331T004500
DTSTAMP:20260422T092500
CREATED:20240312T161453Z
LAST-MODIFIED:20240319T190535Z
UID:10000364-1711834200-1711845900@visitoxfordms.com.cft1.a2hosted.com
SUMMARY:Code Pink
DESCRIPTION:
URL:https://visitoxfordms.com.cft1.a2hosted.com/event/code-pink/
LOCATION:The Lyric\, 1006 Van Buren \, Oxford\, MS\, 38655\, United States
CATEGORIES:Dance,Music
GEO:34.3662931;-89.5209192
X-APPLE-STRUCTURED-LOCATION;VALUE=URI;X-ADDRESS=The Lyric 1006 Van Buren  Oxford MS 38655 United States;X-APPLE-RADIUS=500;X-TITLE=1006 Van Buren:geo:-89.5209192,34.3662931
END:VEVENT
END:VCALENDAR