BEGIN:VCALENDAR
VERSION:2.0
PRODID:-//Visit Oxford MS - ECPv6.7.0//NONSGML v1.0//EN
CALSCALE:GREGORIAN
METHOD:PUBLISH
X-ORIGINAL-URL:https://visitoxfordms.com.cft1.a2hosted.com
X-WR-CALDESC:Events for Visit Oxford MS
REFRESH-INTERVAL;VALUE=DURATION:PT1H
X-Robots-Tag:noindex
X-PUBLISHED-TTL:PT1H
BEGIN:VTIMEZONE
TZID:America/Chicago
BEGIN:DAYLIGHT
TZOFFSETFROM:-0600
TZOFFSETTO:-0500
TZNAME:CDT
DTSTART:20240310T080000
END:DAYLIGHT
BEGIN:STANDARD
TZOFFSETFROM:-0500
TZOFFSETTO:-0600
TZNAME:CST
DTSTART:20241103T070000
END:STANDARD
END:VTIMEZONE
BEGIN:VEVENT
DTSTART;TZID=America/Chicago:20241022T173000
DTEND;TZID=America/Chicago:20241022T193000
DTSTAMP:20260419T164741
CREATED:20241001T203757Z
LAST-MODIFIED:20241001T203757Z
UID:10000540-1729618200-1729625400@visitoxfordms.com.cft1.a2hosted.com
SUMMARY:Fall Festival 2024
DESCRIPTION:
URL:https://visitoxfordms.com.cft1.a2hosted.com/event/fall-festival-2024/
LOCATION:Oxford Activity Center\, 400 Price Street\, Oxford\, MS\, 38655
CATEGORIES:Family Friendly,Free,Holiday
ATTACH;FMTTYPE=image/png:https://visit-oxford.s3.amazonaws.com/wp-content/uploads/2024/10/01153446/unnamed-2.png
GEO:34.3749628;-89.5263919
X-APPLE-STRUCTURED-LOCATION;VALUE=URI;X-ADDRESS=Oxford Activity Center 400 Price Street Oxford MS 38655;X-APPLE-RADIUS=500;X-TITLE=400 Price Street:geo:-89.5263919,34.3749628
END:VEVENT
END:VCALENDAR