BEGIN:VCALENDAR
VERSION:2.0
PRODID:-//Visit Oxford MS - ECPv6.7.0//NONSGML v1.0//EN
CALSCALE:GREGORIAN
METHOD:PUBLISH
X-WR-CALNAME:Visit Oxford MS
X-ORIGINAL-URL:https://visitoxfordms.com.cft1.a2hosted.com
X-WR-CALDESC:Events for Visit Oxford MS
REFRESH-INTERVAL;VALUE=DURATION:PT1H
X-Robots-Tag:noindex
X-PUBLISHED-TTL:PT1H
BEGIN:VTIMEZONE
TZID:America/Chicago
BEGIN:DAYLIGHT
TZOFFSETFROM:-0600
TZOFFSETTO:-0500
TZNAME:CDT
DTSTART:20250309T080000
END:DAYLIGHT
BEGIN:STANDARD
TZOFFSETFROM:-0500
TZOFFSETTO:-0600
TZNAME:CST
DTSTART:20251102T070000
END:STANDARD
END:VTIMEZONE
BEGIN:VEVENT
DTSTART;TZID=America/Chicago:20250207T193000
DTEND;TZID=America/Chicago:20250207T193000
DTSTAMP:20260419T091916
CREATED:20250124T211445Z
LAST-MODIFIED:20250124T211501Z
UID:10000772-1738956600-1738956600@visitoxfordms.com.cft1.a2hosted.com
SUMMARY:A Recital for Everyone
DESCRIPTION:Bradley Robinson\, baritone & Amanda Johnston\, piano \nJoin us as we celebrate romance\, sadness\, horror and humor in an evening of\nclassical and musical theater greats!
URL:https://visitoxfordms.com.cft1.a2hosted.com/event/a-recital-for-everyone/
LOCATION:David H. Nutt Auditorium\, Oxford\, MS\, 38655
CATEGORIES:Family Friendly,Free,Music
ATTACH;FMTTYPE=image/png:https://visit-oxford.s3.amazonaws.com/wp-content/uploads/2025/01/24151425/2-7-25-Faculty-Recital-Facebook-Post.png
GEO:34.3664951;-89.5192484
END:VEVENT
END:VCALENDAR