BEGIN:VCALENDAR
VERSION:2.0
PRODID:-//Visit Oxford MS - ECPv6.7.0//NONSGML v1.0//EN
CALSCALE:GREGORIAN
METHOD:PUBLISH
X-ORIGINAL-URL:https://visitoxfordms.com.cft1.a2hosted.com
X-WR-CALDESC:Events for Visit Oxford MS
REFRESH-INTERVAL;VALUE=DURATION:PT1H
X-Robots-Tag:noindex
X-PUBLISHED-TTL:PT1H
BEGIN:VTIMEZONE
TZID:America/Chicago
BEGIN:DAYLIGHT
TZOFFSETFROM:-0600
TZOFFSETTO:-0500
TZNAME:CDT
DTSTART:20250309T080000
END:DAYLIGHT
BEGIN:STANDARD
TZOFFSETFROM:-0500
TZOFFSETTO:-0600
TZNAME:CST
DTSTART:20251102T070000
END:STANDARD
END:VTIMEZONE
BEGIN:VEVENT
DTSTART;TZID=America/Chicago:20250221T160000
DTEND;TZID=America/Chicago:20250221T170000
DTSTAMP:20260419T092439
CREATED:20250108T203007Z
LAST-MODIFIED:20250108T203017Z
UID:10000697-1740153600-1740157200@visitoxfordms.com.cft1.a2hosted.com
SUMMARY:Ole Miss Baseball vs. Eastern Kentucky
DESCRIPTION:
URL:https://visitoxfordms.com.cft1.a2hosted.com/event/ole-miss-baseball-vs-eastern-kentucky/
LOCATION:Swayze Field\, University\, MS\, 38655\, United States
CATEGORIES:Family Friendly,Sports
GEO:34.3679733;-89.532696
END:VEVENT
END:VCALENDAR