BEGIN:VCALENDAR
VERSION:2.0
PRODID:-//Visit Oxford MS - ECPv6.7.0//NONSGML v1.0//EN
CALSCALE:GREGORIAN
METHOD:PUBLISH
X-ORIGINAL-URL:https://visitoxfordms.com.cft1.a2hosted.com
X-WR-CALDESC:Events for Visit Oxford MS
REFRESH-INTERVAL;VALUE=DURATION:PT1H
X-Robots-Tag:noindex
X-PUBLISHED-TTL:PT1H
BEGIN:VTIMEZONE
TZID:America/Chicago
BEGIN:DAYLIGHT
TZOFFSETFROM:-0600
TZOFFSETTO:-0500
TZNAME:CDT
DTSTART:20250309T080000
END:DAYLIGHT
BEGIN:STANDARD
TZOFFSETFROM:-0500
TZOFFSETTO:-0600
TZNAME:CST
DTSTART:20251102T070000
END:STANDARD
END:VTIMEZONE
BEGIN:VEVENT
DTSTART;VALUE=DATE:20250227
DTEND;VALUE=DATE:20250304
DTSTAMP:20260419T072408
CREATED:20230912T183634Z
LAST-MODIFIED:20250207T165519Z
UID:10000112-1740657600-1741003199@visitoxfordms.com.cft1.a2hosted.com
SUMMARY:Oxford Film Festival
DESCRIPTION:Thursday’s opening night highlights include screenings of “Chasing Rabbits” and “A House for My Mother\,” followed by Q&A sessions with the directors and producers. \n“A House for My Mother” is directed by Dr. Benjamin Nero\, who grew up in Greenwood\, Mississippi\, and Pilar Timpane\, a filmmaker and producer based in Durham\, North Carolina. Nero was the first Black graduate of the dentistry school at the University of Kentucky. He remains close with childhood friend and award-winning actor Morgan Freeman. \nNero and Timpane along with Producer Ana Hoppert Flores will participate in a panel discussion following the film’s screening. \n“Chasing Rabbits” – the directorial debut of novelist Michael Farris Smith – is the story of a truck stop waitress who finds her life changed after having her home vandalized in the middle of the night. Smith along with Producer Anthony Thaxton\, cast member McGhee Monteith\, and composer Cory Chisel will participate in a panel discussion following the film’s screening.  \nChisel was also the composer for films “House\,” “Desperation Road\,” and “I Saw the Light.” Born and raised in Mississippi\, Monteith appeared in the Oscar-winning film “Walk the Line” where she played Johnny Cash’s sister Reba Cash. Thaxton is the co-founder of the Institute for Southern Storytelling at Mississippi College.
URL:https://visitoxfordms.com.cft1.a2hosted.com/event/oxford-film-festival-6/
LOCATION:Various Venues
CATEGORIES:Family Friendly,Film
ATTACH;FMTTYPE=image/png:https://visit-oxford.s3.amazonaws.com/wp-content/uploads/2023/09/06092711/Screenshot-2024-11-06-at-9.26.55%E2%80%AFAM.png
END:VEVENT
BEGIN:VEVENT
DTSTART;VALUE=DATE:20250228
DTEND;VALUE=DATE:20250302
DTSTAMP:20260419T072408
CREATED:20250207T170336Z
LAST-MODIFIED:20250207T171418Z
UID:10000792-1740744000-1740830399@visitoxfordms.com.cft1.a2hosted.com
SUMMARY:Oxford Film Festival
DESCRIPTION:On Friday evening\, festival-goers  will have the opportunity to watch “Designed by Preeti” written and produced by Rashmi Rustagi. Inspired by true events\, this romantic drama follows an Indian woman’s journey from spouse abuse to personal and professional empowerment as she experiences real love for the first time with someone outside her rigid community and race.  \nRustagi\, who also stars in the film\, has been in “The Avengers” and TV shows like “Grey’s Anatomy\,” “Atypical\,” and “Never Have I Ever.” Rustagi and Director Gayatri Everitt Bajpai will be available after the film screening for a Q&A.  \nAlso\, attending the festival on Friday is David Fortune\, director of “Color Book.” Fortune is a writer/director based in Atlanta who was named Variety’s 2025 Directors to Watch and is a recipient of the AT&T Untold Stories Award\, which provided a $1 million grant to direct his feature film\, “Color Book.” Fortune also was nominated for the 2025 NAACP Image Awards for Outstanding Breakthrough Creative.  \n“Color Book” is the story of single father Lucky who\, after his wife’s passing\, finds himself navigating the challenges of raising his son Mason\, who has Down syndrome. Seeking solace\, Lucky and Mason embark on a journey across Metro Atlanta to attend their first baseball game together. \nPart of Friday’s lineup is “LARRY (they/them)\,” created by award-winning documentary filmmaker and editor Catherine Legault. Young non-binary trans photographer Laurence Philomène has emerged as one of the most original and inspiring voices of their generation and an LGBTQ+ community icon. “LARRY (they/them)” paints an engaging portrait of the complex\, often misunderstood multiplicity of trans and non-binary identities and experiences.
URL:https://visitoxfordms.com.cft1.a2hosted.com/event/oxford-film-festival/
LOCATION:Malco Oxford Commons\, 206 Commonwealth Blvd.\, Oxford\, MS\, 38655
CATEGORIES:Family Friendly,Film
ATTACH;FMTTYPE=image/png:https://visit-oxford.s3.amazonaws.com/wp-content/uploads/2023/09/06092711/Screenshot-2024-11-06-at-9.26.55%E2%80%AFAM.png
GEO:34.3732138;-89.4957299
X-APPLE-STRUCTURED-LOCATION;VALUE=URI;X-ADDRESS=Malco Oxford Commons 206 Commonwealth Blvd. Oxford MS 38655;X-APPLE-RADIUS=500;X-TITLE=206 Commonwealth Blvd.:geo:-89.4957299,34.3732138
END:VEVENT
BEGIN:VEVENT
DTSTART;TZID=America/Chicago:20250228T153000
DTEND;TZID=America/Chicago:20250228T170000
DTSTAMP:20260419T072408
CREATED:20250109T183010Z
LAST-MODIFIED:20250109T183010Z
UID:10000744-1740756600-1740762000@visitoxfordms.com.cft1.a2hosted.com
SUMMARY:Ole Miss Softball vs. Nicholls
DESCRIPTION:
URL:https://visitoxfordms.com.cft1.a2hosted.com/event/ole-miss-softball-vs-nicholls/
LOCATION:Ole Miss Softball Complex\, University\, MS\, 38677\, United States
CATEGORIES:Family Friendly,Sports
ATTACH;FMTTYPE=image/jpeg:https://visit-oxford.s3.amazonaws.com/wp-content/uploads/2025/01/09122514/73B816CB-D30E-42B5-A5AF-9916B66A3D6E.jpeg
GEO:33.4555279;-88.7903868
END:VEVENT
BEGIN:VEVENT
DTSTART;TZID=America/Chicago:20250228T160000
DTEND;TZID=America/Chicago:20250228T170000
DTSTAMP:20260419T072408
CREATED:20250108T204532Z
LAST-MODIFIED:20250224T183736Z
UID:10000704-1740758400-1740762000@visitoxfordms.com.cft1.a2hosted.com
SUMMARY:Ole Miss Baseball vs. Wright State Series
DESCRIPTION:
URL:https://visitoxfordms.com.cft1.a2hosted.com/event/ole-miss-baseball-vs-wright-state/2025-02-28/
LOCATION:Swayze Field\, University\, MS\, 38655\, United States
CATEGORIES:Family Friendly,Outdoor,Sports
ATTACH;FMTTYPE=image/webp:https://visit-oxford.s3.amazonaws.com/wp-content/uploads/2025/01/08161723/fieild-1-1.webp
GEO:34.3679733;-89.532696
END:VEVENT
BEGIN:VEVENT
DTSTART;TZID=America/Chicago:20250228T180000
DTEND;TZID=America/Chicago:20250228T180000
DTSTAMP:20260419T072408
CREATED:20250109T183203Z
LAST-MODIFIED:20250109T183211Z
UID:10000745-1740765600-1740765600@visitoxfordms.com.cft1.a2hosted.com
SUMMARY:Ole Miss Softball vs. South Alabama
DESCRIPTION:
URL:https://visitoxfordms.com.cft1.a2hosted.com/event/ole-miss-softball-vs-south-alabama/
LOCATION:Ole Miss Softball Complex\, University\, MS\, 38677\, United States
CATEGORIES:Family Friendly,Sports
ATTACH;FMTTYPE=image/jpeg:https://visit-oxford.s3.amazonaws.com/wp-content/uploads/2025/01/09122519/3BF8950F-2663-4234-9E18-80C205822D0C.jpeg
GEO:33.4555279;-88.7903868
END:VEVENT
BEGIN:VEVENT
DTSTART;TZID=America/Chicago:20250301T080000
DTEND;TZID=America/Chicago:20250301T170000
DTSTAMP:20260419T072408
CREATED:20250108T204532Z
LAST-MODIFIED:20250224T183736Z
UID:10000813-1740816000-1740848400@visitoxfordms.com.cft1.a2hosted.com
SUMMARY:Ole Miss Baseball vs. Wright State Series
DESCRIPTION:
URL:https://visitoxfordms.com.cft1.a2hosted.com/event/ole-miss-baseball-vs-wright-state/2025-03-01/
LOCATION:Swayze Field\, University\, MS\, 38655\, United States
CATEGORIES:Family Friendly,Outdoor,Sports
ATTACH;FMTTYPE=image/webp:https://visit-oxford.s3.amazonaws.com/wp-content/uploads/2025/01/08161723/fieild-1-1.webp
GEO:34.3679733;-89.532696
END:VEVENT
BEGIN:VEVENT
DTSTART;TZID=America/Chicago:20250301T080000
DTEND;TZID=America/Chicago:20250301T190000
DTSTAMP:20260419T072408
CREATED:20250204T214413Z
LAST-MODIFIED:20250204T214628Z
UID:10000786-1740816000-1740855600@visitoxfordms.com.cft1.a2hosted.com
SUMMARY:Oxford Weecycle Spring Sale
DESCRIPTION:
URL:https://visitoxfordms.com.cft1.a2hosted.com/event/oxford-weecycle-spring-sale/
LOCATION:Oxford Activity Center\, 400 Price Street\, Oxford\, MS\, 38655
CATEGORIES:Family Friendly,Shopping
ATTACH;FMTTYPE=image/png:https://visit-oxford.s3.amazonaws.com/wp-content/uploads/2025/02/04154552/Spring-Sale.png
GEO:34.3749628;-89.5263919
X-APPLE-STRUCTURED-LOCATION;VALUE=URI;X-ADDRESS=Oxford Activity Center 400 Price Street Oxford MS 38655;X-APPLE-RADIUS=500;X-TITLE=400 Price Street:geo:-89.5263919,34.3749628
END:VEVENT
END:VCALENDAR