BEGIN:VCALENDAR
VERSION:2.0
PRODID:-//Visit Oxford MS - ECPv6.7.0//NONSGML v1.0//EN
CALSCALE:GREGORIAN
METHOD:PUBLISH
X-ORIGINAL-URL:https://visitoxfordms.com.cft1.a2hosted.com
X-WR-CALDESC:Events for Visit Oxford MS
REFRESH-INTERVAL;VALUE=DURATION:PT1H
X-Robots-Tag:noindex
X-PUBLISHED-TTL:PT1H
BEGIN:VTIMEZONE
TZID:America/Chicago
BEGIN:DAYLIGHT
TZOFFSETFROM:-0600
TZOFFSETTO:-0500
TZNAME:CDT
DTSTART:20250309T080000
END:DAYLIGHT
BEGIN:STANDARD
TZOFFSETFROM:-0500
TZOFFSETTO:-0600
TZNAME:CST
DTSTART:20251102T070000
END:STANDARD
END:VTIMEZONE
BEGIN:VEVENT
DTSTART;TZID=America/Chicago:20250327T163000
DTEND;TZID=America/Chicago:20250329T170000
DTSTAMP:20260419T072408
CREATED:20250108T214632Z
LAST-MODIFIED:20250108T215133Z
UID:10000715-1743093000-1743267600@visitoxfordms.com.cft1.a2hosted.com
SUMMARY:Ole Miss Baseball vs. Florida
DESCRIPTION:
URL:https://visitoxfordms.com.cft1.a2hosted.com/event/ole-miss-baseball-vs-florida/
LOCATION:Swayze Field\, University\, MS\, 38655\, United States
CATEGORIES:Family Friendly,Sports
ATTACH;FMTTYPE=image/webp:https://visit-oxford.s3.amazonaws.com/wp-content/uploads/2025/01/08144405/fieild-.webp
GEO:34.3679733;-89.532696
END:VEVENT
BEGIN:VEVENT
DTSTART;TZID=America/Chicago:20250329T100000
DTEND;TZID=America/Chicago:20250329T140000
DTSTAMP:20260419T072408
CREATED:20250225T185720Z
LAST-MODIFIED:20250303T203112Z
UID:10000820-1743242400-1743256800@visitoxfordms.com.cft1.a2hosted.com
SUMMARY:Mid-Town Spring Fest
DESCRIPTION:Join us in Mid-Town for a celebration of spring from 10:00-2:00 on Saturday\, March 29th in the Mid-Town Shopping Center parking lot. Participating businesses will host: \n\n\nChicory Market : Artist market\, live music by the OSD Orchestra and Horace Willis\, crawfish boil\, vendors & samples \n\n\nVine Bottleshop: Discounts and giveaways \n\n\nYMCA: Free outdoor fitness classes (10:00 Zumba and 12:00 Spin) \n\n\nJinsei: Open with a limited menu from 11-2 with live music \n\n\nOxford RX: Activities and art for kids \n\n\nGood Day Cafe: Live Music \n\n\nThe Depot: Discounts in-store \n\n\nHeartbreak Coffee: Drink and baked good special \n\n\nJohnston Hill Creamery: Free samples \n\n\nSouthern Star: Free 11:00am heated vinyasa yoga \n\n\nThe Oil Shed: Porch Pot demonstration \n\n\nBig Bad Breakfast: Lemonade Stand outside\, Activities for kids in a roped off area in the parking (outside)\, ‘Midtown’ cocktail special
URL:https://visitoxfordms.com.cft1.a2hosted.com/event/mid-town-spring-fest/
LOCATION:Mid-Town Oxford\, Oxford\, MS\, 38655\, United States
CATEGORIES:Family Friendly,Outdoor,Shopping
ATTACH;FMTTYPE=image/png:https://visit-oxford.s3.amazonaws.com/wp-content/uploads/2025/02/28111134/Spring-Fest-Banner1.png
GEO:51.7520209;-1.2577263
END:VEVENT
BEGIN:VEVENT
DTSTART;TZID=America/Chicago:20250329T160000
DTEND;TZID=America/Chicago:20250331T170000
DTSTAMP:20260419T072408
CREATED:20250109T185733Z
LAST-MODIFIED:20250114T222842Z
UID:10000757-1743264000-1743440400@visitoxfordms.com.cft1.a2hosted.com
SUMMARY:Ole Miss Softball vs. Missouri
DESCRIPTION:
URL:https://visitoxfordms.com.cft1.a2hosted.com/event/ole-miss-softball-vs-missouri-2/
LOCATION:Ole Miss Softball Complex\, University\, MS\, 38677\, United States
CATEGORIES:Family Friendly,Sports
ATTACH;FMTTYPE=image/jpeg:https://visit-oxford.s3.amazonaws.com/wp-content/uploads/2025/01/09124729/IMG_5729.jpg
GEO:33.4555279;-88.7903868
END:VEVENT
END:VCALENDAR