BEGIN:VCALENDAR
VERSION:2.0
PRODID:-//Visit Oxford MS - ECPv6.7.0//NONSGML v1.0//EN
CALSCALE:GREGORIAN
METHOD:PUBLISH
X-ORIGINAL-URL:https://visitoxfordms.com.cft1.a2hosted.com
X-WR-CALDESC:Events for Visit Oxford MS
REFRESH-INTERVAL;VALUE=DURATION:PT1H
X-Robots-Tag:noindex
X-PUBLISHED-TTL:PT1H
BEGIN:VTIMEZONE
TZID:America/Chicago
BEGIN:DAYLIGHT
TZOFFSETFROM:-0600
TZOFFSETTO:-0500
TZNAME:CDT
DTSTART:20230312T080000
END:DAYLIGHT
BEGIN:STANDARD
TZOFFSETFROM:-0500
TZOFFSETTO:-0600
TZNAME:CST
DTSTART:20231105T070000
END:STANDARD
BEGIN:DAYLIGHT
TZOFFSETFROM:-0600
TZOFFSETTO:-0500
TZNAME:CDT
DTSTART:20240310T080000
END:DAYLIGHT
BEGIN:STANDARD
TZOFFSETFROM:-0500
TZOFFSETTO:-0600
TZNAME:CST
DTSTART:20241103T070000
END:STANDARD
BEGIN:DAYLIGHT
TZOFFSETFROM:-0600
TZOFFSETTO:-0500
TZNAME:CDT
DTSTART:20250309T080000
END:DAYLIGHT
BEGIN:STANDARD
TZOFFSETFROM:-0500
TZOFFSETTO:-0600
TZNAME:CST
DTSTART:20251102T070000
END:STANDARD
END:VTIMEZONE
BEGIN:VEVENT
DTSTART;VALUE=DATE:20250815
DTEND;VALUE=DATE:20250818
DTSTAMP:20260419T104018
CREATED:20240118T184654Z
LAST-MODIFIED:20250702T191747Z
UID:10000318-1755259200-1755431999@visitoxfordms.com.cft1.a2hosted.com
SUMMARY:Oxford WeeCycle
DESCRIPTION:Kids Consignment Sale
URL:https://visitoxfordms.com.cft1.a2hosted.com/event/weecycle-kids-consignment-sale/
LOCATION:Oxford Activity Center\, 400 Price Street\, Oxford\, MS\, 38655
CATEGORIES:Family Friendly,Shopping
ATTACH;FMTTYPE=image/png:https://visit-oxford.s3.amazonaws.com/wp-content/uploads/2024/01/02141716/Screenshot-2025-07-01-at-4.21.07%E2%80%AFPM.png
GEO:34.3749628;-89.5263919
X-APPLE-STRUCTURED-LOCATION;VALUE=URI;X-ADDRESS=Oxford Activity Center 400 Price Street Oxford MS 38655;X-APPLE-RADIUS=500;X-TITLE=400 Price Street:geo:-89.5263919,34.3749628
END:VEVENT
BEGIN:VEVENT
DTSTART;TZID=America/Chicago:20250626T090000
DTEND;TZID=America/Chicago:20250627T160000
DTSTAMP:20260419T104018
CREATED:20250505T212825Z
LAST-MODIFIED:20250505T212825Z
UID:10000924-1750928400-1751040000@visitoxfordms.com.cft1.a2hosted.com
SUMMARY:T25 Basketball Camp
DESCRIPTION:
URL:https://visitoxfordms.com.cft1.a2hosted.com/event/t25-basketball-camp/
LOCATION:Oxford Activity Center\, 400 Price Street\, Oxford\, MS\, 38655
CATEGORIES:Recreation,Sports
ATTACH;FMTTYPE=image/png:https://visit-oxford.s3.amazonaws.com/wp-content/uploads/2025/05/05162715/Screenshot-2025-05-05-at-4.26.42%E2%80%AFPM.png
GEO:34.3749628;-89.5263919
X-APPLE-STRUCTURED-LOCATION;VALUE=URI;X-ADDRESS=Oxford Activity Center 400 Price Street Oxford MS 38655;X-APPLE-RADIUS=500;X-TITLE=400 Price Street:geo:-89.5263919,34.3749628
END:VEVENT
BEGIN:VEVENT
DTSTART;TZID=America/Chicago:20250428T170000
DTEND;TZID=America/Chicago:20250428T190000
DTSTAMP:20260419T104018
CREATED:20250225T153358Z
LAST-MODIFIED:20250225T153406Z
UID:10000816-1745859600-1745866800@visitoxfordms.com.cft1.a2hosted.com
SUMMARY:Super Hero Training Day
DESCRIPTION:
URL:https://visitoxfordms.com.cft1.a2hosted.com/event/super-hero-training-day/
LOCATION:Oxford Activity Center\, 400 Price Street\, Oxford\, MS\, 38655
CATEGORIES:Family Friendly,Recreation
ATTACH;FMTTYPE=image/png:https://visit-oxford.s3.amazonaws.com/wp-content/uploads/2025/02/25093239/IMG_5995.JPG.png
GEO:34.3749628;-89.5263919
X-APPLE-STRUCTURED-LOCATION;VALUE=URI;X-ADDRESS=Oxford Activity Center 400 Price Street Oxford MS 38655;X-APPLE-RADIUS=500;X-TITLE=400 Price Street:geo:-89.5263919,34.3749628
END:VEVENT
BEGIN:VEVENT
DTSTART;TZID=America/Chicago:20250411T090000
DTEND;TZID=America/Chicago:20250411T140000
DTSTAMP:20260419T104018
CREATED:20250204T220928Z
LAST-MODIFIED:20250204T220928Z
UID:10000789-1744362000-1744380000@visitoxfordms.com.cft1.a2hosted.com
SUMMARY:Smash Cancer Pickleball Tournament
DESCRIPTION:
URL:https://visitoxfordms.com.cft1.a2hosted.com/event/smash-cancer-pickleball-tournament-2/
LOCATION:Oxford Activity Center\, 400 Price Street\, Oxford\, MS\, 38655
CATEGORIES:Fundraiser,Sports
ATTACH;FMTTYPE=image/png:https://visit-oxford.s3.amazonaws.com/wp-content/uploads/2025/02/04160756/Screenshot-2025-02-04-at-4.02.13%E2%80%AFPM.png
GEO:34.3749628;-89.5263919
X-APPLE-STRUCTURED-LOCATION;VALUE=URI;X-ADDRESS=Oxford Activity Center 400 Price Street Oxford MS 38655;X-APPLE-RADIUS=500;X-TITLE=400 Price Street:geo:-89.5263919,34.3749628
END:VEVENT
BEGIN:VEVENT
DTSTART;VALUE=DATE:20250307
DTEND;VALUE=DATE:20250311
DTSTAMP:20260419T104018
CREATED:20250204T215905Z
LAST-MODIFIED:20250204T215915Z
UID:10000787-1741348800-1741607999@visitoxfordms.com.cft1.a2hosted.com
SUMMARY:2025 Warming Up Pickleball Tournament
DESCRIPTION:
URL:https://visitoxfordms.com.cft1.a2hosted.com/event/2025-warming-up-pickleball-tournament/
LOCATION:Oxford Activity Center\, 400 Price Street\, Oxford\, MS\, 38655
CATEGORIES:Recreation,Sports
ATTACH;FMTTYPE=image/png:https://visit-oxford.s3.amazonaws.com/wp-content/uploads/2025/02/04155711/Screenshot-2025-02-04-at-3.56.27%E2%80%AFPM.png
GEO:34.3749628;-89.5263919
X-APPLE-STRUCTURED-LOCATION;VALUE=URI;X-ADDRESS=Oxford Activity Center 400 Price Street Oxford MS 38655;X-APPLE-RADIUS=500;X-TITLE=400 Price Street:geo:-89.5263919,34.3749628
END:VEVENT
BEGIN:VEVENT
DTSTART;TZID=America/Chicago:20250301T080000
DTEND;TZID=America/Chicago:20250301T190000
DTSTAMP:20260419T104018
CREATED:20250204T214413Z
LAST-MODIFIED:20250204T214628Z
UID:10000786-1740816000-1740855600@visitoxfordms.com.cft1.a2hosted.com
SUMMARY:Oxford Weecycle Spring Sale
DESCRIPTION:
URL:https://visitoxfordms.com.cft1.a2hosted.com/event/oxford-weecycle-spring-sale/
LOCATION:Oxford Activity Center\, 400 Price Street\, Oxford\, MS\, 38655
CATEGORIES:Family Friendly,Shopping
ATTACH;FMTTYPE=image/png:https://visit-oxford.s3.amazonaws.com/wp-content/uploads/2025/02/04154552/Spring-Sale.png
GEO:34.3749628;-89.5263919
X-APPLE-STRUCTURED-LOCATION;VALUE=URI;X-ADDRESS=Oxford Activity Center 400 Price Street Oxford MS 38655;X-APPLE-RADIUS=500;X-TITLE=400 Price Street:geo:-89.5263919,34.3749628
END:VEVENT
BEGIN:VEVENT
DTSTART;TZID=America/Chicago:20241210T170000
DTEND;TZID=America/Chicago:20241210T190000
DTSTAMP:20260419T104018
CREATED:20241115T145700Z
LAST-MODIFIED:20241115T145700Z
UID:10000603-1733850000-1733857200@visitoxfordms.com.cft1.a2hosted.com
SUMMARY:Night at the North Pole
DESCRIPTION:
URL:https://visitoxfordms.com.cft1.a2hosted.com/event/night-at-the-north-pole/
LOCATION:Oxford Activity Center\, 400 Price Street\, Oxford\, MS\, 38655
CATEGORIES:Family Friendly,Free,Holiday
ATTACH;FMTTYPE=image/png:https://visit-oxford.s3.amazonaws.com/wp-content/uploads/2024/11/15085551/unnamed-3.png
GEO:34.3749628;-89.5263919
X-APPLE-STRUCTURED-LOCATION;VALUE=URI;X-ADDRESS=Oxford Activity Center 400 Price Street Oxford MS 38655;X-APPLE-RADIUS=500;X-TITLE=400 Price Street:geo:-89.5263919,34.3749628
END:VEVENT
BEGIN:VEVENT
DTSTART;TZID=America/Chicago:20241022T173000
DTEND;TZID=America/Chicago:20241022T193000
DTSTAMP:20260419T104018
CREATED:20241001T203757Z
LAST-MODIFIED:20241001T203757Z
UID:10000540-1729618200-1729625400@visitoxfordms.com.cft1.a2hosted.com
SUMMARY:Fall Festival 2024
DESCRIPTION:
URL:https://visitoxfordms.com.cft1.a2hosted.com/event/fall-festival-2024/
LOCATION:Oxford Activity Center\, 400 Price Street\, Oxford\, MS\, 38655
CATEGORIES:Family Friendly,Free,Holiday
ATTACH;FMTTYPE=image/png:https://visit-oxford.s3.amazonaws.com/wp-content/uploads/2024/10/01153446/unnamed-2.png
GEO:34.3749628;-89.5263919
X-APPLE-STRUCTURED-LOCATION;VALUE=URI;X-ADDRESS=Oxford Activity Center 400 Price Street Oxford MS 38655;X-APPLE-RADIUS=500;X-TITLE=400 Price Street:geo:-89.5263919,34.3749628
END:VEVENT
BEGIN:VEVENT
DTSTART;TZID=America/Chicago:20240817T080000
DTEND;TZID=America/Chicago:20240817T190000
DTSTAMP:20260419T104018
CREATED:20240701T194436Z
LAST-MODIFIED:20240701T194458Z
UID:10000228-1723881600-1723921200@visitoxfordms.com.cft1.a2hosted.com
SUMMARY:Oxford Wee Cycle Sale
DESCRIPTION:
URL:https://visitoxfordms.com.cft1.a2hosted.com/event/oxford-wee-cycle-sale/
LOCATION:Oxford Activity Center\, 400 Price Street\, Oxford\, MS\, 38655
CATEGORIES:Family Friendly,Shopping
ATTACH;FMTTYPE=image/png:https://visit-oxford.s3.amazonaws.com/wp-content/uploads/2024/07/01144410/Screenshot-2024-07-01-at-2.44.03%E2%80%AFPM.png
GEO:34.3749628;-89.5263919
X-APPLE-STRUCTURED-LOCATION;VALUE=URI;X-ADDRESS=Oxford Activity Center 400 Price Street Oxford MS 38655;X-APPLE-RADIUS=500;X-TITLE=400 Price Street:geo:-89.5263919,34.3749628
END:VEVENT
BEGIN:VEVENT
DTSTART;TZID=America/Chicago:20240727T190000
DTEND;TZID=America/Chicago:20240727T210000
DTSTAMP:20260419T104018
CREATED:20240719T213133Z
LAST-MODIFIED:20240719T213133Z
UID:10000420-1722106800-1722114000@visitoxfordms.com.cft1.a2hosted.com
SUMMARY:Crossroads Wrestling
DESCRIPTION:
URL:https://visitoxfordms.com.cft1.a2hosted.com/event/crossroads-wrestling/
LOCATION:Oxford Activity Center\, 400 Price Street\, Oxford\, MS\, 38655
CATEGORIES:Family Friendly,Sports
ATTACH;FMTTYPE=image/png:https://visit-oxford.s3.amazonaws.com/wp-content/uploads/2024/07/19163026/668d708acc511c47f4d9928a.png
GEO:34.3749628;-89.5263919
X-APPLE-STRUCTURED-LOCATION;VALUE=URI;X-ADDRESS=Oxford Activity Center 400 Price Street Oxford MS 38655;X-APPLE-RADIUS=500;X-TITLE=400 Price Street:geo:-89.5263919,34.3749628
END:VEVENT
BEGIN:VEVENT
DTSTART;TZID=America/Chicago:20240415T180000
DTEND;TZID=America/Chicago:20240415T190000
DTSTAMP:20260419T104018
CREATED:20240411T171742Z
LAST-MODIFIED:20240411T171742Z
UID:10000171-1713204000-1713207600@visitoxfordms.com.cft1.a2hosted.com
SUMMARY:2024 YAC Student Art Show Reception
DESCRIPTION:
URL:https://visitoxfordms.com.cft1.a2hosted.com/event/2024-yac-student-art-show-reception/
LOCATION:Oxford Activity Center\, 400 Price Street\, Oxford\, MS\, 38655
CATEGORIES:Art,Family Friendly,Free
GEO:34.3749628;-89.5263919
X-APPLE-STRUCTURED-LOCATION;VALUE=URI;X-ADDRESS=Oxford Activity Center 400 Price Street Oxford MS 38655;X-APPLE-RADIUS=500;X-TITLE=400 Price Street:geo:-89.5263919,34.3749628
END:VEVENT
BEGIN:VEVENT
DTSTART;TZID=America/Chicago:20240412T100000
DTEND;TZID=America/Chicago:20240412T140000
DTSTAMP:20260419T104018
CREATED:20240403T145901Z
LAST-MODIFIED:20240403T145901Z
UID:10000170-1712916000-1712930400@visitoxfordms.com.cft1.a2hosted.com
SUMMARY:Smash Cancer Pickleball Tournament
DESCRIPTION:
URL:https://visitoxfordms.com.cft1.a2hosted.com/event/smash-cancer-pickleball-tournament/
LOCATION:Oxford Activity Center\, 400 Price Street\, Oxford\, MS\, 38655
CATEGORIES:Fundraiser,Sports
GEO:34.3749628;-89.5263919
X-APPLE-STRUCTURED-LOCATION;VALUE=URI;X-ADDRESS=Oxford Activity Center 400 Price Street Oxford MS 38655;X-APPLE-RADIUS=500;X-TITLE=400 Price Street:geo:-89.5263919,34.3749628
END:VEVENT
BEGIN:VEVENT
DTSTART;TZID=America/Chicago:20231025T160000
DTEND;TZID=America/Chicago:20231025T193000
DTSTAMP:20260419T104018
CREATED:20231020T160034Z
LAST-MODIFIED:20231020T160034Z
UID:10000301-1698249600-1698262200@visitoxfordms.com.cft1.a2hosted.com
SUMMARY:Fall Youth Carnival
DESCRIPTION:We will be hosting a FREE fall youth carnival at the Oxford Activity Center from 4 to 7:30 p.m. on Wednesday\, October 25. \nWe will have a number of activities for children to take part in. This is open to all ages and members of the community to take part in.
URL:https://visitoxfordms.com.cft1.a2hosted.com/event/fall-youth-carnival/
LOCATION:Oxford Activity Center\, 400 Price Street\, Oxford\, MS\, 38655
CATEGORIES:Family Friendly,Free
GEO:34.3749628;-89.5263919
X-APPLE-STRUCTURED-LOCATION;VALUE=URI;X-ADDRESS=Oxford Activity Center 400 Price Street Oxford MS 38655;X-APPLE-RADIUS=500;X-TITLE=400 Price Street:geo:-89.5263919,34.3749628
END:VEVENT
BEGIN:VEVENT
DTSTART;VALUE=DATE:20230922
DTEND;VALUE=DATE:20230925
DTSTAMP:20260419T104018
CREATED:20230816T195318Z
LAST-MODIFIED:20230816T195318Z
UID:10000064-1695384000-1695556799@visitoxfordms.com.cft1.a2hosted.com
SUMMARY:Fall WeeCycle Sale
DESCRIPTION:
URL:https://visitoxfordms.com.cft1.a2hosted.com/event/fall-weecycle-sale/
LOCATION:Oxford Activity Center\, 400 Price Street\, Oxford\, MS\, 38655
CATEGORIES:Family Friendly,Shopping
GEO:34.3749628;-89.5263919
X-APPLE-STRUCTURED-LOCATION;VALUE=URI;X-ADDRESS=Oxford Activity Center 400 Price Street Oxford MS 38655;X-APPLE-RADIUS=500;X-TITLE=400 Price Street:geo:-89.5263919,34.3749628
END:VEVENT
END:VCALENDAR